BEGIN:VCALENDAR
VERSION:2.0
PRODID:-//Bikram Yoga El Paseo - ECPv6.15.13//NONSGML v1.0//EN
CALSCALE:GREGORIAN
METHOD:PUBLISH
X-ORIGINAL-URL:https://bikramyogapalmdesert.com
X-WR-CALDESC:Events for Bikram Yoga El Paseo
REFRESH-INTERVAL;VALUE=DURATION:PT1H
X-Robots-Tag:noindex
X-PUBLISHED-TTL:PT1H
BEGIN:VTIMEZONE
TZID:America/Los_Angeles
BEGIN:DAYLIGHT
TZOFFSETFROM:-0800
TZOFFSETTO:-0700
TZNAME:PDT
DTSTART:20240310T100000
END:DAYLIGHT
BEGIN:STANDARD
TZOFFSETFROM:-0700
TZOFFSETTO:-0800
TZNAME:PST
DTSTART:20241103T090000
END:STANDARD
BEGIN:DAYLIGHT
TZOFFSETFROM:-0800
TZOFFSETTO:-0700
TZNAME:PDT
DTSTART:20250309T100000
END:DAYLIGHT
BEGIN:STANDARD
TZOFFSETFROM:-0700
TZOFFSETTO:-0800
TZNAME:PST
DTSTART:20251102T090000
END:STANDARD
BEGIN:DAYLIGHT
TZOFFSETFROM:-0800
TZOFFSETTO:-0700
TZNAME:PDT
DTSTART:20260308T100000
END:DAYLIGHT
BEGIN:STANDARD
TZOFFSETFROM:-0700
TZOFFSETTO:-0800
TZNAME:PST
DTSTART:20261101T090000
END:STANDARD
END:VTIMEZONE
BEGIN:VEVENT
DTSTART;TZID=America/Los_Angeles:20250901T063000
DTEND;TZID=America/Los_Angeles:20250901T080000
DTSTAMP:20260423T202935
CREATED:20250610T001740Z
LAST-MODIFIED:20250930T205155Z
UID:53781-1756708200-1756713600@bikramyogapalmdesert.com
SUMMARY:6:30am LEESANN
DESCRIPTION:
URL:https://bikramyogapalmdesert.com/class-schedule/630am-jayson-12/
CATEGORIES:Leesann
END:VEVENT
BEGIN:VEVENT
DTSTART;TZID=America/Los_Angeles:20250901T090000
DTEND;TZID=America/Los_Angeles:20250901T103000
DTSTAMP:20260423T202935
CREATED:20250610T001956Z
LAST-MODIFIED:20250924T224122Z
UID:53787-1756717200-1756722600@bikramyogapalmdesert.com
SUMMARY:9am LINA
DESCRIPTION:
URL:https://bikramyogapalmdesert.com/class-schedule/9am-jayson-54/
END:VEVENT
BEGIN:VEVENT
DTSTART;TZID=America/Los_Angeles:20250901T110000
DTEND;TZID=America/Los_Angeles:20250901T123000
DTSTAMP:20260423T202935
CREATED:20250610T002440Z
LAST-MODIFIED:20250610T002440Z
UID:53799-1756724400-1756729800@bikramyogapalmdesert.com
SUMMARY:6pm LINA $18/60min
DESCRIPTION:
URL:https://bikramyogapalmdesert.com/class-schedule/6pm-lina-32/
END:VEVENT
END:VCALENDAR