BEGIN:VCALENDAR
VERSION:2.0
PRODID:-//Bikram Yoga El Paseo - ECPv6.15.13//NONSGML v1.0//EN
CALSCALE:GREGORIAN
METHOD:PUBLISH
X-ORIGINAL-URL:https://bikramyogapalmdesert.com
X-WR-CALDESC:Events for Bikram Yoga El Paseo
REFRESH-INTERVAL;VALUE=DURATION:PT1H
X-Robots-Tag:noindex
X-PUBLISHED-TTL:PT1H
BEGIN:VTIMEZONE
TZID:America/Los_Angeles
BEGIN:DAYLIGHT
TZOFFSETFROM:-0800
TZOFFSETTO:-0700
TZNAME:PDT
DTSTART:20240310T100000
END:DAYLIGHT
BEGIN:STANDARD
TZOFFSETFROM:-0700
TZOFFSETTO:-0800
TZNAME:PST
DTSTART:20241103T090000
END:STANDARD
BEGIN:DAYLIGHT
TZOFFSETFROM:-0800
TZOFFSETTO:-0700
TZNAME:PDT
DTSTART:20250309T100000
END:DAYLIGHT
BEGIN:STANDARD
TZOFFSETFROM:-0700
TZOFFSETTO:-0800
TZNAME:PST
DTSTART:20251102T090000
END:STANDARD
BEGIN:DAYLIGHT
TZOFFSETFROM:-0800
TZOFFSETTO:-0700
TZNAME:PDT
DTSTART:20260308T100000
END:DAYLIGHT
BEGIN:STANDARD
TZOFFSETFROM:-0700
TZOFFSETTO:-0800
TZNAME:PST
DTSTART:20261101T090000
END:STANDARD
END:VTIMEZONE
BEGIN:VEVENT
DTSTART;TZID=America/Los_Angeles:20250908T063000
DTEND;TZID=America/Los_Angeles:20250908T080000
DTSTAMP:20260423T202923
CREATED:20250611T015931Z
LAST-MODIFIED:20250611T015931Z
UID:54360-1757313000-1757318400@bikramyogapalmdesert.com
SUMMARY:6:30am JAYSON
DESCRIPTION:
URL:https://bikramyogapalmdesert.com/class-schedule/630am-jayson-22/
END:VEVENT
BEGIN:VEVENT
DTSTART;TZID=America/Los_Angeles:20250908T090000
DTEND;TZID=America/Los_Angeles:20250908T103000
DTSTAMP:20260423T202923
CREATED:20250611T020606Z
LAST-MODIFIED:20250924T223933Z
UID:54376-1757322000-1757327400@bikramyogapalmdesert.com
SUMMARY:9am 90 min
DESCRIPTION:
URL:https://bikramyogapalmdesert.com/class-schedule/9am-jayson-87/
END:VEVENT
BEGIN:VEVENT
DTSTART;TZID=America/Los_Angeles:20250908T103000
DTEND;TZID=America/Los_Angeles:20250908T120000
DTSTAMP:20260423T202923
CREATED:20250611T024240Z
LAST-MODIFIED:20250930T205756Z
UID:54504-1757327400-1757332800@bikramyogapalmdesert.com
SUMMARY:6pm LINA $18/60min
DESCRIPTION:
URL:https://bikramyogapalmdesert.com/class-schedule/6pm-lina-18-60min-29/
CATEGORIES:Lina
END:VEVENT
END:VCALENDAR