BEGIN:VCALENDAR
VERSION:2.0
PRODID:-//Bikram Yoga El Paseo - ECPv6.15.13//NONSGML v1.0//EN
CALSCALE:GREGORIAN
METHOD:PUBLISH
X-WR-CALNAME:Bikram Yoga El Paseo
X-ORIGINAL-URL:https://bikramyogapalmdesert.com
X-WR-CALDESC:Events for Bikram Yoga El Paseo
REFRESH-INTERVAL;VALUE=DURATION:PT1H
X-Robots-Tag:noindex
X-PUBLISHED-TTL:PT1H
BEGIN:VTIMEZONE
TZID:America/Los_Angeles
BEGIN:DAYLIGHT
TZOFFSETFROM:-0800
TZOFFSETTO:-0700
TZNAME:PDT
DTSTART:20240310T100000
END:DAYLIGHT
BEGIN:STANDARD
TZOFFSETFROM:-0700
TZOFFSETTO:-0800
TZNAME:PST
DTSTART:20241103T090000
END:STANDARD
BEGIN:DAYLIGHT
TZOFFSETFROM:-0800
TZOFFSETTO:-0700
TZNAME:PDT
DTSTART:20250309T100000
END:DAYLIGHT
BEGIN:STANDARD
TZOFFSETFROM:-0700
TZOFFSETTO:-0800
TZNAME:PST
DTSTART:20251102T090000
END:STANDARD
BEGIN:DAYLIGHT
TZOFFSETFROM:-0800
TZOFFSETTO:-0700
TZNAME:PDT
DTSTART:20260308T100000
END:DAYLIGHT
BEGIN:STANDARD
TZOFFSETFROM:-0700
TZOFFSETTO:-0800
TZNAME:PST
DTSTART:20261101T090000
END:STANDARD
END:VTIMEZONE
BEGIN:VEVENT
DTSTART;TZID=America/Los_Angeles:20250921T100000
DTEND;TZID=America/Los_Angeles:20250921T113000
DTSTAMP:20260423T202003
CREATED:20250610T003128Z
LAST-MODIFIED:20250924T223704Z
UID:53809-1758448800-1758454200@bikramyogapalmdesert.com
SUMMARY:10am ALIX
DESCRIPTION:
URL:https://bikramyogapalmdesert.com/class-schedule/10am-jayson-47/
END:VEVENT
BEGIN:VEVENT
DTSTART;TZID=America/Los_Angeles:20250921T120000
DTEND;TZID=America/Los_Angeles:20250921T130000
DTSTAMP:20260423T202003
CREATED:20250610T003400Z
LAST-MODIFIED:20250610T003400Z
UID:53817-1758456000-1758459600@bikramyogapalmdesert.com
SUMMARY:3pm ALIX
DESCRIPTION:
URL:https://bikramyogapalmdesert.com/class-schedule/3pm-alix-45/
END:VEVENT
END:VCALENDAR