BEGIN:VCALENDAR
VERSION:2.0
PRODID:-//Bikram Yoga El Paseo - ECPv6.15.13//NONSGML v1.0//EN
CALSCALE:GREGORIAN
METHOD:PUBLISH
X-WR-CALNAME:Bikram Yoga El Paseo
X-ORIGINAL-URL:https://bikramyogapalmdesert.com
X-WR-CALDESC:Events for Bikram Yoga El Paseo
REFRESH-INTERVAL;VALUE=DURATION:PT1H
X-Robots-Tag:noindex
X-PUBLISHED-TTL:PT1H
BEGIN:VTIMEZONE
TZID:America/Los_Angeles
BEGIN:DAYLIGHT
TZOFFSETFROM:-0800
TZOFFSETTO:-0700
TZNAME:PDT
DTSTART:20240310T100000
END:DAYLIGHT
BEGIN:STANDARD
TZOFFSETFROM:-0700
TZOFFSETTO:-0800
TZNAME:PST
DTSTART:20241103T090000
END:STANDARD
BEGIN:DAYLIGHT
TZOFFSETFROM:-0800
TZOFFSETTO:-0700
TZNAME:PDT
DTSTART:20250309T100000
END:DAYLIGHT
BEGIN:STANDARD
TZOFFSETFROM:-0700
TZOFFSETTO:-0800
TZNAME:PST
DTSTART:20251102T090000
END:STANDARD
BEGIN:DAYLIGHT
TZOFFSETFROM:-0800
TZOFFSETTO:-0700
TZNAME:PDT
DTSTART:20260308T100000
END:DAYLIGHT
BEGIN:STANDARD
TZOFFSETFROM:-0700
TZOFFSETTO:-0800
TZNAME:PST
DTSTART:20261101T090000
END:STANDARD
END:VTIMEZONE
BEGIN:VEVENT
DTSTART;TZID=America/Los_Angeles:20251010T063000
DTEND;TZID=America/Los_Angeles:20251010T080000
DTSTAMP:20260423T185857
CREATED:20250611T023048Z
LAST-MODIFIED:20250930T205756Z
UID:54464-1760077800-1760083200@bikramyogapalmdesert.com
SUMMARY:6:30am LINA
DESCRIPTION:
URL:https://bikramyogapalmdesert.com/class-schedule/630am-lina-171/
CATEGORIES:Lina
END:VEVENT
BEGIN:VEVENT
DTSTART;TZID=America/Los_Angeles:20251010T090000
DTEND;TZID=America/Los_Angeles:20251010T103000
DTSTAMP:20260423T185857
CREATED:20250611T023506Z
LAST-MODIFIED:20250930T214128Z
UID:54480-1760086800-1760092200@bikramyogapalmdesert.com
SUMMARY:9am ALIX
DESCRIPTION:
URL:https://bikramyogapalmdesert.com/class-schedule/9am-jayson-99/
CATEGORIES:Alix
END:VEVENT
BEGIN:VEVENT
DTSTART;TZID=America/Los_Angeles:20251010T160000
DTEND;TZID=America/Los_Angeles:20251010T173000
DTSTAMP:20260423T185857
CREATED:20250611T023954Z
LAST-MODIFIED:20250930T215005Z
UID:54496-1760112000-1760117400@bikramyogapalmdesert.com
SUMMARY:4pm ALIX
DESCRIPTION:
URL:https://bikramyogapalmdesert.com/class-schedule/4pm-alix-288/
LOCATION:Bikram Yoga El Paseo\, 73-890 El Paseo Drive\, Suite R6-7\, Palm Desert\, CA\, 92260\, United States
CATEGORIES:Alix
END:VEVENT
END:VCALENDAR