BEGIN:VCALENDAR
VERSION:2.0
PRODID:-//Bikram Yoga El Paseo - ECPv6.15.13//NONSGML v1.0//EN
CALSCALE:GREGORIAN
METHOD:PUBLISH
X-ORIGINAL-URL:https://bikramyogapalmdesert.com
X-WR-CALDESC:Events for Bikram Yoga El Paseo
REFRESH-INTERVAL;VALUE=DURATION:PT1H
X-Robots-Tag:noindex
X-PUBLISHED-TTL:PT1H
BEGIN:VTIMEZONE
TZID:America/Los_Angeles
BEGIN:DAYLIGHT
TZOFFSETFROM:-0800
TZOFFSETTO:-0700
TZNAME:PDT
DTSTART:20240310T100000
END:DAYLIGHT
BEGIN:STANDARD
TZOFFSETFROM:-0700
TZOFFSETTO:-0800
TZNAME:PST
DTSTART:20241103T090000
END:STANDARD
BEGIN:DAYLIGHT
TZOFFSETFROM:-0800
TZOFFSETTO:-0700
TZNAME:PDT
DTSTART:20250309T100000
END:DAYLIGHT
BEGIN:STANDARD
TZOFFSETFROM:-0700
TZOFFSETTO:-0800
TZNAME:PST
DTSTART:20251102T090000
END:STANDARD
BEGIN:DAYLIGHT
TZOFFSETFROM:-0800
TZOFFSETTO:-0700
TZNAME:PDT
DTSTART:20260308T100000
END:DAYLIGHT
BEGIN:STANDARD
TZOFFSETFROM:-0700
TZOFFSETTO:-0800
TZNAME:PST
DTSTART:20261101T090000
END:STANDARD
END:VTIMEZONE
BEGIN:VEVENT
DTSTART;TZID=America/Los_Angeles:20251112T063000
DTEND;TZID=America/Los_Angeles:20251112T080000
DTSTAMP:20260423T173021
CREATED:20250610T205711Z
LAST-MODIFIED:20251001T210106Z
UID:54085-1762929000-1762934400@bikramyogapalmdesert.com
SUMMARY:6:30amANNMARIE *silent
DESCRIPTION:
URL:https://bikramyogapalmdesert.com/class-schedule/630am-lina-155/
END:VEVENT
BEGIN:VEVENT
DTSTART;TZID=America/Los_Angeles:20251112T090000
DTEND;TZID=America/Los_Angeles:20251112T103000
DTSTAMP:20260423T173021
CREATED:20250610T210401Z
LAST-MODIFIED:20251109T022911Z
UID:54111-1762938000-1762943400@bikramyogapalmdesert.com
SUMMARY:9am ANN MARIE
DESCRIPTION:
URL:https://bikramyogapalmdesert.com/class-schedule/9am-alix-125/
END:VEVENT
BEGIN:VEVENT
DTSTART;TZID=America/Los_Angeles:20251112T180000
DTEND;TZID=America/Los_Angeles:20251112T190000
DTSTAMP:20260423T173021
CREATED:20250610T222155Z
LAST-MODIFIED:20251001T205950Z
UID:54314-1762970400-1762974000@bikramyogapalmdesert.com
SUMMARY:6pm  LINA 60/$18
DESCRIPTION:
URL:https://bikramyogapalmdesert.com/class-schedule/6pm-jayson-18-60min-2/
END:VEVENT
END:VCALENDAR