BEGIN:VCALENDAR
VERSION:2.0
PRODID:-//Bikram Yoga El Paseo - ECPv6.15.13//NONSGML v1.0//EN
CALSCALE:GREGORIAN
METHOD:PUBLISH
X-WR-CALNAME:Bikram Yoga El Paseo
X-ORIGINAL-URL:https://bikramyogapalmdesert.com
X-WR-CALDESC:Events for Bikram Yoga El Paseo
REFRESH-INTERVAL;VALUE=DURATION:PT1H
X-Robots-Tag:noindex
X-PUBLISHED-TTL:PT1H
BEGIN:VTIMEZONE
TZID:America/Los_Angeles
BEGIN:DAYLIGHT
TZOFFSETFROM:-0800
TZOFFSETTO:-0700
TZNAME:PDT
DTSTART:20240310T100000
END:DAYLIGHT
BEGIN:STANDARD
TZOFFSETFROM:-0700
TZOFFSETTO:-0800
TZNAME:PST
DTSTART:20241103T090000
END:STANDARD
BEGIN:DAYLIGHT
TZOFFSETFROM:-0800
TZOFFSETTO:-0700
TZNAME:PDT
DTSTART:20250309T100000
END:DAYLIGHT
BEGIN:STANDARD
TZOFFSETFROM:-0700
TZOFFSETTO:-0800
TZNAME:PST
DTSTART:20251102T090000
END:STANDARD
BEGIN:DAYLIGHT
TZOFFSETFROM:-0800
TZOFFSETTO:-0700
TZNAME:PDT
DTSTART:20260308T100000
END:DAYLIGHT
BEGIN:STANDARD
TZOFFSETFROM:-0700
TZOFFSETTO:-0800
TZNAME:PST
DTSTART:20261101T090000
END:STANDARD
END:VTIMEZONE
BEGIN:VEVENT
DTSTART;TZID=America/Los_Angeles:20251209T063000
DTEND;TZID=America/Los_Angeles:20251209T090000
DTSTAMP:20260423T155206
CREATED:20250610T204926Z
LAST-MODIFIED:20251004T230230Z
UID:54051-1765261800-1765270800@bikramyogapalmdesert.com
SUMMARY:6:30aANNMARIE
DESCRIPTION:
URL:https://bikramyogapalmdesert.com/class-schedule/630am-ann-mariesilent-22/
END:VEVENT
BEGIN:VEVENT
DTSTART;TZID=America/Los_Angeles:20251209T090000
DTEND;TZID=America/Los_Angeles:20251209T103000
DTSTAMP:20260423T155206
CREATED:20250610T213343Z
LAST-MODIFIED:20250610T213343Z
UID:54193-1765270800-1765276200@bikramyogapalmdesert.com
SUMMARY:4pm LINA
DESCRIPTION:
URL:https://bikramyogapalmdesert.com/class-schedule/4pm-lina-186/
END:VEVENT
BEGIN:VEVENT
DTSTART;TZID=America/Los_Angeles:20251209T113000
DTEND;TZID=America/Los_Angeles:20251209T123000
DTSTAMP:20260423T155206
CREATED:20250610T221643Z
LAST-MODIFIED:20250610T221643Z
UID:54296-1765279800-1765283400@bikramyogapalmdesert.com
SUMMARY:6pm LINA $18/60min
DESCRIPTION:
URL:https://bikramyogapalmdesert.com/class-schedule/6pm-lina-18-60min-45/
END:VEVENT
END:VCALENDAR