BEGIN:VCALENDAR
VERSION:2.0
PRODID:-//Bikram Yoga El Paseo - ECPv6.15.13//NONSGML v1.0//EN
CALSCALE:GREGORIAN
METHOD:PUBLISH
X-ORIGINAL-URL:https://bikramyogapalmdesert.com
X-WR-CALDESC:Events for Bikram Yoga El Paseo
REFRESH-INTERVAL;VALUE=DURATION:PT1H
X-Robots-Tag:noindex
X-PUBLISHED-TTL:PT1H
BEGIN:VTIMEZONE
TZID:America/Los_Angeles
BEGIN:DAYLIGHT
TZOFFSETFROM:-0800
TZOFFSETTO:-0700
TZNAME:PDT
DTSTART:20240310T100000
END:DAYLIGHT
BEGIN:STANDARD
TZOFFSETFROM:-0700
TZOFFSETTO:-0800
TZNAME:PST
DTSTART:20241103T090000
END:STANDARD
BEGIN:DAYLIGHT
TZOFFSETFROM:-0800
TZOFFSETTO:-0700
TZNAME:PDT
DTSTART:20250309T100000
END:DAYLIGHT
BEGIN:STANDARD
TZOFFSETFROM:-0700
TZOFFSETTO:-0800
TZNAME:PST
DTSTART:20251102T090000
END:STANDARD
BEGIN:DAYLIGHT
TZOFFSETFROM:-0800
TZOFFSETTO:-0700
TZNAME:PDT
DTSTART:20260308T100000
END:DAYLIGHT
BEGIN:STANDARD
TZOFFSETFROM:-0700
TZOFFSETTO:-0800
TZNAME:PST
DTSTART:20261101T090000
END:STANDARD
END:VTIMEZONE
BEGIN:VEVENT
DTSTART;TZID=America/Los_Angeles:20251211T090000
DTEND;TZID=America/Los_Angeles:20251211T103000
DTSTAMP:20260423T155534
CREATED:20250610T211312Z
LAST-MODIFIED:20251004T230012Z
UID:54143-1765443600-1765449000@bikramyogapalmdesert.com
SUMMARY:9am KATTY
DESCRIPTION:
URL:https://bikramyogapalmdesert.com/class-schedule/9am-jayson-80/
END:VEVENT
BEGIN:VEVENT
DTSTART;TZID=America/Los_Angeles:20251211T100000
DTEND;TZID=America/Los_Angeles:20251211T113000
DTSTAMP:20260423T155534
CREATED:20250610T214154Z
LAST-MODIFIED:20250610T214154Z
UID:54217-1765447200-1765452600@bikramyogapalmdesert.com
SUMMARY:4pm ALIX
DESCRIPTION:
URL:https://bikramyogapalmdesert.com/class-schedule/4pm-alix-256/
END:VEVENT
BEGIN:VEVENT
DTSTART;TZID=America/Los_Angeles:20251211T120000
DTEND;TZID=America/Los_Angeles:20251211T123000
DTSTAMP:20260423T155534
CREATED:20250610T223632Z
LAST-MODIFIED:20250930T204808Z
UID:54346-1765454400-1765456200@bikramyogapalmdesert.com
SUMMARY:6pm ALIX $18/60min
DESCRIPTION:
URL:https://bikramyogapalmdesert.com/class-schedule/6pm-alix-18-60min-15/
CATEGORIES:Alix
END:VEVENT
END:VCALENDAR