BEGIN:VCALENDAR
VERSION:2.0
PRODID:-//Bikram Yoga El Paseo - ECPv6.15.13//NONSGML v1.0//EN
CALSCALE:GREGORIAN
METHOD:PUBLISH
X-ORIGINAL-URL:https://bikramyogapalmdesert.com
X-WR-CALDESC:Events for Bikram Yoga El Paseo
REFRESH-INTERVAL;VALUE=DURATION:PT1H
X-Robots-Tag:noindex
X-PUBLISHED-TTL:PT1H
BEGIN:VTIMEZONE
TZID:America/Los_Angeles
BEGIN:DAYLIGHT
TZOFFSETFROM:-0800
TZOFFSETTO:-0700
TZNAME:PDT
DTSTART:20240310T100000
END:DAYLIGHT
BEGIN:STANDARD
TZOFFSETFROM:-0700
TZOFFSETTO:-0800
TZNAME:PST
DTSTART:20241103T090000
END:STANDARD
BEGIN:DAYLIGHT
TZOFFSETFROM:-0800
TZOFFSETTO:-0700
TZNAME:PDT
DTSTART:20250309T100000
END:DAYLIGHT
BEGIN:STANDARD
TZOFFSETFROM:-0700
TZOFFSETTO:-0800
TZNAME:PST
DTSTART:20251102T090000
END:STANDARD
BEGIN:DAYLIGHT
TZOFFSETFROM:-0800
TZOFFSETTO:-0700
TZNAME:PDT
DTSTART:20260308T100000
END:DAYLIGHT
BEGIN:STANDARD
TZOFFSETFROM:-0700
TZOFFSETTO:-0800
TZNAME:PST
DTSTART:20261101T090000
END:STANDARD
END:VTIMEZONE
BEGIN:VEVENT
DTSTART;TZID=America/Los_Angeles:20251221T100000
DTEND;TZID=America/Los_Angeles:20251221T113000
DTSTAMP:20260423T155540
CREATED:20250610T010049Z
LAST-MODIFIED:20251022T173157Z
UID:53927-1766311200-1766316600@bikramyogapalmdesert.com
SUMMARY:10am KATTY
DESCRIPTION:
URL:https://bikramyogapalmdesert.com/class-schedule/10am-ann-marie-96/
END:VEVENT
BEGIN:VEVENT
DTSTART;TZID=America/Los_Angeles:20251221T120000
DTEND;TZID=America/Los_Angeles:20251221T133000
DTSTAMP:20260423T155540
CREATED:20250610T011043Z
LAST-MODIFIED:20250610T011043Z
UID:53961-1766318400-1766323800@bikramyogapalmdesert.com
SUMMARY:3pm ALIX
DESCRIPTION:
URL:https://bikramyogapalmdesert.com/class-schedule/3pm-alix-58/
END:VEVENT
END:VCALENDAR