BEGIN:VCALENDAR
VERSION:2.0
PRODID:-//Bikram Yoga El Paseo - ECPv6.15.13//NONSGML v1.0//EN
CALSCALE:GREGORIAN
METHOD:PUBLISH
X-WR-CALNAME:Bikram Yoga El Paseo
X-ORIGINAL-URL:https://bikramyogapalmdesert.com
X-WR-CALDESC:Events for Bikram Yoga El Paseo
REFRESH-INTERVAL;VALUE=DURATION:PT1H
X-Robots-Tag:noindex
X-PUBLISHED-TTL:PT1H
BEGIN:VTIMEZONE
TZID:America/Los_Angeles
BEGIN:DAYLIGHT
TZOFFSETFROM:-0800
TZOFFSETTO:-0700
TZNAME:PDT
DTSTART:20250309T100000
END:DAYLIGHT
BEGIN:STANDARD
TZOFFSETFROM:-0700
TZOFFSETTO:-0800
TZNAME:PST
DTSTART:20251102T090000
END:STANDARD
BEGIN:DAYLIGHT
TZOFFSETFROM:-0800
TZOFFSETTO:-0700
TZNAME:PDT
DTSTART:20260308T100000
END:DAYLIGHT
BEGIN:STANDARD
TZOFFSETFROM:-0700
TZOFFSETTO:-0800
TZNAME:PST
DTSTART:20261101T090000
END:STANDARD
BEGIN:DAYLIGHT
TZOFFSETFROM:-0800
TZOFFSETTO:-0700
TZNAME:PDT
DTSTART:20270314T100000
END:DAYLIGHT
BEGIN:STANDARD
TZOFFSETFROM:-0700
TZOFFSETTO:-0800
TZNAME:PST
DTSTART:20271107T090000
END:STANDARD
END:VTIMEZONE
BEGIN:VEVENT
DTSTART;TZID=America/Los_Angeles:20260108T090000
DTEND;TZID=America/Los_Angeles:20260108T103000
DTSTAMP:20260423T141023
CREATED:20250610T211434Z
LAST-MODIFIED:20251004T224147Z
UID:54149-1767862800-1767868200@bikramyogapalmdesert.com
SUMMARY:9am KATTY
DESCRIPTION:
URL:https://bikramyogapalmdesert.com/class-schedule/9am-jayson-83/
END:VEVENT
BEGIN:VEVENT
DTSTART;TZID=America/Los_Angeles:20260108T100000
DTEND;TZID=America/Los_Angeles:20260108T113000
DTSTAMP:20260423T141023
CREATED:20250610T214424Z
LAST-MODIFIED:20251216T221307Z
UID:54224-1767866400-1767871800@bikramyogapalmdesert.com
SUMMARY:4pm DARLENE
DESCRIPTION:
URL:https://bikramyogapalmdesert.com/class-schedule/4pm-alix-259/
END:VEVENT
BEGIN:VEVENT
DTSTART;TZID=America/Los_Angeles:20260108T120000
DTEND;TZID=America/Los_Angeles:20260108T123000
DTSTAMP:20260423T141023
CREATED:20250610T223835Z
LAST-MODIFIED:20251216T221231Z
UID:54352-1767873600-1767875400@bikramyogapalmdesert.com
SUMMARY:6pm ANNMARIE$18/60min
DESCRIPTION:
URL:https://bikramyogapalmdesert.com/class-schedule/6pm-alix-18-60min-18/
CATEGORIES:Alix
END:VEVENT
END:VCALENDAR