BEGIN:VCALENDAR
VERSION:2.0
PRODID:-//Bikram Yoga El Paseo - ECPv6.15.13//NONSGML v1.0//EN
CALSCALE:GREGORIAN
METHOD:PUBLISH
X-WR-CALNAME:Bikram Yoga El Paseo
X-ORIGINAL-URL:https://bikramyogapalmdesert.com
X-WR-CALDESC:Events for Bikram Yoga El Paseo
REFRESH-INTERVAL;VALUE=DURATION:PT1H
X-Robots-Tag:noindex
X-PUBLISHED-TTL:PT1H
BEGIN:VTIMEZONE
TZID:America/Los_Angeles
BEGIN:DAYLIGHT
TZOFFSETFROM:-0800
TZOFFSETTO:-0700
TZNAME:PDT
DTSTART:20250309T100000
END:DAYLIGHT
BEGIN:STANDARD
TZOFFSETFROM:-0700
TZOFFSETTO:-0800
TZNAME:PST
DTSTART:20251102T090000
END:STANDARD
BEGIN:DAYLIGHT
TZOFFSETFROM:-0800
TZOFFSETTO:-0700
TZNAME:PDT
DTSTART:20260308T100000
END:DAYLIGHT
BEGIN:STANDARD
TZOFFSETFROM:-0700
TZOFFSETTO:-0800
TZNAME:PST
DTSTART:20261101T090000
END:STANDARD
BEGIN:DAYLIGHT
TZOFFSETFROM:-0800
TZOFFSETTO:-0700
TZNAME:PDT
DTSTART:20270314T100000
END:DAYLIGHT
BEGIN:STANDARD
TZOFFSETFROM:-0700
TZOFFSETTO:-0800
TZNAME:PST
DTSTART:20271107T090000
END:STANDARD
END:VTIMEZONE
BEGIN:VEVENT
DTSTART;TZID=America/Los_Angeles:20260114T063000
DTEND;TZID=America/Los_Angeles:20260114T080000
DTSTAMP:20260423T141135
CREATED:20250610T210057Z
LAST-MODIFIED:20251004T223704Z
UID:54103-1768372200-1768377600@bikramyogapalmdesert.com
SUMMARY:6:30am ANNMARIE *silent
DESCRIPTION:
URL:https://bikramyogapalmdesert.com/class-schedule/630am-lina-164/
END:VEVENT
BEGIN:VEVENT
DTSTART;TZID=America/Los_Angeles:20260114T090000
DTEND;TZID=America/Los_Angeles:20260114T103000
DTSTAMP:20260423T141135
CREATED:20250610T210754Z
LAST-MODIFIED:20250610T210754Z
UID:54129-1768381200-1768386600@bikramyogapalmdesert.com
SUMMARY:9am ALIX
DESCRIPTION:
URL:https://bikramyogapalmdesert.com/class-schedule/9am-alix-134/
END:VEVENT
BEGIN:VEVENT
DTSTART;TZID=America/Los_Angeles:20260114T103000
DTEND;TZID=America/Los_Angeles:20260114T120000
DTSTAMP:20260423T141135
CREATED:20250610T222920Z
LAST-MODIFIED:20251004T223641Z
UID:54332-1768386600-1768392000@bikramyogapalmdesert.com
SUMMARY:6pm LINA60/$18
DESCRIPTION:
URL:https://bikramyogapalmdesert.com/class-schedule/6pm-jayson-18-60min-11/
END:VEVENT
END:VCALENDAR