BEGIN:VCALENDAR
VERSION:2.0
PRODID:-//Bikram Yoga El Paseo - ECPv6.15.13//NONSGML v1.0//EN
CALSCALE:GREGORIAN
METHOD:PUBLISH
X-ORIGINAL-URL:https://bikramyogapalmdesert.com
X-WR-CALDESC:Events for Bikram Yoga El Paseo
REFRESH-INTERVAL;VALUE=DURATION:PT1H
X-Robots-Tag:noindex
X-PUBLISHED-TTL:PT1H
BEGIN:VTIMEZONE
TZID:America/Los_Angeles
BEGIN:DAYLIGHT
TZOFFSETFROM:-0800
TZOFFSETTO:-0700
TZNAME:PDT
DTSTART:20250309T100000
END:DAYLIGHT
BEGIN:STANDARD
TZOFFSETFROM:-0700
TZOFFSETTO:-0800
TZNAME:PST
DTSTART:20251102T090000
END:STANDARD
BEGIN:DAYLIGHT
TZOFFSETFROM:-0800
TZOFFSETTO:-0700
TZNAME:PDT
DTSTART:20260308T100000
END:DAYLIGHT
BEGIN:STANDARD
TZOFFSETFROM:-0700
TZOFFSETTO:-0800
TZNAME:PST
DTSTART:20261101T090000
END:STANDARD
BEGIN:DAYLIGHT
TZOFFSETFROM:-0800
TZOFFSETTO:-0700
TZNAME:PDT
DTSTART:20270314T100000
END:DAYLIGHT
BEGIN:STANDARD
TZOFFSETFROM:-0700
TZOFFSETTO:-0800
TZNAME:PST
DTSTART:20271107T090000
END:STANDARD
END:VTIMEZONE
BEGIN:VEVENT
DTSTART;TZID=America/Los_Angeles:20260128T063000
DTEND;TZID=America/Los_Angeles:20260128T080000
DTSTAMP:20260423T141852
CREATED:20250610T210140Z
LAST-MODIFIED:20251004T222732Z
UID:54107-1769581800-1769587200@bikramyogapalmdesert.com
SUMMARY:6:30am ANNMARIE *silent
DESCRIPTION:
URL:https://bikramyogapalmdesert.com/class-schedule/630am-lina-166/
END:VEVENT
BEGIN:VEVENT
DTSTART;TZID=America/Los_Angeles:20260128T090000
DTEND;TZID=America/Los_Angeles:20260128T103000
DTSTAMP:20260423T141852
CREATED:20250610T210820Z
LAST-MODIFIED:20250610T210820Z
UID:54131-1769590800-1769596200@bikramyogapalmdesert.com
SUMMARY:9am ALIX
DESCRIPTION:
URL:https://bikramyogapalmdesert.com/class-schedule/9am-alix-135/
END:VEVENT
BEGIN:VEVENT
DTSTART;TZID=America/Los_Angeles:20260128T103000
DTEND;TZID=America/Los_Angeles:20260128T120000
DTSTAMP:20260423T141852
CREATED:20250610T223007Z
LAST-MODIFIED:20251004T222553Z
UID:54336-1769596200-1769601600@bikramyogapalmdesert.com
SUMMARY:6pm LINA 60/$18
DESCRIPTION:
URL:https://bikramyogapalmdesert.com/class-schedule/6pm-jayson-18-60min-13/
END:VEVENT
END:VCALENDAR