BEGIN:VCALENDAR
VERSION:2.0
PRODID:-//Bikram Yoga El Paseo - ECPv6.15.13//NONSGML v1.0//EN
CALSCALE:GREGORIAN
METHOD:PUBLISH
X-WR-CALNAME:Bikram Yoga El Paseo
X-ORIGINAL-URL:https://bikramyogapalmdesert.com
X-WR-CALDESC:Events for Bikram Yoga El Paseo
REFRESH-INTERVAL;VALUE=DURATION:PT1H
X-Robots-Tag:noindex
X-PUBLISHED-TTL:PT1H
BEGIN:VTIMEZONE
TZID:America/Los_Angeles
BEGIN:DAYLIGHT
TZOFFSETFROM:-0800
TZOFFSETTO:-0700
TZNAME:PDT
DTSTART:20250309T100000
END:DAYLIGHT
BEGIN:STANDARD
TZOFFSETFROM:-0700
TZOFFSETTO:-0800
TZNAME:PST
DTSTART:20251102T090000
END:STANDARD
BEGIN:DAYLIGHT
TZOFFSETFROM:-0800
TZOFFSETTO:-0700
TZNAME:PDT
DTSTART:20260308T100000
END:DAYLIGHT
BEGIN:STANDARD
TZOFFSETFROM:-0700
TZOFFSETTO:-0800
TZNAME:PST
DTSTART:20261101T090000
END:STANDARD
BEGIN:DAYLIGHT
TZOFFSETFROM:-0800
TZOFFSETTO:-0700
TZNAME:PDT
DTSTART:20270314T100000
END:DAYLIGHT
BEGIN:STANDARD
TZOFFSETFROM:-0700
TZOFFSETTO:-0800
TZNAME:PST
DTSTART:20271107T090000
END:STANDARD
END:VTIMEZONE
BEGIN:VEVENT
DTSTART;TZID=America/Los_Angeles:20260130T063000
DTEND;TZID=America/Los_Angeles:20260130T080000
DTSTAMP:20260423T141023
CREATED:20250610T205511Z
LAST-MODIFIED:20250930T205955Z
UID:54081-1769754600-1769760000@bikramyogapalmdesert.com
SUMMARY:6:30am ANN MARIE*silent
DESCRIPTION:
URL:https://bikramyogapalmdesert.com/class-schedule/630am-ann-mariesilent-37/
CATEGORIES:Ann Marie
END:VEVENT
BEGIN:VEVENT
DTSTART;TZID=America/Los_Angeles:20260130T090000
DTEND;TZID=America/Los_Angeles:20260130T103000
DTSTAMP:20260423T141023
CREATED:20250610T212612Z
LAST-MODIFIED:20250930T205952Z
UID:54181-1769763600-1769769000@bikramyogapalmdesert.com
SUMMARY:9am ANN MARIE
DESCRIPTION:
URL:https://bikramyogapalmdesert.com/class-schedule/9am-ann-marie-32/
CATEGORIES:Ann Marie
END:VEVENT
BEGIN:VEVENT
DTSTART;TZID=America/Los_Angeles:20260130T160000
DTEND;TZID=America/Los_Angeles:20260130T173000
DTSTAMP:20260423T141023
CREATED:20250610T230053Z
LAST-MODIFIED:20251004T222401Z
UID:54256-1769788800-1769794200@bikramyogapalmdesert.com
SUMMARY:4pm ALIX
DESCRIPTION:
URL:https://bikramyogapalmdesert.com/class-schedule/4pm-alix-275/
CATEGORIES:Alix
END:VEVENT
END:VCALENDAR