BEGIN:VCALENDAR
VERSION:2.0
PRODID:-//Bikram Yoga El Paseo - ECPv6.15.13//NONSGML v1.0//EN
CALSCALE:GREGORIAN
METHOD:PUBLISH
X-ORIGINAL-URL:https://bikramyogapalmdesert.com
X-WR-CALDESC:Events for Bikram Yoga El Paseo
REFRESH-INTERVAL;VALUE=DURATION:PT1H
X-Robots-Tag:noindex
X-PUBLISHED-TTL:PT1H
BEGIN:VTIMEZONE
TZID:America/Los_Angeles
BEGIN:DAYLIGHT
TZOFFSETFROM:-0800
TZOFFSETTO:-0700
TZNAME:PDT
DTSTART:20250309T100000
END:DAYLIGHT
BEGIN:STANDARD
TZOFFSETFROM:-0700
TZOFFSETTO:-0800
TZNAME:PST
DTSTART:20251102T090000
END:STANDARD
BEGIN:DAYLIGHT
TZOFFSETFROM:-0800
TZOFFSETTO:-0700
TZNAME:PDT
DTSTART:20260308T100000
END:DAYLIGHT
BEGIN:STANDARD
TZOFFSETFROM:-0700
TZOFFSETTO:-0800
TZNAME:PST
DTSTART:20261101T090000
END:STANDARD
BEGIN:DAYLIGHT
TZOFFSETFROM:-0800
TZOFFSETTO:-0700
TZNAME:PDT
DTSTART:20270314T100000
END:DAYLIGHT
BEGIN:STANDARD
TZOFFSETFROM:-0700
TZOFFSETTO:-0800
TZNAME:PST
DTSTART:20271107T090000
END:STANDARD
END:VTIMEZONE
BEGIN:VEVENT
DTSTART;TZID=America/Los_Angeles:20260208T100000
DTEND;TZID=America/Los_Angeles:20260208T233000
DTSTAMP:20260423T123836
CREATED:20251011T215425Z
LAST-MODIFIED:20260127T181340Z
UID:57760-1770544800-1770593400@bikramyogapalmdesert.com
SUMMARY:10am ALIX
DESCRIPTION:
URL:https://bikramyogapalmdesert.com/class-schedule/10am-darlene-2/
END:VEVENT
BEGIN:VEVENT
DTSTART;TZID=America/Los_Angeles:20260208T150000
DTEND;TZID=America/Los_Angeles:20260208T163000
DTSTAMP:20260423T123836
CREATED:20251011T215525Z
LAST-MODIFIED:20251011T215526Z
UID:57762-1770562800-1770568200@bikramyogapalmdesert.com
SUMMARY:3pm ALIX
DESCRIPTION:
URL:https://bikramyogapalmdesert.com/class-schedule/3pm-alix-2/
END:VEVENT
END:VCALENDAR