BEGIN:VCALENDAR
VERSION:2.0
PRODID:-//Bikram Yoga El Paseo - ECPv6.15.13//NONSGML v1.0//EN
CALSCALE:GREGORIAN
METHOD:PUBLISH
X-WR-CALNAME:Bikram Yoga El Paseo
X-ORIGINAL-URL:https://bikramyogapalmdesert.com
X-WR-CALDESC:Events for Bikram Yoga El Paseo
REFRESH-INTERVAL;VALUE=DURATION:PT1H
X-Robots-Tag:noindex
X-PUBLISHED-TTL:PT1H
BEGIN:VTIMEZONE
TZID:America/Los_Angeles
BEGIN:DAYLIGHT
TZOFFSETFROM:-0800
TZOFFSETTO:-0700
TZNAME:PDT
DTSTART:20240310T100000
END:DAYLIGHT
BEGIN:STANDARD
TZOFFSETFROM:-0700
TZOFFSETTO:-0800
TZNAME:PST
DTSTART:20241103T090000
END:STANDARD
BEGIN:DAYLIGHT
TZOFFSETFROM:-0800
TZOFFSETTO:-0700
TZNAME:PDT
DTSTART:20250309T100000
END:DAYLIGHT
BEGIN:STANDARD
TZOFFSETFROM:-0700
TZOFFSETTO:-0800
TZNAME:PST
DTSTART:20251102T090000
END:STANDARD
BEGIN:DAYLIGHT
TZOFFSETFROM:-0800
TZOFFSETTO:-0700
TZNAME:PDT
DTSTART:20260308T100000
END:DAYLIGHT
BEGIN:STANDARD
TZOFFSETFROM:-0700
TZOFFSETTO:-0800
TZNAME:PST
DTSTART:20261101T090000
END:STANDARD
END:VTIMEZONE
BEGIN:VEVENT
DTSTART;TZID=America/Los_Angeles:20250910T090000
DTEND;TZID=America/Los_Angeles:20250910T103000
DTSTAMP:20260424T021950
CREATED:20250611T022003Z
LAST-MODIFIED:20250930T204807Z
UID:54424-1757494800-1757500200@bikramyogapalmdesert.com
SUMMARY:9am ALIX
DESCRIPTION:
URL:https://bikramyogapalmdesert.com/class-schedule/9am-alix-137/
CATEGORIES:Alix
END:VEVENT
BEGIN:VEVENT
DTSTART;TZID=America/Los_Angeles:20250911T080000
DTEND;TZID=America/Los_Angeles:20250911T093000
DTSTAMP:20260424T021950
CREATED:20250611T022434Z
LAST-MODIFIED:20250930T214129Z
UID:54440-1757577600-1757583000@bikramyogapalmdesert.com
SUMMARY:4pm ALIX
DESCRIPTION:
URL:https://bikramyogapalmdesert.com/class-schedule/4pm-alix-276/
CATEGORIES:Alix
END:VEVENT
BEGIN:VEVENT
DTSTART;TZID=America/Los_Angeles:20250911T120000
DTEND;TZID=America/Los_Angeles:20250911T133000
DTSTAMP:20260424T021950
CREATED:20250611T025330Z
LAST-MODIFIED:20250930T214127Z
UID:54536-1757592000-1757597400@bikramyogapalmdesert.com
SUMMARY:6pm ALIX $18/60min
DESCRIPTION:
URL:https://bikramyogapalmdesert.com/class-schedule/6pm-alix-18-60min-22/
CATEGORIES:Alix
END:VEVENT
BEGIN:VEVENT
DTSTART;TZID=America/Los_Angeles:20250912T110000
DTEND;TZID=America/Los_Angeles:20250912T123000
DTSTAMP:20260424T021950
CREATED:20250611T023658Z
LAST-MODIFIED:20250930T214128Z
UID:54488-1757674800-1757680200@bikramyogapalmdesert.com
SUMMARY:4pm ALIX
DESCRIPTION:
URL:https://bikramyogapalmdesert.com/class-schedule/4pm-alix-284/
CATEGORIES:Alix
END:VEVENT
BEGIN:VEVENT
DTSTART;TZID=America/Los_Angeles:20250917T090000
DTEND;TZID=America/Los_Angeles:20250917T103000
DTSTAMP:20260424T021950
CREATED:20250611T022033Z
LAST-MODIFIED:20250930T204807Z
UID:54426-1758099600-1758105000@bikramyogapalmdesert.com
SUMMARY:9am ALIX
DESCRIPTION:
URL:https://bikramyogapalmdesert.com/class-schedule/9am-alix-138/
CATEGORIES:Alix
END:VEVENT
BEGIN:VEVENT
DTSTART;TZID=America/Los_Angeles:20250918T090000
DTEND;TZID=America/Los_Angeles:20250918T103000
DTSTAMP:20260424T021950
CREATED:20250611T022458Z
LAST-MODIFIED:20250930T214129Z
UID:54442-1758186000-1758191400@bikramyogapalmdesert.com
SUMMARY:4pm ALIX
DESCRIPTION:
URL:https://bikramyogapalmdesert.com/class-schedule/4pm-alix-277/
CATEGORIES:Alix
END:VEVENT
BEGIN:VEVENT
DTSTART;TZID=America/Los_Angeles:20250918T120000
DTEND;TZID=America/Los_Angeles:20250918T133000
DTSTAMP:20260424T021950
CREATED:20250611T025412Z
LAST-MODIFIED:20250930T214127Z
UID:54538-1758196800-1758202200@bikramyogapalmdesert.com
SUMMARY:6pm ALIX $18/60min
DESCRIPTION:
URL:https://bikramyogapalmdesert.com/class-schedule/6pm-alix-18-60min-23/
CATEGORIES:Alix
END:VEVENT
BEGIN:VEVENT
DTSTART;TZID=America/Los_Angeles:20250919T103000
DTEND;TZID=America/Los_Angeles:20250919T120000
DTSTAMP:20260424T021950
CREATED:20250611T023735Z
LAST-MODIFIED:20250930T214128Z
UID:54490-1758277800-1758283200@bikramyogapalmdesert.com
SUMMARY:4pm ALIX
DESCRIPTION:
URL:https://bikramyogapalmdesert.com/class-schedule/4pm-alix-285/
CATEGORIES:Alix
END:VEVENT
BEGIN:VEVENT
DTSTART;TZID=America/Los_Angeles:20250924T090000
DTEND;TZID=America/Los_Angeles:20250924T103000
DTSTAMP:20260424T021950
CREATED:20250611T022105Z
LAST-MODIFIED:20250930T204807Z
UID:54428-1758704400-1758709800@bikramyogapalmdesert.com
SUMMARY:9am ALIX
DESCRIPTION:
URL:https://bikramyogapalmdesert.com/class-schedule/9am-alix-139/
CATEGORIES:Alix
END:VEVENT
BEGIN:VEVENT
DTSTART;TZID=America/Los_Angeles:20250925T090000
DTEND;TZID=America/Los_Angeles:20250925T103000
DTSTAMP:20260424T021950
CREATED:20250611T022522Z
LAST-MODIFIED:20250930T214129Z
UID:54444-1758790800-1758796200@bikramyogapalmdesert.com
SUMMARY:4pm ALIX
DESCRIPTION:
URL:https://bikramyogapalmdesert.com/class-schedule/4pm-alix-278/
CATEGORIES:Alix
END:VEVENT
BEGIN:VEVENT
DTSTART;TZID=America/Los_Angeles:20250925T120000
DTEND;TZID=America/Los_Angeles:20250925T133000
DTSTAMP:20260424T021950
CREATED:20250611T025435Z
LAST-MODIFIED:20250930T214127Z
UID:54540-1758801600-1758807000@bikramyogapalmdesert.com
SUMMARY:6pm ALIX $18/60min
DESCRIPTION:
URL:https://bikramyogapalmdesert.com/class-schedule/6pm-alix-18-60min-24/
CATEGORIES:Alix
END:VEVENT
BEGIN:VEVENT
DTSTART;TZID=America/Los_Angeles:20250926T090000
DTEND;TZID=America/Los_Angeles:20250926T103000
DTSTAMP:20260424T021950
CREATED:20250611T023348Z
LAST-MODIFIED:20250930T214128Z
UID:54476-1758877200-1758882600@bikramyogapalmdesert.com
SUMMARY:9am ALIX
DESCRIPTION:
URL:https://bikramyogapalmdesert.com/class-schedule/9am-jayson-97/
CATEGORIES:Alix
END:VEVENT
BEGIN:VEVENT
DTSTART;TZID=America/Los_Angeles:20250926T103000
DTEND;TZID=America/Los_Angeles:20250926T120000
DTSTAMP:20260424T021950
CREATED:20250611T023800Z
LAST-MODIFIED:20250930T214128Z
UID:54492-1758882600-1758888000@bikramyogapalmdesert.com
SUMMARY:4pm ALIX
DESCRIPTION:
URL:https://bikramyogapalmdesert.com/class-schedule/4pm-alix-286/
CATEGORIES:Alix
END:VEVENT
END:VCALENDAR