BEGIN:VCALENDAR
VERSION:2.0
PRODID:-//Bikram Yoga El Paseo - ECPv6.15.13//NONSGML v1.0//EN
CALSCALE:GREGORIAN
METHOD:PUBLISH
X-WR-CALNAME:Bikram Yoga El Paseo
X-ORIGINAL-URL:https://bikramyogapalmdesert.com
X-WR-CALDESC:Events for Bikram Yoga El Paseo
REFRESH-INTERVAL;VALUE=DURATION:PT1H
X-Robots-Tag:noindex
X-PUBLISHED-TTL:PT1H
BEGIN:VTIMEZONE
TZID:America/Los_Angeles
BEGIN:DAYLIGHT
TZOFFSETFROM:-0800
TZOFFSETTO:-0700
TZNAME:PDT
DTSTART:20240310T100000
END:DAYLIGHT
BEGIN:STANDARD
TZOFFSETFROM:-0700
TZOFFSETTO:-0800
TZNAME:PST
DTSTART:20241103T090000
END:STANDARD
BEGIN:DAYLIGHT
TZOFFSETFROM:-0800
TZOFFSETTO:-0700
TZNAME:PDT
DTSTART:20250309T100000
END:DAYLIGHT
BEGIN:STANDARD
TZOFFSETFROM:-0700
TZOFFSETTO:-0800
TZNAME:PST
DTSTART:20251102T090000
END:STANDARD
BEGIN:DAYLIGHT
TZOFFSETFROM:-0800
TZOFFSETTO:-0700
TZNAME:PDT
DTSTART:20260308T100000
END:DAYLIGHT
BEGIN:STANDARD
TZOFFSETFROM:-0700
TZOFFSETTO:-0800
TZNAME:PST
DTSTART:20261101T090000
END:STANDARD
END:VTIMEZONE
BEGIN:VEVENT
DTSTART;TZID=America/Los_Angeles:20251204T180000
DTEND;TZID=America/Los_Angeles:20251204T190000
DTSTAMP:20260423T220656
CREATED:20250610T223520Z
LAST-MODIFIED:20251001T203706Z
UID:54344-1764871200-1764874800@bikramyogapalmdesert.com
SUMMARY:6pm ALIX60/$18
DESCRIPTION:
URL:https://bikramyogapalmdesert.com/class-schedule/6pm-alix-18-60min-14/
CATEGORIES:Alix
END:VEVENT
BEGIN:VEVENT
DTSTART;TZID=America/Los_Angeles:20251205T160000
DTEND;TZID=America/Los_Angeles:20251205T173000
DTSTAMP:20260423T220656
CREATED:20250610T214925Z
LAST-MODIFIED:20250930T204809Z
UID:54240-1764950400-1764955800@bikramyogapalmdesert.com
SUMMARY:4pm ALIX
DESCRIPTION:
URL:https://bikramyogapalmdesert.com/class-schedule/4pm-alix-267/
CATEGORIES:Alix
END:VEVENT
BEGIN:VEVENT
DTSTART;TZID=America/Los_Angeles:20251211T120000
DTEND;TZID=America/Los_Angeles:20251211T123000
DTSTAMP:20260423T220656
CREATED:20250610T223632Z
LAST-MODIFIED:20250930T204808Z
UID:54346-1765454400-1765456200@bikramyogapalmdesert.com
SUMMARY:6pm ALIX $18/60min
DESCRIPTION:
URL:https://bikramyogapalmdesert.com/class-schedule/6pm-alix-18-60min-15/
CATEGORIES:Alix
END:VEVENT
BEGIN:VEVENT
DTSTART;TZID=America/Los_Angeles:20251212T103000
DTEND;TZID=America/Los_Angeles:20251212T120000
DTSTAMP:20260423T220656
CREATED:20250610T215013Z
LAST-MODIFIED:20250930T204809Z
UID:54242-1765535400-1765540800@bikramyogapalmdesert.com
SUMMARY:4pm ALIX
DESCRIPTION:
URL:https://bikramyogapalmdesert.com/class-schedule/4pm-alix-268/
CATEGORIES:Alix
END:VEVENT
BEGIN:VEVENT
DTSTART;TZID=America/Los_Angeles:20251218T120000
DTEND;TZID=America/Los_Angeles:20251218T123000
DTSTAMP:20260423T220656
CREATED:20250610T223706Z
LAST-MODIFIED:20250930T204808Z
UID:54348-1766059200-1766061000@bikramyogapalmdesert.com
SUMMARY:6pm ALIX $18/60min
DESCRIPTION:
URL:https://bikramyogapalmdesert.com/class-schedule/6pm-alix-18-60min-16/
CATEGORIES:Alix
END:VEVENT
BEGIN:VEVENT
DTSTART;TZID=America/Los_Angeles:20251219T103000
DTEND;TZID=America/Los_Angeles:20251219T120000
DTSTAMP:20260423T220656
CREATED:20250610T215057Z
LAST-MODIFIED:20250930T204809Z
UID:54244-1766140200-1766145600@bikramyogapalmdesert.com
SUMMARY:4pm ALIX
DESCRIPTION:
URL:https://bikramyogapalmdesert.com/class-schedule/4pm-alix-269/
CATEGORIES:Alix
END:VEVENT
BEGIN:VEVENT
DTSTART;TZID=America/Los_Angeles:20251226T103000
DTEND;TZID=America/Los_Angeles:20251226T120000
DTSTAMP:20260423T220656
CREATED:20250610T215132Z
LAST-MODIFIED:20250930T204809Z
UID:54246-1766745000-1766750400@bikramyogapalmdesert.com
SUMMARY:4pm ALIX
DESCRIPTION:
URL:https://bikramyogapalmdesert.com/class-schedule/4pm-alix-270/
CATEGORIES:Alix
END:VEVENT
END:VCALENDAR