BEGIN:VCALENDAR
VERSION:2.0
PRODID:-//Bikram Yoga El Paseo - ECPv6.15.13//NONSGML v1.0//EN
CALSCALE:GREGORIAN
METHOD:PUBLISH
X-WR-CALNAME:Bikram Yoga El Paseo
X-ORIGINAL-URL:https://bikramyogapalmdesert.com
X-WR-CALDESC:Events for Bikram Yoga El Paseo
REFRESH-INTERVAL;VALUE=DURATION:PT1H
X-Robots-Tag:noindex
X-PUBLISHED-TTL:PT1H
BEGIN:VTIMEZONE
TZID:America/Los_Angeles
BEGIN:DAYLIGHT
TZOFFSETFROM:-0800
TZOFFSETTO:-0700
TZNAME:PDT
DTSTART:20240310T100000
END:DAYLIGHT
BEGIN:STANDARD
TZOFFSETFROM:-0700
TZOFFSETTO:-0800
TZNAME:PST
DTSTART:20241103T090000
END:STANDARD
BEGIN:DAYLIGHT
TZOFFSETFROM:-0800
TZOFFSETTO:-0700
TZNAME:PDT
DTSTART:20250309T100000
END:DAYLIGHT
BEGIN:STANDARD
TZOFFSETFROM:-0700
TZOFFSETTO:-0800
TZNAME:PST
DTSTART:20251102T090000
END:STANDARD
BEGIN:DAYLIGHT
TZOFFSETFROM:-0800
TZOFFSETTO:-0700
TZNAME:PDT
DTSTART:20260308T100000
END:DAYLIGHT
BEGIN:STANDARD
TZOFFSETFROM:-0700
TZOFFSETTO:-0800
TZNAME:PST
DTSTART:20261101T090000
END:STANDARD
END:VTIMEZONE
BEGIN:VEVENT
DTSTART;TZID=America/Los_Angeles:20251106T090000
DTEND;TZID=America/Los_Angeles:20251106T103000
DTSTAMP:20260423T232754
CREATED:20250610T211108Z
LAST-MODIFIED:20250930T205955Z
UID:54135-1762419600-1762425000@bikramyogapalmdesert.com
SUMMARY:9am ANN MARIE
DESCRIPTION:
URL:https://bikramyogapalmdesert.com/class-schedule/9am-jayson-76/
CATEGORIES:Ann Marie
END:VEVENT
BEGIN:VEVENT
DTSTART;TZID=America/Los_Angeles:20251107T090000
DTEND;TZID=America/Los_Angeles:20251107T103000
DTSTAMP:20260423T232754
CREATED:20250610T211650Z
LAST-MODIFIED:20250930T205955Z
UID:54157-1762506000-1762511400@bikramyogapalmdesert.com
SUMMARY:9am ANN MARIE
DESCRIPTION:
URL:https://bikramyogapalmdesert.com/class-schedule/9am-ann-marie-14/
CATEGORIES:Ann Marie
END:VEVENT
BEGIN:VEVENT
DTSTART;TZID=America/Los_Angeles:20251113T090000
DTEND;TZID=America/Los_Angeles:20251113T103000
DTSTAMP:20260423T232754
CREATED:20250610T211129Z
LAST-MODIFIED:20251109T022855Z
UID:54137-1763024400-1763029800@bikramyogapalmdesert.com
SUMMARY:9am ALIX
DESCRIPTION:
URL:https://bikramyogapalmdesert.com/class-schedule/9am-jayson-77/
CATEGORIES:Ann Marie
END:VEVENT
BEGIN:VEVENT
DTSTART;TZID=America/Los_Angeles:20251114T090000
DTEND;TZID=America/Los_Angeles:20251114T103000
DTSTAMP:20260423T232754
CREATED:20250610T211716Z
LAST-MODIFIED:20250930T205955Z
UID:54159-1763110800-1763116200@bikramyogapalmdesert.com
SUMMARY:9am ANN MARIE
DESCRIPTION:
URL:https://bikramyogapalmdesert.com/class-schedule/9am-ann-marie-15/
CATEGORIES:Ann Marie
END:VEVENT
BEGIN:VEVENT
DTSTART;TZID=America/Los_Angeles:20251120T090000
DTEND;TZID=America/Los_Angeles:20251120T103000
DTSTAMP:20260423T232754
CREATED:20250610T211153Z
LAST-MODIFIED:20250930T205955Z
UID:54139-1763629200-1763634600@bikramyogapalmdesert.com
SUMMARY:9am ANN MARIE
DESCRIPTION:
URL:https://bikramyogapalmdesert.com/class-schedule/9am-jayson-78/
CATEGORIES:Ann Marie
END:VEVENT
BEGIN:VEVENT
DTSTART;TZID=America/Los_Angeles:20251121T090000
DTEND;TZID=America/Los_Angeles:20251121T103000
DTSTAMP:20260423T232754
CREATED:20250610T211738Z
LAST-MODIFIED:20251022T172555Z
UID:54161-1763715600-1763721000@bikramyogapalmdesert.com
SUMMARY:9am LINA
DESCRIPTION:
URL:https://bikramyogapalmdesert.com/class-schedule/9am-ann-marie-17/
CATEGORIES:Ann Marie
END:VEVENT
BEGIN:VEVENT
DTSTART;TZID=America/Los_Angeles:20251128T090000
DTEND;TZID=America/Los_Angeles:20251128T103000
DTSTAMP:20260423T232754
CREATED:20250610T211808Z
LAST-MODIFIED:20250930T205954Z
UID:54163-1764320400-1764325800@bikramyogapalmdesert.com
SUMMARY:9am ANN MARIE
DESCRIPTION:
URL:https://bikramyogapalmdesert.com/class-schedule/9am-ann-marie-18/
CATEGORIES:Ann Marie
END:VEVENT
END:VCALENDAR