BEGIN:VCALENDAR
VERSION:2.0
PRODID:-//Bikram Yoga El Paseo - ECPv6.15.13//NONSGML v1.0//EN
CALSCALE:GREGORIAN
METHOD:PUBLISH
X-ORIGINAL-URL:https://bikramyogapalmdesert.com
X-WR-CALDESC:Events for Bikram Yoga El Paseo
REFRESH-INTERVAL;VALUE=DURATION:PT1H
X-Robots-Tag:noindex
X-PUBLISHED-TTL:PT1H
BEGIN:VTIMEZONE
TZID:America/Los_Angeles
BEGIN:DAYLIGHT
TZOFFSETFROM:-0800
TZOFFSETTO:-0700
TZNAME:PDT
DTSTART:20240310T100000
END:DAYLIGHT
BEGIN:STANDARD
TZOFFSETFROM:-0700
TZOFFSETTO:-0800
TZNAME:PST
DTSTART:20241103T090000
END:STANDARD
BEGIN:DAYLIGHT
TZOFFSETFROM:-0800
TZOFFSETTO:-0700
TZNAME:PDT
DTSTART:20250309T100000
END:DAYLIGHT
BEGIN:STANDARD
TZOFFSETFROM:-0700
TZOFFSETTO:-0800
TZNAME:PST
DTSTART:20251102T090000
END:STANDARD
BEGIN:DAYLIGHT
TZOFFSETFROM:-0800
TZOFFSETTO:-0700
TZNAME:PDT
DTSTART:20260308T100000
END:DAYLIGHT
BEGIN:STANDARD
TZOFFSETFROM:-0700
TZOFFSETTO:-0800
TZNAME:PST
DTSTART:20261101T090000
END:STANDARD
END:VTIMEZONE
BEGIN:VEVENT
DTSTART;TZID=America/Los_Angeles:20250610T070000
DTEND;TZID=America/Los_Angeles:20250610T083000
DTSTAMP:20260424T090058
CREATED:20250609T185504Z
LAST-MODIFIED:20250620T191821Z
UID:53701-1749538800-1749544200@bikramyogapalmdesert.com
SUMMARY:6:30am ANN MARIE*silent
DESCRIPTION:
URL:https://bikramyogapalmdesert.com/class-schedule/630-ann-marie/
LOCATION:Bikram Yoga Palm Desert\, 73-890 El Paseo Drive\, St R6-7\, Palm Desert\, CA\, 92260\, United States
CATEGORIES:Ann Marie
ORGANIZER;CN="Bikram Yoga Palm Desert":MAILTO:annmarie@bikramyogapalmdesert.com
END:VEVENT
END:VCALENDAR