BEGIN:VCALENDAR
VERSION:2.0
PRODID:-//Bikram Yoga El Paseo - ECPv6.15.13//NONSGML v1.0//EN
CALSCALE:GREGORIAN
METHOD:PUBLISH
X-WR-CALNAME:Bikram Yoga El Paseo
X-ORIGINAL-URL:https://bikramyogapalmdesert.com
X-WR-CALDESC:Events for Bikram Yoga El Paseo
REFRESH-INTERVAL;VALUE=DURATION:PT1H
X-Robots-Tag:noindex
X-PUBLISHED-TTL:PT1H
BEGIN:VTIMEZONE
TZID:America/Los_Angeles
BEGIN:DAYLIGHT
TZOFFSETFROM:-0800
TZOFFSETTO:-0700
TZNAME:PDT
DTSTART:20240310T100000
END:DAYLIGHT
BEGIN:STANDARD
TZOFFSETFROM:-0700
TZOFFSETTO:-0800
TZNAME:PST
DTSTART:20241103T090000
END:STANDARD
BEGIN:DAYLIGHT
TZOFFSETFROM:-0800
TZOFFSETTO:-0700
TZNAME:PDT
DTSTART:20250309T100000
END:DAYLIGHT
BEGIN:STANDARD
TZOFFSETFROM:-0700
TZOFFSETTO:-0800
TZNAME:PST
DTSTART:20251102T090000
END:STANDARD
BEGIN:DAYLIGHT
TZOFFSETFROM:-0800
TZOFFSETTO:-0700
TZNAME:PDT
DTSTART:20260308T100000
END:DAYLIGHT
BEGIN:STANDARD
TZOFFSETFROM:-0700
TZOFFSETTO:-0800
TZNAME:PST
DTSTART:20261101T090000
END:STANDARD
END:VTIMEZONE
BEGIN:VEVENT
DTSTART;TZID=America/Los_Angeles:20251007T063000
DTEND;TZID=America/Los_Angeles:20251007T080000
DTSTAMP:20260423T231738
CREATED:20250611T021153Z
LAST-MODIFIED:20250930T215342Z
UID:54400-1759818600-1759824000@bikramyogapalmdesert.com
SUMMARY:6:30am DARLENE
DESCRIPTION:
URL:https://bikramyogapalmdesert.com/class-schedule/darlene-90-3/
CATEGORIES:Darlene
END:VEVENT
BEGIN:VEVENT
DTSTART;TZID=America/Los_Angeles:20250930T063000
DTEND;TZID=America/Los_Angeles:20250930T080000
DTSTAMP:20260423T231738
CREATED:20250611T021111Z
LAST-MODIFIED:20250930T215403Z
UID:54398-1759213800-1759219200@bikramyogapalmdesert.com
SUMMARY:6:30am DARLENE
DESCRIPTION:
URL:https://bikramyogapalmdesert.com/class-schedule/darlene-90-4/
CATEGORIES:Darlene
END:VEVENT
BEGIN:VEVENT
DTSTART;TZID=America/Los_Angeles:20250324T063000
DTEND;TZID=America/Los_Angeles:20250324T080000
DTSTAMP:20260423T231738
CREATED:20250128T003504Z
LAST-MODIFIED:20250930T210530Z
UID:52609-1742797800-1742803200@bikramyogapalmdesert.com
SUMMARY:DARLENE 90
DESCRIPTION:
URL:https://bikramyogapalmdesert.com/class-schedule/630am-darlene-65/
CATEGORIES:Darlene
END:VEVENT
BEGIN:VEVENT
DTSTART;TZID=America/Los_Angeles:20250317T063000
DTEND;TZID=America/Los_Angeles:20250317T080000
DTSTAMP:20260423T231738
CREATED:20250128T003428Z
LAST-MODIFIED:20250930T210545Z
UID:52607-1742193000-1742198400@bikramyogapalmdesert.com
SUMMARY:DARLENE 90
DESCRIPTION:
URL:https://bikramyogapalmdesert.com/class-schedule/630am-darlene-64/
CATEGORIES:Darlene
END:VEVENT
BEGIN:VEVENT
DTSTART;TZID=America/Los_Angeles:20250310T063000
DTEND;TZID=America/Los_Angeles:20250310T080000
DTSTAMP:20260423T231738
CREATED:20250128T003406Z
LAST-MODIFIED:20250930T210557Z
UID:52605-1741588200-1741593600@bikramyogapalmdesert.com
SUMMARY:DARLENE 90
DESCRIPTION:
URL:https://bikramyogapalmdesert.com/class-schedule/630am-darlene-63/
CATEGORIES:Darlene
END:VEVENT
BEGIN:VEVENT
DTSTART;TZID=America/Los_Angeles:20250303T063000
DTEND;TZID=America/Los_Angeles:20250303T080000
DTSTAMP:20260423T231738
CREATED:20250128T003328Z
LAST-MODIFIED:20250930T210608Z
UID:52603-1740983400-1740988800@bikramyogapalmdesert.com
SUMMARY:DARLENE 90
DESCRIPTION:
URL:https://bikramyogapalmdesert.com/class-schedule/630am-darlene-62/
CATEGORIES:Darlene
END:VEVENT
BEGIN:VEVENT
DTSTART;TZID=America/Los_Angeles:20250224T063000
DTEND;TZID=America/Los_Angeles:20250224T080000
DTSTAMP:20260423T231738
CREATED:20241130T003039Z
LAST-MODIFIED:20250930T210620Z
UID:52350-1740378600-1740384000@bikramyogapalmdesert.com
SUMMARY:DARLENE 90
DESCRIPTION:
URL:https://bikramyogapalmdesert.com/class-schedule/630am-darlene-61/
CATEGORIES:Darlene
END:VEVENT
BEGIN:VEVENT
DTSTART;TZID=America/Los_Angeles:20250217T063000
DTEND;TZID=America/Los_Angeles:20250217T080000
DTSTAMP:20260423T231738
CREATED:20241130T003017Z
LAST-MODIFIED:20250930T210646Z
UID:52348-1739773800-1739779200@bikramyogapalmdesert.com
SUMMARY:DARLENE 90
DESCRIPTION:
URL:https://bikramyogapalmdesert.com/class-schedule/630am-darlene-60/
CATEGORIES:Darlene
END:VEVENT
BEGIN:VEVENT
DTSTART;TZID=America/Los_Angeles:20250210T063000
DTEND;TZID=America/Los_Angeles:20250210T080000
DTSTAMP:20260423T231738
CREATED:20241130T002946Z
LAST-MODIFIED:20250930T210654Z
UID:52346-1739169000-1739174400@bikramyogapalmdesert.com
SUMMARY:6:30am DARLENE
DESCRIPTION:
URL:https://bikramyogapalmdesert.com/class-schedule/630am-darlene-59/
CATEGORIES:Darlene
END:VEVENT
BEGIN:VEVENT
DTSTART;TZID=America/Los_Angeles:20250203T063000
DTEND;TZID=America/Los_Angeles:20250203T080000
DTSTAMP:20260423T231738
CREATED:20241130T002923Z
LAST-MODIFIED:20250930T210053Z
UID:52344-1738564200-1738569600@bikramyogapalmdesert.com
SUMMARY:6:30am DARLENE
DESCRIPTION:
URL:https://bikramyogapalmdesert.com/class-schedule/630am-darlene-58/
CATEGORIES:Darlene
END:VEVENT
BEGIN:VEVENT
DTSTART;TZID=America/Los_Angeles:20250127T063000
DTEND;TZID=America/Los_Angeles:20250127T080000
DTSTAMP:20260423T231738
CREATED:20240604T161031Z
LAST-MODIFIED:20250930T210054Z
UID:51666-1737959400-1737964800@bikramyogapalmdesert.com
SUMMARY:6:30am DARLENE
DESCRIPTION:
URL:https://bikramyogapalmdesert.com/class-schedule/630am-darlene-57/
CATEGORIES:Darlene
END:VEVENT
BEGIN:VEVENT
DTSTART;TZID=America/Los_Angeles:20250120T063000
DTEND;TZID=America/Los_Angeles:20250120T080000
DTSTAMP:20260423T231738
CREATED:20240604T161008Z
LAST-MODIFIED:20250930T210054Z
UID:51664-1737354600-1737360000@bikramyogapalmdesert.com
SUMMARY:6:30am DARLENE
DESCRIPTION:
URL:https://bikramyogapalmdesert.com/class-schedule/630am-darlene-56/
CATEGORIES:Darlene
END:VEVENT
BEGIN:VEVENT
DTSTART;TZID=America/Los_Angeles:20250113T063000
DTEND;TZID=America/Los_Angeles:20250113T080000
DTSTAMP:20260423T231738
CREATED:20240604T160859Z
LAST-MODIFIED:20250930T210054Z
UID:51662-1736749800-1736755200@bikramyogapalmdesert.com
SUMMARY:6:30am DARLENE
DESCRIPTION:
URL:https://bikramyogapalmdesert.com/class-schedule/630am-darlene-55/
CATEGORIES:Darlene
END:VEVENT
END:VCALENDAR