BEGIN:VCALENDAR
VERSION:2.0
PRODID:-//Bikram Yoga El Paseo - ECPv6.15.13//NONSGML v1.0//EN
CALSCALE:GREGORIAN
METHOD:PUBLISH
X-WR-CALNAME:Bikram Yoga El Paseo
X-ORIGINAL-URL:https://bikramyogapalmdesert.com
X-WR-CALDESC:Events for Bikram Yoga El Paseo
REFRESH-INTERVAL;VALUE=DURATION:PT1H
X-Robots-Tag:noindex
X-PUBLISHED-TTL:PT1H
BEGIN:VTIMEZONE
TZID:America/Los_Angeles
BEGIN:DAYLIGHT
TZOFFSETFROM:-0800
TZOFFSETTO:-0700
TZNAME:PDT
DTSTART:20240310T100000
END:DAYLIGHT
BEGIN:STANDARD
TZOFFSETFROM:-0700
TZOFFSETTO:-0800
TZNAME:PST
DTSTART:20241103T090000
END:STANDARD
BEGIN:DAYLIGHT
TZOFFSETFROM:-0800
TZOFFSETTO:-0700
TZNAME:PDT
DTSTART:20250309T100000
END:DAYLIGHT
BEGIN:STANDARD
TZOFFSETFROM:-0700
TZOFFSETTO:-0800
TZNAME:PST
DTSTART:20251102T090000
END:STANDARD
BEGIN:DAYLIGHT
TZOFFSETFROM:-0800
TZOFFSETTO:-0700
TZNAME:PDT
DTSTART:20260308T100000
END:DAYLIGHT
BEGIN:STANDARD
TZOFFSETFROM:-0700
TZOFFSETTO:-0800
TZNAME:PST
DTSTART:20261101T090000
END:STANDARD
END:VTIMEZONE
BEGIN:VEVENT
DTSTART;TZID=America/Los_Angeles:20251101T100000
DTEND;TZID=America/Los_Angeles:20251101T113000
DTSTAMP:20260424T005344
CREATED:20250610T004811Z
LAST-MODIFIED:20251001T211121Z
UID:53877-1761991200-1761996600@bikramyogapalmdesert.com
SUMMARY:10am LEESANN
DESCRIPTION:
URL:https://bikramyogapalmdesert.com/class-schedule/10am-jayson-56/
CATEGORIES:Leesann
END:VEVENT
BEGIN:VEVENT
DTSTART;TZID=America/Los_Angeles:20251103T063000
DTEND;TZID=America/Los_Angeles:20251103T080000
DTSTAMP:20260424T005344
CREATED:20250610T202341Z
LAST-MODIFIED:20250930T205153Z
UID:53973-1762151400-1762156800@bikramyogapalmdesert.com
SUMMARY:6:30am  LEESANN
DESCRIPTION:
URL:https://bikramyogapalmdesert.com/class-schedule/630am-ann-marie-35/
CATEGORIES:Leesann
END:VEVENT
BEGIN:VEVENT
DTSTART;TZID=America/Los_Angeles:20251108T100000
DTEND;TZID=America/Los_Angeles:20251108T113000
DTSTAMP:20260424T005344
CREATED:20250610T004840Z
LAST-MODIFIED:20250930T205154Z
UID:53879-1762596000-1762601400@bikramyogapalmdesert.com
SUMMARY:10am LEESANN
DESCRIPTION:
URL:https://bikramyogapalmdesert.com/class-schedule/10am-jayson-57/
CATEGORIES:Leesann
END:VEVENT
BEGIN:VEVENT
DTSTART;TZID=America/Los_Angeles:20251110T063000
DTEND;TZID=America/Los_Angeles:20251110T080000
DTSTAMP:20260424T005344
CREATED:20250610T202544Z
LAST-MODIFIED:20250930T205153Z
UID:53975-1762756200-1762761600@bikramyogapalmdesert.com
SUMMARY:6:30am  LEESANN
DESCRIPTION:
URL:https://bikramyogapalmdesert.com/class-schedule/630am-ann-marie-36/
CATEGORIES:Leesann
END:VEVENT
BEGIN:VEVENT
DTSTART;TZID=America/Los_Angeles:20251115T100000
DTEND;TZID=America/Los_Angeles:20251115T113000
DTSTAMP:20260424T005344
CREATED:20250610T004905Z
LAST-MODIFIED:20251022T172636Z
UID:53881-1763200800-1763206200@bikramyogapalmdesert.com
SUMMARY:10am ALIX
DESCRIPTION:
URL:https://bikramyogapalmdesert.com/class-schedule/10am-jayson-58/
CATEGORIES:Leesann
END:VEVENT
BEGIN:VEVENT
DTSTART;TZID=America/Los_Angeles:20251117T063000
DTEND;TZID=America/Los_Angeles:20251117T080000
DTSTAMP:20260424T005344
CREATED:20250610T202612Z
LAST-MODIFIED:20251022T172617Z
UID:53977-1763361000-1763366400@bikramyogapalmdesert.com
SUMMARY:6:30am DARLENE
DESCRIPTION:
URL:https://bikramyogapalmdesert.com/class-schedule/630am-ann-marie-37/
CATEGORIES:Leesann
END:VEVENT
BEGIN:VEVENT
DTSTART;TZID=America/Los_Angeles:20251122T100000
DTEND;TZID=America/Los_Angeles:20251122T113000
DTSTAMP:20260424T005344
CREATED:20250610T004923Z
LAST-MODIFIED:20250930T205154Z
UID:53883-1763805600-1763811000@bikramyogapalmdesert.com
SUMMARY:10am LEESANN
DESCRIPTION:
URL:https://bikramyogapalmdesert.com/class-schedule/10am-jayson-59/
CATEGORIES:Leesann
END:VEVENT
BEGIN:VEVENT
DTSTART;TZID=America/Los_Angeles:20251124T063000
DTEND;TZID=America/Los_Angeles:20251124T080000
DTSTAMP:20260424T005344
CREATED:20250610T202639Z
LAST-MODIFIED:20250930T205153Z
UID:53979-1763965800-1763971200@bikramyogapalmdesert.com
SUMMARY:6:30am  LEESANN
DESCRIPTION:
URL:https://bikramyogapalmdesert.com/class-schedule/630am-ann-marie-38/
CATEGORIES:Leesann
END:VEVENT
BEGIN:VEVENT
DTSTART;TZID=America/Los_Angeles:20251129T100000
DTEND;TZID=America/Los_Angeles:20251129T113000
DTSTAMP:20260424T005344
CREATED:20250610T005015Z
LAST-MODIFIED:20250930T205154Z
UID:53885-1764410400-1764415800@bikramyogapalmdesert.com
SUMMARY:10am LEESANN
DESCRIPTION:
URL:https://bikramyogapalmdesert.com/class-schedule/10am-jayson-60/
CATEGORIES:Leesann
END:VEVENT
END:VCALENDAR