BEGIN:VCALENDAR
VERSION:2.0
PRODID:-//Bikram Yoga El Paseo - ECPv6.15.13//NONSGML v1.0//EN
CALSCALE:GREGORIAN
METHOD:PUBLISH
X-ORIGINAL-URL:https://bikramyogapalmdesert.com
X-WR-CALDESC:Events for Bikram Yoga El Paseo
REFRESH-INTERVAL;VALUE=DURATION:PT1H
X-Robots-Tag:noindex
X-PUBLISHED-TTL:PT1H
BEGIN:VTIMEZONE
TZID:America/Los_Angeles
BEGIN:DAYLIGHT
TZOFFSETFROM:-0800
TZOFFSETTO:-0700
TZNAME:PDT
DTSTART:20240310T100000
END:DAYLIGHT
BEGIN:STANDARD
TZOFFSETFROM:-0700
TZOFFSETTO:-0800
TZNAME:PST
DTSTART:20241103T090000
END:STANDARD
BEGIN:DAYLIGHT
TZOFFSETFROM:-0800
TZOFFSETTO:-0700
TZNAME:PDT
DTSTART:20250309T100000
END:DAYLIGHT
BEGIN:STANDARD
TZOFFSETFROM:-0700
TZOFFSETTO:-0800
TZNAME:PST
DTSTART:20251102T090000
END:STANDARD
BEGIN:DAYLIGHT
TZOFFSETFROM:-0800
TZOFFSETTO:-0700
TZNAME:PDT
DTSTART:20260308T100000
END:DAYLIGHT
BEGIN:STANDARD
TZOFFSETFROM:-0700
TZOFFSETTO:-0800
TZNAME:PST
DTSTART:20261101T090000
END:STANDARD
END:VTIMEZONE
BEGIN:VEVENT
DTSTART;TZID=America/Los_Angeles:20251027T090000
DTEND;TZID=America/Los_Angeles:20251027T103000
DTSTAMP:20260423T202155
CREATED:20250611T020910Z
LAST-MODIFIED:20250930T205757Z
UID:54390-1761555600-1761561000@bikramyogapalmdesert.com
SUMMARY:9am LINA
DESCRIPTION:
URL:https://bikramyogapalmdesert.com/class-schedule/9am-jayson-94/
CATEGORIES:Lina
END:VEVENT
BEGIN:VEVENT
DTSTART;TZID=America/Los_Angeles:20251022T180000
DTEND;TZID=America/Los_Angeles:20251022T190000
DTSTAMP:20260423T202155
CREATED:20250611T025058Z
LAST-MODIFIED:20251001T211652Z
UID:54532-1761156000-1761159600@bikramyogapalmdesert.com
SUMMARY:6pm LINA 60/$18
DESCRIPTION:
URL:https://bikramyogapalmdesert.com/class-schedule/6pm-lina-18-60min-66/
CATEGORIES:Lina
END:VEVENT
BEGIN:VEVENT
DTSTART;TZID=America/Los_Angeles:20251021T160000
DTEND;TZID=America/Los_Angeles:20251021T173000
DTSTAMP:20260423T202155
CREATED:20250611T021833Z
LAST-MODIFIED:20250930T211030Z
UID:54420-1761062400-1761067800@bikramyogapalmdesert.com
SUMMARY:4pm LINA
DESCRIPTION:
URL:https://bikramyogapalmdesert.com/class-schedule/4pm-lina-200/
CATEGORIES:Lina
END:VEVENT
BEGIN:VEVENT
DTSTART;TZID=America/Los_Angeles:20251020T180000
DTEND;TZID=America/Los_Angeles:20251020T190000
DTSTAMP:20260423T202155
CREATED:20250611T024553Z
LAST-MODIFIED:20251001T211723Z
UID:54516-1760983200-1760986800@bikramyogapalmdesert.com
SUMMARY:6pm LINA 60/$18
DESCRIPTION:
URL:https://bikramyogapalmdesert.com/class-schedule/6pm-lina-18-60min-58/
CATEGORIES:Lina
END:VEVENT
BEGIN:VEVENT
DTSTART;TZID=America/Los_Angeles:20251020T090000
DTEND;TZID=America/Los_Angeles:20251020T103000
DTSTAMP:20260423T202155
CREATED:20250611T020849Z
LAST-MODIFIED:20250930T205757Z
UID:54388-1760950800-1760956200@bikramyogapalmdesert.com
SUMMARY:9am LINA
DESCRIPTION:
URL:https://bikramyogapalmdesert.com/class-schedule/9am-jayson-93/
CATEGORIES:Lina
END:VEVENT
BEGIN:VEVENT
DTSTART;TZID=America/Los_Angeles:20251016T160000
DTEND;TZID=America/Los_Angeles:20251016T173000
DTSTAMP:20260423T202155
CREATED:20250611T021855Z
LAST-MODIFIED:20250930T211523Z
UID:54422-1760630400-1760635800@bikramyogapalmdesert.com
SUMMARY:4pm LINA
DESCRIPTION:
URL:https://bikramyogapalmdesert.com/class-schedule/4pm-lina-201/
CATEGORIES:Lina
END:VEVENT
BEGIN:VEVENT
DTSTART;TZID=America/Los_Angeles:20251015T180000
DTEND;TZID=America/Los_Angeles:20251015T190000
DTSTAMP:20260423T202155
CREATED:20250611T025028Z
LAST-MODIFIED:20251001T211956Z
UID:54530-1760551200-1760554800@bikramyogapalmdesert.com
SUMMARY:6pm LINA 60/$18
DESCRIPTION:
URL:https://bikramyogapalmdesert.com/class-schedule/6pm-lina-18-60min-65/
CATEGORIES:Lina
END:VEVENT
BEGIN:VEVENT
DTSTART;TZID=America/Los_Angeles:20251014T160000
DTEND;TZID=America/Los_Angeles:20251014T173000
DTSTAMP:20260423T202155
CREATED:20250611T021804Z
LAST-MODIFIED:20250930T211832Z
UID:54418-1760457600-1760463000@bikramyogapalmdesert.com
SUMMARY:4pm LINA
DESCRIPTION:
URL:https://bikramyogapalmdesert.com/class-schedule/4pm-lina-199/
CATEGORIES:Lina
END:VEVENT
BEGIN:VEVENT
DTSTART;TZID=America/Los_Angeles:20251013T180000
DTEND;TZID=America/Los_Angeles:20251013T190000
DTSTAMP:20260423T202155
CREATED:20250611T024521Z
LAST-MODIFIED:20251001T212027Z
UID:54514-1760378400-1760382000@bikramyogapalmdesert.com
SUMMARY:6pm LINA 60/$18
DESCRIPTION:
URL:https://bikramyogapalmdesert.com/class-schedule/6pm-lina-18-60min-57/
CATEGORIES:Lina
END:VEVENT
BEGIN:VEVENT
DTSTART;TZID=America/Los_Angeles:20251010T063000
DTEND;TZID=America/Los_Angeles:20251010T080000
DTSTAMP:20260423T202155
CREATED:20250611T023048Z
LAST-MODIFIED:20250930T205756Z
UID:54464-1760077800-1760083200@bikramyogapalmdesert.com
SUMMARY:6:30am LINA
DESCRIPTION:
URL:https://bikramyogapalmdesert.com/class-schedule/630am-lina-171/
CATEGORIES:Lina
END:VEVENT
BEGIN:VEVENT
DTSTART;TZID=America/Los_Angeles:20251008T180000
DTEND;TZID=America/Los_Angeles:20251008T190000
DTSTAMP:20260423T202155
CREATED:20250611T024942Z
LAST-MODIFIED:20251001T212127Z
UID:54528-1759946400-1759950000@bikramyogapalmdesert.com
SUMMARY:6pm LINA 60/$18
DESCRIPTION:
URL:https://bikramyogapalmdesert.com/class-schedule/6pm-lina-18-60min-64/
CATEGORIES:Lina
END:VEVENT
BEGIN:VEVENT
DTSTART;TZID=America/Los_Angeles:20251007T160000
DTEND;TZID=America/Los_Angeles:20251007T173000
DTSTAMP:20260423T202155
CREATED:20250611T021718Z
LAST-MODIFIED:20250930T212436Z
UID:54416-1759852800-1759858200@bikramyogapalmdesert.com
SUMMARY:4pm LINA
DESCRIPTION:
URL:https://bikramyogapalmdesert.com/class-schedule/4pm-lina-198/
CATEGORIES:Lina
END:VEVENT
BEGIN:VEVENT
DTSTART;TZID=America/Los_Angeles:20251006T180000
DTEND;TZID=America/Los_Angeles:20251006T190000
DTSTAMP:20260423T202155
CREATED:20250611T024459Z
LAST-MODIFIED:20251001T212156Z
UID:54512-1759773600-1759777200@bikramyogapalmdesert.com
SUMMARY:6pm LINA 60/$18
DESCRIPTION:
URL:https://bikramyogapalmdesert.com/class-schedule/6pm-lina-18-60min-56/
CATEGORIES:Lina
END:VEVENT
BEGIN:VEVENT
DTSTART;TZID=America/Los_Angeles:20251003T063000
DTEND;TZID=America/Los_Angeles:20251003T080000
DTSTAMP:20260423T202155
CREATED:20250611T023012Z
LAST-MODIFIED:20250930T205756Z
UID:54462-1759473000-1759478400@bikramyogapalmdesert.com
SUMMARY:6:30am LINA
DESCRIPTION:
URL:https://bikramyogapalmdesert.com/class-schedule/630am-lina-170/
CATEGORIES:Lina
END:VEVENT
BEGIN:VEVENT
DTSTART;TZID=America/Los_Angeles:20251001T180000
DTEND;TZID=America/Los_Angeles:20251001T190000
DTSTAMP:20260423T202155
CREATED:20250611T024855Z
LAST-MODIFIED:20251001T212255Z
UID:54526-1759341600-1759345200@bikramyogapalmdesert.com
SUMMARY:6pm LEESANN 60/$18
DESCRIPTION:
URL:https://bikramyogapalmdesert.com/class-schedule/6pm-lina-18-60min-63/
CATEGORIES:Lina
END:VEVENT
BEGIN:VEVENT
DTSTART;TZID=America/Los_Angeles:20250930T063000
DTEND;TZID=America/Los_Angeles:20250930T080000
DTSTAMP:20260423T202155
CREATED:20250611T021632Z
LAST-MODIFIED:20250930T205757Z
UID:54414-1759213800-1759219200@bikramyogapalmdesert.com
SUMMARY:4pm LINA
DESCRIPTION:
URL:https://bikramyogapalmdesert.com/class-schedule/4pm-lina-197/
CATEGORIES:Lina
END:VEVENT
BEGIN:VEVENT
DTSTART;TZID=America/Los_Angeles:20250929T103000
DTEND;TZID=America/Los_Angeles:20250929T120000
DTSTAMP:20260423T202155
CREATED:20250611T024405Z
LAST-MODIFIED:20251001T212637Z
UID:54510-1759141800-1759147200@bikramyogapalmdesert.com
SUMMARY:6pm LINA 60/$18
DESCRIPTION:
URL:https://bikramyogapalmdesert.com/class-schedule/6pm-lina-18-60min-55/
CATEGORIES:Lina
END:VEVENT
BEGIN:VEVENT
DTSTART;TZID=America/Los_Angeles:20250924T110000
DTEND;TZID=America/Los_Angeles:20250924T123000
DTSTAMP:20260423T202155
CREATED:20250611T024821Z
LAST-MODIFIED:20250930T205755Z
UID:54524-1758711600-1758717000@bikramyogapalmdesert.com
SUMMARY:6pm LINA $18/60min
DESCRIPTION:
URL:https://bikramyogapalmdesert.com/class-schedule/6pm-lina-18-60min-62/
CATEGORIES:Lina
END:VEVENT
BEGIN:VEVENT
DTSTART;TZID=America/Los_Angeles:20250923T063000
DTEND;TZID=America/Los_Angeles:20250923T080000
DTSTAMP:20260423T202155
CREATED:20250611T021609Z
LAST-MODIFIED:20250930T205757Z
UID:54412-1758609000-1758614400@bikramyogapalmdesert.com
SUMMARY:4pm LINA
DESCRIPTION:
URL:https://bikramyogapalmdesert.com/class-schedule/4pm-lina-196/
CATEGORIES:Lina
END:VEVENT
BEGIN:VEVENT
DTSTART;TZID=America/Los_Angeles:20250922T103000
DTEND;TZID=America/Los_Angeles:20250922T120000
DTSTAMP:20260423T202155
CREATED:20250611T024344Z
LAST-MODIFIED:20250930T205756Z
UID:54508-1758537000-1758542400@bikramyogapalmdesert.com
SUMMARY:6pm LINA $18/60min
DESCRIPTION:
URL:https://bikramyogapalmdesert.com/class-schedule/6pm-lina-18-60min-54/
CATEGORIES:Lina
END:VEVENT
BEGIN:VEVENT
DTSTART;TZID=America/Los_Angeles:20250919T063000
DTEND;TZID=America/Los_Angeles:20250919T080000
DTSTAMP:20260423T202155
CREATED:20250611T022912Z
LAST-MODIFIED:20250930T205756Z
UID:54458-1758263400-1758268800@bikramyogapalmdesert.com
SUMMARY:6:30am LINA
DESCRIPTION:
URL:https://bikramyogapalmdesert.com/class-schedule/630am-lina-168/
CATEGORIES:Lina
END:VEVENT
BEGIN:VEVENT
DTSTART;TZID=America/Los_Angeles:20250917T100000
DTEND;TZID=America/Los_Angeles:20250917T113000
DTSTAMP:20260423T202155
CREATED:20250611T024754Z
LAST-MODIFIED:20250930T205755Z
UID:54522-1758103200-1758108600@bikramyogapalmdesert.com
SUMMARY:6pm LINA $18/60min
DESCRIPTION:
URL:https://bikramyogapalmdesert.com/class-schedule/6pm-lina-18-60min-61/
CATEGORIES:Lina
END:VEVENT
BEGIN:VEVENT
DTSTART;TZID=America/Los_Angeles:20250916T063000
DTEND;TZID=America/Los_Angeles:20250916T080000
DTSTAMP:20260423T202155
CREATED:20250611T021546Z
LAST-MODIFIED:20250930T205757Z
UID:54410-1758004200-1758009600@bikramyogapalmdesert.com
SUMMARY:4pm LINA
DESCRIPTION:
URL:https://bikramyogapalmdesert.com/class-schedule/4pm-lina-195/
CATEGORIES:Lina
END:VEVENT
BEGIN:VEVENT
DTSTART;TZID=America/Los_Angeles:20250915T103000
DTEND;TZID=America/Los_Angeles:20250915T120000
DTSTAMP:20260423T202155
CREATED:20250611T024303Z
LAST-MODIFIED:20250930T205756Z
UID:54506-1757932200-1757937600@bikramyogapalmdesert.com
SUMMARY:6pm LINA $18/60min
DESCRIPTION:
URL:https://bikramyogapalmdesert.com/class-schedule/6pm-lina-18-60min-53/
CATEGORIES:Lina
END:VEVENT
BEGIN:VEVENT
DTSTART;TZID=America/Los_Angeles:20250912T063000
DTEND;TZID=America/Los_Angeles:20250912T080000
DTSTAMP:20260423T202155
CREATED:20250611T022851Z
LAST-MODIFIED:20250930T205756Z
UID:54456-1757658600-1757664000@bikramyogapalmdesert.com
SUMMARY:6:30am LINA
DESCRIPTION:
URL:https://bikramyogapalmdesert.com/class-schedule/630am-lina-167/
CATEGORIES:Lina
END:VEVENT
BEGIN:VEVENT
DTSTART;TZID=America/Los_Angeles:20250910T110000
DTEND;TZID=America/Los_Angeles:20250910T123000
DTSTAMP:20260423T202155
CREATED:20250611T024730Z
LAST-MODIFIED:20250930T205755Z
UID:54520-1757502000-1757507400@bikramyogapalmdesert.com
SUMMARY:6pm LINA $18/60min
DESCRIPTION:
URL:https://bikramyogapalmdesert.com/class-schedule/6pm-lina-18-60min-60/
CATEGORIES:Lina
END:VEVENT
BEGIN:VEVENT
DTSTART;TZID=America/Los_Angeles:20250909T103000
DTEND;TZID=America/Los_Angeles:20250909T120000
DTSTAMP:20260423T202155
CREATED:20250611T021517Z
LAST-MODIFIED:20250930T205757Z
UID:54408-1757413800-1757419200@bikramyogapalmdesert.com
SUMMARY:4pm LINA
DESCRIPTION:
URL:https://bikramyogapalmdesert.com/class-schedule/4pm-lina-194/
CATEGORIES:Lina
END:VEVENT
BEGIN:VEVENT
DTSTART;TZID=America/Los_Angeles:20250908T103000
DTEND;TZID=America/Los_Angeles:20250908T120000
DTSTAMP:20260423T202155
CREATED:20250611T024240Z
LAST-MODIFIED:20250930T205756Z
UID:54504-1757327400-1757332800@bikramyogapalmdesert.com
SUMMARY:6pm LINA $18/60min
DESCRIPTION:
URL:https://bikramyogapalmdesert.com/class-schedule/6pm-lina-18-60min-29/
CATEGORIES:Lina
END:VEVENT
END:VCALENDAR