BEGIN:VCALENDAR
VERSION:2.0
PRODID:-//Bikram Yoga El Paseo - ECPv6.15.13//NONSGML v1.0//EN
CALSCALE:GREGORIAN
METHOD:PUBLISH
X-WR-CALNAME:Bikram Yoga El Paseo
X-ORIGINAL-URL:https://bikramyogapalmdesert.com
X-WR-CALDESC:Events for Bikram Yoga El Paseo
REFRESH-INTERVAL;VALUE=DURATION:PT1H
X-Robots-Tag:noindex
X-PUBLISHED-TTL:PT1H
BEGIN:VTIMEZONE
TZID:America/Los_Angeles
BEGIN:DAYLIGHT
TZOFFSETFROM:-0800
TZOFFSETTO:-0700
TZNAME:PDT
DTSTART:20250309T100000
END:DAYLIGHT
BEGIN:STANDARD
TZOFFSETFROM:-0700
TZOFFSETTO:-0800
TZNAME:PST
DTSTART:20251102T090000
END:STANDARD
BEGIN:DAYLIGHT
TZOFFSETFROM:-0800
TZOFFSETTO:-0700
TZNAME:PDT
DTSTART:20260308T100000
END:DAYLIGHT
BEGIN:STANDARD
TZOFFSETFROM:-0700
TZOFFSETTO:-0800
TZNAME:PST
DTSTART:20261101T090000
END:STANDARD
BEGIN:DAYLIGHT
TZOFFSETFROM:-0800
TZOFFSETTO:-0700
TZNAME:PDT
DTSTART:20270314T100000
END:DAYLIGHT
BEGIN:STANDARD
TZOFFSETFROM:-0700
TZOFFSETTO:-0800
TZNAME:PST
DTSTART:20271107T090000
END:STANDARD
END:VTIMEZONE
BEGIN:VEVENT
DTSTART;TZID=America/Los_Angeles:20260206T160000
DTEND;TZID=America/Los_Angeles:20260206T173000
DTSTAMP:20260423T160452
CREATED:20251109T223053Z
LAST-MODIFIED:20251109T223055Z
UID:57972-1770393600-1770399000@bikramyogapalmdesert.com
SUMMARY:4pm ALIX
DESCRIPTION:
URL:https://bikramyogapalmdesert.com/class-schedule/4pm-alix-7/
END:VEVENT
BEGIN:VEVENT
DTSTART;TZID=America/Los_Angeles:20260206T090000
DTEND;TZID=America/Los_Angeles:20260206T103000
DTSTAMP:20260423T160452
CREATED:20251109T220557Z
LAST-MODIFIED:20251109T220559Z
UID:57936-1770368400-1770373800@bikramyogapalmdesert.com
SUMMARY:9am ANN MARIE
DESCRIPTION:
URL:https://bikramyogapalmdesert.com/class-schedule/9am-ann-marie/
END:VEVENT
BEGIN:VEVENT
DTSTART;TZID=America/Los_Angeles:20260206T063000
DTEND;TZID=America/Los_Angeles:20260206T080000
DTSTAMP:20260423T160452
CREATED:20251109T214103Z
LAST-MODIFIED:20251109T214104Z
UID:57885-1770359400-1770364800@bikramyogapalmdesert.com
SUMMARY:6:30am ANN MARIE*silent
DESCRIPTION:
URL:https://bikramyogapalmdesert.com/class-schedule/630am-ann-mariesilent-42/
END:VEVENT
BEGIN:VEVENT
DTSTART;TZID=America/Los_Angeles:20260205T180000
DTEND;TZID=America/Los_Angeles:20260205T190000
DTSTAMP:20260423T160452
CREATED:20251109T225715Z
LAST-MODIFIED:20260112T021332Z
UID:58020-1770314400-1770318000@bikramyogapalmdesert.com
SUMMARY:6pm ANN MARIE*60min
DESCRIPTION:
URL:https://bikramyogapalmdesert.com/class-schedule/6pm-alix60min/
END:VEVENT
BEGIN:VEVENT
DTSTART;TZID=America/Los_Angeles:20260205T160000
DTEND;TZID=America/Los_Angeles:20260205T173000
DTSTAMP:20260423T160452
CREATED:20251109T222454Z
LAST-MODIFIED:20260112T021341Z
UID:57960-1770307200-1770312600@bikramyogapalmdesert.com
SUMMARY:4pm DARLENE
DESCRIPTION:
URL:https://bikramyogapalmdesert.com/class-schedule/4pm-alix/
END:VEVENT
BEGIN:VEVENT
DTSTART;TZID=America/Los_Angeles:20260205T090000
DTEND;TZID=America/Los_Angeles:20260205T103000
DTSTAMP:20260423T160452
CREATED:20251109T215952Z
LAST-MODIFIED:20251109T215954Z
UID:57924-1770282000-1770287400@bikramyogapalmdesert.com
SUMMARY:9am KATTY
DESCRIPTION:
URL:https://bikramyogapalmdesert.com/class-schedule/9am-katty/
END:VEVENT
BEGIN:VEVENT
DTSTART;TZID=America/Los_Angeles:20260204T180000
DTEND;TZID=America/Los_Angeles:20260204T190000
DTSTAMP:20260423T160452
CREATED:20251109T223830Z
LAST-MODIFIED:20251109T223831Z
UID:57988-1770228000-1770231600@bikramyogapalmdesert.com
SUMMARY:6pm LINA*60min
DESCRIPTION:
URL:https://bikramyogapalmdesert.com/class-schedule/6pm-lina60min-3/
END:VEVENT
BEGIN:VEVENT
DTSTART;TZID=America/Los_Angeles:20260204T090000
DTEND;TZID=America/Los_Angeles:20260204T103000
DTSTAMP:20260423T160452
CREATED:20251109T215428Z
LAST-MODIFIED:20251109T215430Z
UID:57912-1770195600-1770201000@bikramyogapalmdesert.com
SUMMARY:9am ALIX
DESCRIPTION:
URL:https://bikramyogapalmdesert.com/class-schedule/9am-alix/
END:VEVENT
BEGIN:VEVENT
DTSTART;TZID=America/Los_Angeles:20260204T063000
DTEND;TZID=America/Los_Angeles:20260204T080000
DTSTAMP:20260423T160452
CREATED:20251109T213630Z
LAST-MODIFIED:20251109T213632Z
UID:57877-1770186600-1770192000@bikramyogapalmdesert.com
SUMMARY:6:30am ANN MARIE*silent
DESCRIPTION:
URL:https://bikramyogapalmdesert.com/class-schedule/630am-ann-mariesilent-39/
END:VEVENT
BEGIN:VEVENT
DTSTART;TZID=America/Los_Angeles:20260203T180000
DTEND;TZID=America/Los_Angeles:20260203T190000
DTSTAMP:20260423T160452
CREATED:20251109T223746Z
LAST-MODIFIED:20251109T223748Z
UID:57986-1770141600-1770145200@bikramyogapalmdesert.com
SUMMARY:6pm LINA*60min
DESCRIPTION:
URL:https://bikramyogapalmdesert.com/class-schedule/6pm-lina60min-2/
END:VEVENT
BEGIN:VEVENT
DTSTART;TZID=America/Los_Angeles:20260203T160000
DTEND;TZID=America/Los_Angeles:20260203T173000
DTSTAMP:20260423T160452
CREATED:20251109T221314Z
LAST-MODIFIED:20251109T221316Z
UID:57948-1770134400-1770139800@bikramyogapalmdesert.com
SUMMARY:4pm LINA
DESCRIPTION:
URL:https://bikramyogapalmdesert.com/class-schedule/4pm-lina-2/
END:VEVENT
BEGIN:VEVENT
DTSTART;TZID=America/Los_Angeles:20260203T063000
DTEND;TZID=America/Los_Angeles:20260203T080000
DTSTAMP:20260423T160452
CREATED:20251109T213846Z
LAST-MODIFIED:20251109T213848Z
UID:57879-1770100200-1770105600@bikramyogapalmdesert.com
SUMMARY:6:30am DARLENE
DESCRIPTION:
URL:https://bikramyogapalmdesert.com/class-schedule/630am-darlene-6/
END:VEVENT
BEGIN:VEVENT
DTSTART;TZID=America/Los_Angeles:20260202T180000
DTEND;TZID=America/Los_Angeles:20260202T190000
DTSTAMP:20260423T160452
CREATED:20251109T223646Z
LAST-MODIFIED:20251109T223648Z
UID:57984-1770055200-1770058800@bikramyogapalmdesert.com
SUMMARY:6pm LINA*60min
DESCRIPTION:
URL:https://bikramyogapalmdesert.com/class-schedule/6pm-lina60min/
END:VEVENT
BEGIN:VEVENT
DTSTART;TZID=America/Los_Angeles:20260202T090000
DTEND;TZID=America/Los_Angeles:20260202T103000
DTSTAMP:20260423T160452
CREATED:20251109T214631Z
LAST-MODIFIED:20251109T214857Z
UID:57899-1770022800-1770028200@bikramyogapalmdesert.com
SUMMARY:9am LINA
DESCRIPTION:
URL:https://bikramyogapalmdesert.com/class-schedule/57899/
END:VEVENT
BEGIN:VEVENT
DTSTART;TZID=America/Los_Angeles:20260202T063000
DTEND;TZID=America/Los_Angeles:20260202T080000
DTSTAMP:20260423T160452
CREATED:20251109T210417Z
LAST-MODIFIED:20251109T210558Z
UID:57825-1770013800-1770019200@bikramyogapalmdesert.com
SUMMARY:6:30am LEESANN
DESCRIPTION:
URL:https://bikramyogapalmdesert.com/class-schedule/630am-leesann/
END:VEVENT
BEGIN:VEVENT
DTSTART;TZID=America/Los_Angeles:20260201T150000
DTEND;TZID=America/Los_Angeles:20260201T163000
DTSTAMP:20260423T160452
CREATED:20251011T215315Z
LAST-MODIFIED:20251011T215316Z
UID:57758-1769958000-1769963400@bikramyogapalmdesert.com
SUMMARY:3pm ALIX
DESCRIPTION:
URL:https://bikramyogapalmdesert.com/class-schedule/3pm-alix/
END:VEVENT
BEGIN:VEVENT
DTSTART;TZID=America/Los_Angeles:20260201T100000
DTEND;TZID=America/Los_Angeles:20260201T113000
DTSTAMP:20260423T160452
CREATED:20251011T215135Z
LAST-MODIFIED:20260127T181006Z
UID:57756-1769940000-1769945400@bikramyogapalmdesert.com
SUMMARY:10am ANN MARIE
DESCRIPTION:
URL:https://bikramyogapalmdesert.com/class-schedule/10am-darlene/
END:VEVENT
BEGIN:VEVENT
DTSTART;TZID=America/Los_Angeles:20260131T100000
DTEND;TZID=America/Los_Angeles:20260131T113000
DTSTAMP:20260423T160452
CREATED:20250610T005357Z
LAST-MODIFIED:20251004T222224Z
UID:53903-1769853600-1769859000@bikramyogapalmdesert.com
SUMMARY:10am LEESANN
DESCRIPTION:
URL:https://bikramyogapalmdesert.com/class-schedule/10am-jayson-69/
END:VEVENT
BEGIN:VEVENT
DTSTART;TZID=America/Los_Angeles:20260131T080000
DTEND;TZID=America/Los_Angeles:20260131T093000
DTSTAMP:20260423T160452
CREATED:20250610T004551Z
LAST-MODIFIED:20251004T222239Z
UID:53869-1769846400-1769851800@bikramyogapalmdesert.com
SUMMARY:8am ANN MARIE
DESCRIPTION:
URL:https://bikramyogapalmdesert.com/class-schedule/8am-lina-191/
CATEGORIES:Lina
END:VEVENT
BEGIN:VEVENT
DTSTART;TZID=America/Los_Angeles:20260130T160000
DTEND;TZID=America/Los_Angeles:20260130T173000
DTSTAMP:20260423T160452
CREATED:20250610T230053Z
LAST-MODIFIED:20251004T222401Z
UID:54256-1769788800-1769794200@bikramyogapalmdesert.com
SUMMARY:4pm ALIX
DESCRIPTION:
URL:https://bikramyogapalmdesert.com/class-schedule/4pm-alix-275/
CATEGORIES:Alix
END:VEVENT
BEGIN:VEVENT
DTSTART;TZID=America/Los_Angeles:20260130T090000
DTEND;TZID=America/Los_Angeles:20260130T103000
DTSTAMP:20260423T160452
CREATED:20250610T212612Z
LAST-MODIFIED:20250930T205952Z
UID:54181-1769763600-1769769000@bikramyogapalmdesert.com
SUMMARY:9am ANN MARIE
DESCRIPTION:
URL:https://bikramyogapalmdesert.com/class-schedule/9am-ann-marie-32/
CATEGORIES:Ann Marie
END:VEVENT
BEGIN:VEVENT
DTSTART;TZID=America/Los_Angeles:20260130T063000
DTEND;TZID=America/Los_Angeles:20260130T080000
DTSTAMP:20260423T160452
CREATED:20250610T205511Z
LAST-MODIFIED:20250930T205955Z
UID:54081-1769754600-1769760000@bikramyogapalmdesert.com
SUMMARY:6:30am ANN MARIE*silent
DESCRIPTION:
URL:https://bikramyogapalmdesert.com/class-schedule/630am-ann-mariesilent-37/
CATEGORIES:Ann Marie
END:VEVENT
BEGIN:VEVENT
DTSTART;TZID=America/Los_Angeles:20260129T180000
DTEND;TZID=America/Los_Angeles:20260129T190000
DTSTAMP:20260423T160452
CREATED:20250610T224056Z
LAST-MODIFIED:20251216T220832Z
UID:54358-1769709600-1769713200@bikramyogapalmdesert.com
SUMMARY:6pm ANNMARIE60/$18
DESCRIPTION:
URL:https://bikramyogapalmdesert.com/class-schedule/6pm-alix-18-60min-21/
CATEGORIES:Alix
END:VEVENT
BEGIN:VEVENT
DTSTART;TZID=America/Los_Angeles:20260129T100000
DTEND;TZID=America/Los_Angeles:20260129T113000
DTSTAMP:20260423T160452
CREATED:20250610T214542Z
LAST-MODIFIED:20251216T220630Z
UID:54230-1769680800-1769686200@bikramyogapalmdesert.com
SUMMARY:4pm DARLENE
DESCRIPTION:
URL:https://bikramyogapalmdesert.com/class-schedule/4pm-alix-262/
CATEGORIES:Alix
END:VEVENT
BEGIN:VEVENT
DTSTART;TZID=America/Los_Angeles:20260129T090000
DTEND;TZID=America/Los_Angeles:20260129T103000
DTSTAMP:20260423T160452
CREATED:20250610T211541Z
LAST-MODIFIED:20260127T181050Z
UID:54155-1769677200-1769682600@bikramyogapalmdesert.com
SUMMARY:9am ANN MARIE
DESCRIPTION:
URL:https://bikramyogapalmdesert.com/class-schedule/9am-jayson-86/
END:VEVENT
BEGIN:VEVENT
DTSTART;TZID=America/Los_Angeles:20260128T103000
DTEND;TZID=America/Los_Angeles:20260128T120000
DTSTAMP:20260423T160452
CREATED:20250610T223007Z
LAST-MODIFIED:20251004T222553Z
UID:54336-1769596200-1769601600@bikramyogapalmdesert.com
SUMMARY:6pm LINA 60/$18
DESCRIPTION:
URL:https://bikramyogapalmdesert.com/class-schedule/6pm-jayson-18-60min-13/
END:VEVENT
BEGIN:VEVENT
DTSTART;TZID=America/Los_Angeles:20260128T090000
DTEND;TZID=America/Los_Angeles:20260128T103000
DTSTAMP:20260423T160452
CREATED:20250610T210820Z
LAST-MODIFIED:20250610T210820Z
UID:54131-1769590800-1769596200@bikramyogapalmdesert.com
SUMMARY:9am ALIX
DESCRIPTION:
URL:https://bikramyogapalmdesert.com/class-schedule/9am-alix-135/
END:VEVENT
BEGIN:VEVENT
DTSTART;TZID=America/Los_Angeles:20260128T063000
DTEND;TZID=America/Los_Angeles:20260128T080000
DTSTAMP:20260423T160452
CREATED:20250610T210140Z
LAST-MODIFIED:20251004T222732Z
UID:54107-1769581800-1769587200@bikramyogapalmdesert.com
SUMMARY:6:30am ANNMARIE *silent
DESCRIPTION:
URL:https://bikramyogapalmdesert.com/class-schedule/630am-lina-166/
END:VEVENT
BEGIN:VEVENT
DTSTART;TZID=America/Los_Angeles:20260127T113000
DTEND;TZID=America/Los_Angeles:20260127T123000
DTSTAMP:20260423T160452
CREATED:20250610T221955Z
LAST-MODIFIED:20250610T221955Z
UID:54310-1769513400-1769517000@bikramyogapalmdesert.com
SUMMARY:6pm LINA $18/60min
DESCRIPTION:
URL:https://bikramyogapalmdesert.com/class-schedule/6pm-lina-18-60min-52/
END:VEVENT
BEGIN:VEVENT
DTSTART;TZID=America/Los_Angeles:20260127T090000
DTEND;TZID=America/Los_Angeles:20260127T103000
DTSTAMP:20260423T160452
CREATED:20250610T213703Z
LAST-MODIFIED:20250610T213703Z
UID:54207-1769504400-1769509800@bikramyogapalmdesert.com
SUMMARY:4pm LINA
DESCRIPTION:
URL:https://bikramyogapalmdesert.com/class-schedule/4pm-lina-193/
END:VEVENT
END:VCALENDAR