BEGIN:VCALENDAR
VERSION:2.0
PRODID:-//Bikram Yoga El Paseo - ECPv6.15.13//NONSGML v1.0//EN
CALSCALE:GREGORIAN
METHOD:PUBLISH
X-ORIGINAL-URL:https://bikramyogapalmdesert.com
X-WR-CALDESC:Events for Bikram Yoga El Paseo
REFRESH-INTERVAL;VALUE=DURATION:PT1H
X-Robots-Tag:noindex
X-PUBLISHED-TTL:PT1H
BEGIN:VTIMEZONE
TZID:America/Los_Angeles
BEGIN:DAYLIGHT
TZOFFSETFROM:-0800
TZOFFSETTO:-0700
TZNAME:PDT
DTSTART:20240310T100000
END:DAYLIGHT
BEGIN:STANDARD
TZOFFSETFROM:-0700
TZOFFSETTO:-0800
TZNAME:PST
DTSTART:20241103T090000
END:STANDARD
BEGIN:DAYLIGHT
TZOFFSETFROM:-0800
TZOFFSETTO:-0700
TZNAME:PDT
DTSTART:20250309T100000
END:DAYLIGHT
BEGIN:STANDARD
TZOFFSETFROM:-0700
TZOFFSETTO:-0800
TZNAME:PST
DTSTART:20251102T090000
END:STANDARD
BEGIN:DAYLIGHT
TZOFFSETFROM:-0800
TZOFFSETTO:-0700
TZNAME:PDT
DTSTART:20260308T100000
END:DAYLIGHT
BEGIN:STANDARD
TZOFFSETFROM:-0700
TZOFFSETTO:-0800
TZNAME:PST
DTSTART:20261101T090000
END:STANDARD
END:VTIMEZONE
BEGIN:VEVENT
DTSTART;TZID=America/Los_Angeles:20251101T080000
DTEND;TZID=America/Los_Angeles:20251101T093000
DTSTAMP:20260423T173524
CREATED:20250610T003926Z
LAST-MODIFIED:20250930T205542Z
UID:53843-1761984000-1761989400@bikramyogapalmdesert.com
SUMMARY:8am ANN MARIE
DESCRIPTION:
URL:https://bikramyogapalmdesert.com/class-schedule/8am-lina-178/
END:VEVENT
BEGIN:VEVENT
DTSTART;TZID=America/Los_Angeles:20251101T100000
DTEND;TZID=America/Los_Angeles:20251101T113000
DTSTAMP:20260423T173524
CREATED:20250610T004811Z
LAST-MODIFIED:20251001T211121Z
UID:53877-1761991200-1761996600@bikramyogapalmdesert.com
SUMMARY:10am LEESANN
DESCRIPTION:
URL:https://bikramyogapalmdesert.com/class-schedule/10am-jayson-56/
CATEGORIES:Leesann
END:VEVENT
BEGIN:VEVENT
DTSTART;TZID=America/Los_Angeles:20251102T100000
DTEND;TZID=America/Los_Angeles:20251102T113000
DTSTAMP:20260423T173524
CREATED:20250610T005728Z
LAST-MODIFIED:20251022T211907Z
UID:53913-1762077600-1762083000@bikramyogapalmdesert.com
SUMMARY:10am ALIX
DESCRIPTION:
URL:https://bikramyogapalmdesert.com/class-schedule/10am-ann-marie-89/
END:VEVENT
BEGIN:VEVENT
DTSTART;TZID=America/Los_Angeles:20251102T150000
DTEND;TZID=America/Los_Angeles:20251102T163000
DTSTAMP:20260423T173524
CREATED:20250610T010719Z
LAST-MODIFIED:20250930T204243Z
UID:53947-1762095600-1762101000@bikramyogapalmdesert.com
SUMMARY:3pm ALIX
DESCRIPTION:
URL:https://bikramyogapalmdesert.com/class-schedule/3pm-alix-51/
END:VEVENT
BEGIN:VEVENT
DTSTART;TZID=America/Los_Angeles:20251103T063000
DTEND;TZID=America/Los_Angeles:20251103T080000
DTSTAMP:20260423T173524
CREATED:20250610T202341Z
LAST-MODIFIED:20250930T205153Z
UID:53973-1762151400-1762156800@bikramyogapalmdesert.com
SUMMARY:6:30am  LEESANN
DESCRIPTION:
URL:https://bikramyogapalmdesert.com/class-schedule/630am-ann-marie-35/
CATEGORIES:Leesann
END:VEVENT
BEGIN:VEVENT
DTSTART;TZID=America/Los_Angeles:20251103T090000
DTEND;TZID=America/Los_Angeles:20251103T103000
DTSTAMP:20260423T173524
CREATED:20250610T203511Z
LAST-MODIFIED:20250930T204153Z
UID:54005-1762160400-1762165800@bikramyogapalmdesert.com
SUMMARY:9AM LINA
DESCRIPTION:
URL:https://bikramyogapalmdesert.com/class-schedule/9am-jayson-63/
END:VEVENT
BEGIN:VEVENT
DTSTART;TZID=America/Los_Angeles:20251103T180000
DTEND;TZID=America/Los_Angeles:20251103T190000
DTSTAMP:20260423T173524
CREATED:20250610T220105Z
LAST-MODIFIED:20251001T211037Z
UID:54258-1762192800-1762196400@bikramyogapalmdesert.com
SUMMARY:6pm LINA 60/$18
DESCRIPTION:
URL:https://bikramyogapalmdesert.com/class-schedule/6pm-lina-18-60min-26/
END:VEVENT
BEGIN:VEVENT
DTSTART;TZID=America/Los_Angeles:20251104T063000
DTEND;TZID=America/Los_Angeles:20251104T080000
DTSTAMP:20260423T173524
CREATED:20250610T204246Z
LAST-MODIFIED:20251001T211014Z
UID:54031-1762237800-1762243200@bikramyogapalmdesert.com
SUMMARY:6:30amANNMARIE
DESCRIPTION:
URL:https://bikramyogapalmdesert.com/class-schedule/630am-ann-mariesilent-12/
END:VEVENT
BEGIN:VEVENT
DTSTART;TZID=America/Los_Angeles:20251104T160000
DTEND;TZID=America/Los_Angeles:20251104T173000
DTSTAMP:20260423T173524
CREATED:20250610T212956Z
LAST-MODIFIED:20250930T204021Z
UID:54183-1762272000-1762277400@bikramyogapalmdesert.com
SUMMARY:4pm LINA
DESCRIPTION:
URL:https://bikramyogapalmdesert.com/class-schedule/4pm-lina-181/
END:VEVENT
BEGIN:VEVENT
DTSTART;TZID=America/Los_Angeles:20251104T180000
DTEND;TZID=America/Los_Angeles:20251104T190000
DTSTAMP:20260423T173524
CREATED:20250610T221245Z
LAST-MODIFIED:20251001T210943Z
UID:54286-1762279200-1762282800@bikramyogapalmdesert.com
SUMMARY:6pm LINA 60/$18
DESCRIPTION:
URL:https://bikramyogapalmdesert.com/class-schedule/6pm-lina-18-60min-40/
END:VEVENT
BEGIN:VEVENT
DTSTART;TZID=America/Los_Angeles:20251105T063000
DTEND;TZID=America/Los_Angeles:20251105T080000
DTSTAMP:20260423T173524
CREATED:20250610T205636Z
LAST-MODIFIED:20251001T210919Z
UID:54083-1762324200-1762329600@bikramyogapalmdesert.com
SUMMARY:6:30amANNMARIE *silent
DESCRIPTION:
URL:https://bikramyogapalmdesert.com/class-schedule/630am-lina-154/
END:VEVENT
BEGIN:VEVENT
DTSTART;TZID=America/Los_Angeles:20251105T090000
DTEND;TZID=America/Los_Angeles:20251105T103000
DTSTAMP:20260423T173524
CREATED:20250610T210335Z
LAST-MODIFIED:20250610T210335Z
UID:54109-1762333200-1762338600@bikramyogapalmdesert.com
SUMMARY:9am ALIX
DESCRIPTION:
URL:https://bikramyogapalmdesert.com/class-schedule/9am-alix-124/
END:VEVENT
BEGIN:VEVENT
DTSTART;TZID=America/Los_Angeles:20251105T180000
DTEND;TZID=America/Los_Angeles:20251105T190000
DTSTAMP:20260423T173524
CREATED:20250610T222117Z
LAST-MODIFIED:20251001T210845Z
UID:54312-1762365600-1762369200@bikramyogapalmdesert.com
SUMMARY:6pm LINA 60/$18
DESCRIPTION:
URL:https://bikramyogapalmdesert.com/class-schedule/6pm-jayson-18-60min/
END:VEVENT
BEGIN:VEVENT
DTSTART;TZID=America/Los_Angeles:20251106T090000
DTEND;TZID=America/Los_Angeles:20251106T103000
DTSTAMP:20260423T173524
CREATED:20250610T211108Z
LAST-MODIFIED:20250930T205955Z
UID:54135-1762419600-1762425000@bikramyogapalmdesert.com
SUMMARY:9am ANN MARIE
DESCRIPTION:
URL:https://bikramyogapalmdesert.com/class-schedule/9am-jayson-76/
CATEGORIES:Ann Marie
END:VEVENT
BEGIN:VEVENT
DTSTART;TZID=America/Los_Angeles:20251106T160000
DTEND;TZID=America/Los_Angeles:20251106T173000
DTSTAMP:20260423T173524
CREATED:20250610T213933Z
LAST-MODIFIED:20250930T203412Z
UID:54209-1762444800-1762450200@bikramyogapalmdesert.com
SUMMARY:4pm ALIX
DESCRIPTION:
URL:https://bikramyogapalmdesert.com/class-schedule/4pm-alix-68/
END:VEVENT
BEGIN:VEVENT
DTSTART;TZID=America/Los_Angeles:20251106T180000
DTEND;TZID=America/Los_Angeles:20251106T190000
DTSTAMP:20260423T173524
CREATED:20250610T223238Z
LAST-MODIFIED:20251001T210822Z
UID:54338-1762452000-1762455600@bikramyogapalmdesert.com
SUMMARY:6pm ALIX 60/$18
DESCRIPTION:
URL:https://bikramyogapalmdesert.com/class-schedule/6pm-alix-18-60min-11/
CATEGORIES:Alix
END:VEVENT
BEGIN:VEVENT
DTSTART;TZID=America/Los_Angeles:20251107T063000
DTEND;TZID=America/Los_Angeles:20251107T080000
DTSTAMP:20260423T173524
CREATED:20250610T204317Z
LAST-MODIFIED:20250610T204317Z
UID:54033-1762497000-1762502400@bikramyogapalmdesert.com
SUMMARY:6:30am ANN MARIE*silent
DESCRIPTION:
URL:https://bikramyogapalmdesert.com/class-schedule/630am-ann-mariesilent-13/
END:VEVENT
BEGIN:VEVENT
DTSTART;TZID=America/Los_Angeles:20251107T090000
DTEND;TZID=America/Los_Angeles:20251107T103000
DTSTAMP:20260423T173524
CREATED:20250610T211650Z
LAST-MODIFIED:20250930T205955Z
UID:54157-1762506000-1762511400@bikramyogapalmdesert.com
SUMMARY:9am ANN MARIE
DESCRIPTION:
URL:https://bikramyogapalmdesert.com/class-schedule/9am-ann-marie-14/
CATEGORIES:Ann Marie
END:VEVENT
BEGIN:VEVENT
DTSTART;TZID=America/Los_Angeles:20251107T160000
DTEND;TZID=America/Los_Angeles:20251107T173000
DTSTAMP:20260423T173524
CREATED:20250610T214713Z
LAST-MODIFIED:20250930T204810Z
UID:54232-1762531200-1762536600@bikramyogapalmdesert.com
SUMMARY:4pm ALIX
DESCRIPTION:
URL:https://bikramyogapalmdesert.com/class-schedule/4pm-alix-263/
CATEGORIES:Alix
END:VEVENT
BEGIN:VEVENT
DTSTART;TZID=America/Los_Angeles:20251108T080000
DTEND;TZID=America/Los_Angeles:20251108T093000
DTSTAMP:20260423T173524
CREATED:20250610T004004Z
LAST-MODIFIED:20250930T203115Z
UID:53845-1762588800-1762594200@bikramyogapalmdesert.com
SUMMARY:8am ANN MARIE
DESCRIPTION:
URL:https://bikramyogapalmdesert.com/class-schedule/8am-lina-179/
END:VEVENT
BEGIN:VEVENT
DTSTART;TZID=America/Los_Angeles:20251108T100000
DTEND;TZID=America/Los_Angeles:20251108T113000
DTSTAMP:20260423T173524
CREATED:20250610T004840Z
LAST-MODIFIED:20250930T205154Z
UID:53879-1762596000-1762601400@bikramyogapalmdesert.com
SUMMARY:10am LEESANN
DESCRIPTION:
URL:https://bikramyogapalmdesert.com/class-schedule/10am-jayson-57/
CATEGORIES:Leesann
END:VEVENT
BEGIN:VEVENT
DTSTART;TZID=America/Los_Angeles:20251109T100000
DTEND;TZID=America/Los_Angeles:20251109T113000
DTSTAMP:20260423T173524
CREATED:20250610T005746Z
LAST-MODIFIED:20251001T215110Z
UID:53915-1762682400-1762687800@bikramyogapalmdesert.com
SUMMARY:10am DARLENE
DESCRIPTION:
URL:https://bikramyogapalmdesert.com/class-schedule/10am-ann-marie-90/
END:VEVENT
BEGIN:VEVENT
DTSTART;TZID=America/Los_Angeles:20251109T150000
DTEND;TZID=America/Los_Angeles:20251109T163000
DTSTAMP:20260423T173524
CREATED:20250610T010738Z
LAST-MODIFIED:20250930T203035Z
UID:53949-1762700400-1762705800@bikramyogapalmdesert.com
SUMMARY:3pm ALIX
DESCRIPTION:
URL:https://bikramyogapalmdesert.com/class-schedule/3pm-alix-52/
END:VEVENT
BEGIN:VEVENT
DTSTART;TZID=America/Los_Angeles:20251110T063000
DTEND;TZID=America/Los_Angeles:20251110T080000
DTSTAMP:20260423T173524
CREATED:20250610T202544Z
LAST-MODIFIED:20250930T205153Z
UID:53975-1762756200-1762761600@bikramyogapalmdesert.com
SUMMARY:6:30am  LEESANN
DESCRIPTION:
URL:https://bikramyogapalmdesert.com/class-schedule/630am-ann-marie-36/
CATEGORIES:Leesann
END:VEVENT
BEGIN:VEVENT
DTSTART;TZID=America/Los_Angeles:20251110T090000
DTEND;TZID=America/Los_Angeles:20251110T103000
DTSTAMP:20260423T173524
CREATED:20250610T203543Z
LAST-MODIFIED:20250930T202941Z
UID:54007-1762765200-1762770600@bikramyogapalmdesert.com
SUMMARY:9am LINA
DESCRIPTION:
URL:https://bikramyogapalmdesert.com/class-schedule/9am-jayson-64/
END:VEVENT
BEGIN:VEVENT
DTSTART;TZID=America/Los_Angeles:20251110T180000
DTEND;TZID=America/Los_Angeles:20251110T190000
DTSTAMP:20260423T173524
CREATED:20250610T220134Z
LAST-MODIFIED:20251001T210332Z
UID:54260-1762797600-1762801200@bikramyogapalmdesert.com
SUMMARY:6pm LINA 60/$18
DESCRIPTION:
URL:https://bikramyogapalmdesert.com/class-schedule/6pm-lina-18-60min-27/
END:VEVENT
BEGIN:VEVENT
DTSTART;TZID=America/Los_Angeles:20251111T063000
DTEND;TZID=America/Los_Angeles:20251111T080000
DTSTAMP:20260423T173524
CREATED:20250610T204339Z
LAST-MODIFIED:20251001T210234Z
UID:54035-1762842600-1762848000@bikramyogapalmdesert.com
SUMMARY:6:30 DARLENE
DESCRIPTION:
URL:https://bikramyogapalmdesert.com/class-schedule/630am-ann-mariesilent-14/
END:VEVENT
BEGIN:VEVENT
DTSTART;TZID=America/Los_Angeles:20251111T160000
DTEND;TZID=America/Los_Angeles:20251111T173000
DTSTAMP:20260423T173524
CREATED:20250610T213104Z
LAST-MODIFIED:20250930T202747Z
UID:54185-1762876800-1762882200@bikramyogapalmdesert.com
SUMMARY:4pm LINA
DESCRIPTION:
URL:https://bikramyogapalmdesert.com/class-schedule/4pm-lina-182/
END:VEVENT
BEGIN:VEVENT
DTSTART;TZID=America/Los_Angeles:20251111T180000
DTEND;TZID=America/Los_Angeles:20251111T190000
DTSTAMP:20260423T173524
CREATED:20250610T221332Z
LAST-MODIFIED:20251001T210134Z
UID:54288-1762884000-1762887600@bikramyogapalmdesert.com
SUMMARY:6pm LINA60/$18
DESCRIPTION:
URL:https://bikramyogapalmdesert.com/class-schedule/6pm-lina-18-60min-41/
END:VEVENT
BEGIN:VEVENT
DTSTART;TZID=America/Los_Angeles:20251112T063000
DTEND;TZID=America/Los_Angeles:20251112T080000
DTSTAMP:20260423T173524
CREATED:20250610T205711Z
LAST-MODIFIED:20251001T210106Z
UID:54085-1762929000-1762934400@bikramyogapalmdesert.com
SUMMARY:6:30amANNMARIE *silent
DESCRIPTION:
URL:https://bikramyogapalmdesert.com/class-schedule/630am-lina-155/
END:VEVENT
END:VCALENDAR