BEGIN:VCALENDAR
VERSION:2.0
PRODID:-//Bikram Yoga El Paseo - ECPv6.15.13//NONSGML v1.0//EN
CALSCALE:GREGORIAN
METHOD:PUBLISH
X-ORIGINAL-URL:https://bikramyogapalmdesert.com
X-WR-CALDESC:Events for Bikram Yoga El Paseo
REFRESH-INTERVAL;VALUE=DURATION:PT1H
X-Robots-Tag:noindex
X-PUBLISHED-TTL:PT1H
BEGIN:VTIMEZONE
TZID:America/Los_Angeles
BEGIN:DAYLIGHT
TZOFFSETFROM:-0800
TZOFFSETTO:-0700
TZNAME:PDT
DTSTART:20240310T100000
END:DAYLIGHT
BEGIN:STANDARD
TZOFFSETFROM:-0700
TZOFFSETTO:-0800
TZNAME:PST
DTSTART:20241103T090000
END:STANDARD
BEGIN:DAYLIGHT
TZOFFSETFROM:-0800
TZOFFSETTO:-0700
TZNAME:PDT
DTSTART:20250309T100000
END:DAYLIGHT
BEGIN:STANDARD
TZOFFSETFROM:-0700
TZOFFSETTO:-0800
TZNAME:PST
DTSTART:20251102T090000
END:STANDARD
BEGIN:DAYLIGHT
TZOFFSETFROM:-0800
TZOFFSETTO:-0700
TZNAME:PDT
DTSTART:20260308T100000
END:DAYLIGHT
BEGIN:STANDARD
TZOFFSETFROM:-0700
TZOFFSETTO:-0800
TZNAME:PST
DTSTART:20261101T090000
END:STANDARD
END:VTIMEZONE
BEGIN:VEVENT
DTSTART;TZID=America/Los_Angeles:20251207T100000
DTEND;TZID=America/Los_Angeles:20251207T113000
DTSTAMP:20260423T173524
CREATED:20250610T010003Z
LAST-MODIFIED:20251022T173324Z
UID:53923-1765101600-1765107000@bikramyogapalmdesert.com
SUMMARY:10am KATTY
DESCRIPTION:
URL:https://bikramyogapalmdesert.com/class-schedule/10am-ann-marie-94/
END:VEVENT
BEGIN:VEVENT
DTSTART;TZID=America/Los_Angeles:20251207T120000
DTEND;TZID=America/Los_Angeles:20251207T133000
DTSTAMP:20260423T173524
CREATED:20250610T010942Z
LAST-MODIFIED:20250610T010942Z
UID:53957-1765108800-1765114200@bikramyogapalmdesert.com
SUMMARY:3pm ALIX
DESCRIPTION:
URL:https://bikramyogapalmdesert.com/class-schedule/3pm-alix-56/
END:VEVENT
BEGIN:VEVENT
DTSTART;TZID=America/Los_Angeles:20251208T063000
DTEND;TZID=America/Los_Angeles:20251208T080000
DTSTAMP:20260423T173524
CREATED:20250610T202741Z
LAST-MODIFIED:20251004T230258Z
UID:53983-1765175400-1765180800@bikramyogapalmdesert.com
SUMMARY:6:30am LEESANN
DESCRIPTION:
URL:https://bikramyogapalmdesert.com/class-schedule/630am-ann-marie-40/
END:VEVENT
BEGIN:VEVENT
DTSTART;TZID=America/Los_Angeles:20251208T090000
DTEND;TZID=America/Los_Angeles:20251208T103000
DTSTAMP:20260423T173524
CREATED:20250610T203740Z
LAST-MODIFIED:20251004T230246Z
UID:54015-1765184400-1765189800@bikramyogapalmdesert.com
SUMMARY:9am LINA
DESCRIPTION:
URL:https://bikramyogapalmdesert.com/class-schedule/9am-jayson-68/
END:VEVENT
BEGIN:VEVENT
DTSTART;TZID=America/Los_Angeles:20251208T103000
DTEND;TZID=America/Los_Angeles:20251208T120000
DTSTAMP:20260423T173524
CREATED:20250610T220447Z
LAST-MODIFIED:20250610T220447Z
UID:54270-1765189800-1765195200@bikramyogapalmdesert.com
SUMMARY:6pm LINA $18/60min
DESCRIPTION:
URL:https://bikramyogapalmdesert.com/class-schedule/6pm-lina-18-60min-32/
END:VEVENT
BEGIN:VEVENT
DTSTART;TZID=America/Los_Angeles:20251209T063000
DTEND;TZID=America/Los_Angeles:20251209T090000
DTSTAMP:20260423T173524
CREATED:20250610T204926Z
LAST-MODIFIED:20251004T230230Z
UID:54051-1765261800-1765270800@bikramyogapalmdesert.com
SUMMARY:6:30aANNMARIE
DESCRIPTION:
URL:https://bikramyogapalmdesert.com/class-schedule/630am-ann-mariesilent-22/
END:VEVENT
BEGIN:VEVENT
DTSTART;TZID=America/Los_Angeles:20251209T090000
DTEND;TZID=America/Los_Angeles:20251209T103000
DTSTAMP:20260423T173524
CREATED:20250610T213343Z
LAST-MODIFIED:20250610T213343Z
UID:54193-1765270800-1765276200@bikramyogapalmdesert.com
SUMMARY:4pm LINA
DESCRIPTION:
URL:https://bikramyogapalmdesert.com/class-schedule/4pm-lina-186/
END:VEVENT
BEGIN:VEVENT
DTSTART;TZID=America/Los_Angeles:20251209T113000
DTEND;TZID=America/Los_Angeles:20251209T123000
DTSTAMP:20260423T173524
CREATED:20250610T221643Z
LAST-MODIFIED:20250610T221643Z
UID:54296-1765279800-1765283400@bikramyogapalmdesert.com
SUMMARY:6pm LINA $18/60min
DESCRIPTION:
URL:https://bikramyogapalmdesert.com/class-schedule/6pm-lina-18-60min-45/
END:VEVENT
BEGIN:VEVENT
DTSTART;TZID=America/Los_Angeles:20251210T063000
DTEND;TZID=America/Los_Angeles:20251210T080000
DTSTAMP:20260423T173524
CREATED:20250610T205902Z
LAST-MODIFIED:20251004T230053Z
UID:54093-1765348200-1765353600@bikramyogapalmdesert.com
SUMMARY:6:30am ANNM*silent
DESCRIPTION:
URL:https://bikramyogapalmdesert.com/class-schedule/630am-lina-159/
END:VEVENT
BEGIN:VEVENT
DTSTART;TZID=America/Los_Angeles:20251210T090000
DTEND;TZID=America/Los_Angeles:20251210T103000
DTSTAMP:20260423T173524
CREATED:20250610T210553Z
LAST-MODIFIED:20250610T210553Z
UID:54119-1765357200-1765362600@bikramyogapalmdesert.com
SUMMARY:9am ALIX
DESCRIPTION:
URL:https://bikramyogapalmdesert.com/class-schedule/9am-alix-129/
END:VEVENT
BEGIN:VEVENT
DTSTART;TZID=America/Los_Angeles:20251210T103000
DTEND;TZID=America/Los_Angeles:20251210T120000
DTSTAMP:20260423T173524
CREATED:20250610T222623Z
LAST-MODIFIED:20251004T230033Z
UID:54322-1765362600-1765368000@bikramyogapalmdesert.com
SUMMARY:6pm LINA60/$18
DESCRIPTION:
URL:https://bikramyogapalmdesert.com/class-schedule/6pm-jayson-18-60min-6/
END:VEVENT
BEGIN:VEVENT
DTSTART;TZID=America/Los_Angeles:20251211T090000
DTEND;TZID=America/Los_Angeles:20251211T103000
DTSTAMP:20260423T173524
CREATED:20250610T211312Z
LAST-MODIFIED:20251004T230012Z
UID:54143-1765443600-1765449000@bikramyogapalmdesert.com
SUMMARY:9am KATTY
DESCRIPTION:
URL:https://bikramyogapalmdesert.com/class-schedule/9am-jayson-80/
END:VEVENT
BEGIN:VEVENT
DTSTART;TZID=America/Los_Angeles:20251211T100000
DTEND;TZID=America/Los_Angeles:20251211T113000
DTSTAMP:20260423T173524
CREATED:20250610T214154Z
LAST-MODIFIED:20250610T214154Z
UID:54217-1765447200-1765452600@bikramyogapalmdesert.com
SUMMARY:4pm ALIX
DESCRIPTION:
URL:https://bikramyogapalmdesert.com/class-schedule/4pm-alix-256/
END:VEVENT
BEGIN:VEVENT
DTSTART;TZID=America/Los_Angeles:20251211T120000
DTEND;TZID=America/Los_Angeles:20251211T123000
DTSTAMP:20260423T173524
CREATED:20250610T223632Z
LAST-MODIFIED:20250930T204808Z
UID:54346-1765454400-1765456200@bikramyogapalmdesert.com
SUMMARY:6pm ALIX $18/60min
DESCRIPTION:
URL:https://bikramyogapalmdesert.com/class-schedule/6pm-alix-18-60min-15/
CATEGORIES:Alix
END:VEVENT
BEGIN:VEVENT
DTSTART;TZID=America/Los_Angeles:20251212T063000
DTEND;TZID=America/Los_Angeles:20251212T080000
DTSTAMP:20260423T173524
CREATED:20250610T205046Z
LAST-MODIFIED:20250610T205046Z
UID:54059-1765521000-1765526400@bikramyogapalmdesert.com
SUMMARY:6:30am ANN MARIE*silent
DESCRIPTION:
URL:https://bikramyogapalmdesert.com/class-schedule/630am-ann-mariesilent-26/
END:VEVENT
BEGIN:VEVENT
DTSTART;TZID=America/Los_Angeles:20251212T090000
DTEND;TZID=America/Los_Angeles:20251212T103000
DTSTAMP:20260423T173524
CREATED:20250610T212024Z
LAST-MODIFIED:20250930T205954Z
UID:54167-1765530000-1765535400@bikramyogapalmdesert.com
SUMMARY:9am ANN MARIE
DESCRIPTION:
URL:https://bikramyogapalmdesert.com/class-schedule/9am-ann-marie-20/
CATEGORIES:Ann Marie
END:VEVENT
BEGIN:VEVENT
DTSTART;TZID=America/Los_Angeles:20251212T103000
DTEND;TZID=America/Los_Angeles:20251212T120000
DTSTAMP:20260423T173524
CREATED:20250610T215013Z
LAST-MODIFIED:20250930T204809Z
UID:54242-1765535400-1765540800@bikramyogapalmdesert.com
SUMMARY:4pm ALIX
DESCRIPTION:
URL:https://bikramyogapalmdesert.com/class-schedule/4pm-alix-268/
CATEGORIES:Alix
END:VEVENT
BEGIN:VEVENT
DTSTART;TZID=America/Los_Angeles:20251213T080000
DTEND;TZID=America/Los_Angeles:20251213T093000
DTSTAMP:20260423T173524
CREATED:20250610T004206Z
LAST-MODIFIED:20251004T225948Z
UID:53855-1765612800-1765618200@bikramyogapalmdesert.com
SUMMARY:8am ANN MARIE
DESCRIPTION:
URL:https://bikramyogapalmdesert.com/class-schedule/8am-lina-184/
END:VEVENT
BEGIN:VEVENT
DTSTART;TZID=America/Los_Angeles:20251213T100000
DTEND;TZID=America/Los_Angeles:20251213T113000
DTSTAMP:20260423T173524
CREATED:20250610T005123Z
LAST-MODIFIED:20251004T225933Z
UID:53889-1765620000-1765625400@bikramyogapalmdesert.com
SUMMARY:10amLEESANN
DESCRIPTION:
URL:https://bikramyogapalmdesert.com/class-schedule/10am-jayson-62/
END:VEVENT
BEGIN:VEVENT
DTSTART;TZID=America/Los_Angeles:20251214T100000
DTEND;TZID=America/Los_Angeles:20251214T113000
DTSTAMP:20260423T173524
CREATED:20250610T010021Z
LAST-MODIFIED:20251110T002135Z
UID:53925-1765706400-1765711800@bikramyogapalmdesert.com
SUMMARY:10am ANN MARIE
DESCRIPTION:
URL:https://bikramyogapalmdesert.com/class-schedule/10am-ann-marie-95/
END:VEVENT
BEGIN:VEVENT
DTSTART;TZID=America/Los_Angeles:20251214T120000
DTEND;TZID=America/Los_Angeles:20251214T133000
DTSTAMP:20260423T173524
CREATED:20250610T011010Z
LAST-MODIFIED:20250610T011010Z
UID:53959-1765713600-1765719000@bikramyogapalmdesert.com
SUMMARY:3pm ALIX
DESCRIPTION:
URL:https://bikramyogapalmdesert.com/class-schedule/3pm-alix-57/
END:VEVENT
BEGIN:VEVENT
DTSTART;TZID=America/Los_Angeles:20251215T063000
DTEND;TZID=America/Los_Angeles:20251215T080000
DTSTAMP:20260423T173524
CREATED:20250610T202804Z
LAST-MODIFIED:20251004T225903Z
UID:53985-1765780200-1765785600@bikramyogapalmdesert.com
SUMMARY:6:30am LEESANN
DESCRIPTION:
URL:https://bikramyogapalmdesert.com/class-schedule/630am-ann-marie-41/
END:VEVENT
BEGIN:VEVENT
DTSTART;TZID=America/Los_Angeles:20251215T090000
DTEND;TZID=America/Los_Angeles:20251215T103000
DTSTAMP:20260423T173524
CREATED:20250610T203808Z
LAST-MODIFIED:20251004T225848Z
UID:54017-1765789200-1765794600@bikramyogapalmdesert.com
SUMMARY:9am LINA
DESCRIPTION:
URL:https://bikramyogapalmdesert.com/class-schedule/9am-jayson-69/
END:VEVENT
BEGIN:VEVENT
DTSTART;TZID=America/Los_Angeles:20251215T103000
DTEND;TZID=America/Los_Angeles:20251215T120000
DTSTAMP:20260423T173524
CREATED:20250610T220520Z
LAST-MODIFIED:20250610T220520Z
UID:54272-1765794600-1765800000@bikramyogapalmdesert.com
SUMMARY:6pm LINA $18/60min
DESCRIPTION:
URL:https://bikramyogapalmdesert.com/class-schedule/6pm-lina-18-60min-33/
END:VEVENT
BEGIN:VEVENT
DTSTART;TZID=America/Los_Angeles:20251216T063000
DTEND;TZID=America/Los_Angeles:20251216T090000
DTSTAMP:20260423T173524
CREATED:20250610T204948Z
LAST-MODIFIED:20251004T225832Z
UID:54053-1765866600-1765875600@bikramyogapalmdesert.com
SUMMARY:6:30am DARLENE
DESCRIPTION:
URL:https://bikramyogapalmdesert.com/class-schedule/630am-ann-mariesilent-23/
END:VEVENT
BEGIN:VEVENT
DTSTART;TZID=America/Los_Angeles:20251216T090000
DTEND;TZID=America/Los_Angeles:20251216T103000
DTSTAMP:20260423T173524
CREATED:20250610T213420Z
LAST-MODIFIED:20250610T213420Z
UID:54195-1765875600-1765881000@bikramyogapalmdesert.com
SUMMARY:4pm LINA
DESCRIPTION:
URL:https://bikramyogapalmdesert.com/class-schedule/4pm-lina-187/
END:VEVENT
BEGIN:VEVENT
DTSTART;TZID=America/Los_Angeles:20251216T113000
DTEND;TZID=America/Los_Angeles:20251216T123000
DTSTAMP:20260423T173524
CREATED:20250610T221713Z
LAST-MODIFIED:20250610T221713Z
UID:54298-1765884600-1765888200@bikramyogapalmdesert.com
SUMMARY:6pm LINA $18/60min
DESCRIPTION:
URL:https://bikramyogapalmdesert.com/class-schedule/6pm-lina-18-60min-46/
END:VEVENT
BEGIN:VEVENT
DTSTART;TZID=America/Los_Angeles:20251217T063000
DTEND;TZID=America/Los_Angeles:20251217T080000
DTSTAMP:20260423T173524
CREATED:20250610T205926Z
LAST-MODIFIED:20251004T225809Z
UID:54095-1765953000-1765958400@bikramyogapalmdesert.com
SUMMARY:6:30amANNM*silent
DESCRIPTION:
URL:https://bikramyogapalmdesert.com/class-schedule/630am-lina-160/
END:VEVENT
BEGIN:VEVENT
DTSTART;TZID=America/Los_Angeles:20251217T090000
DTEND;TZID=America/Los_Angeles:20251217T103000
DTSTAMP:20260423T173524
CREATED:20250610T210616Z
LAST-MODIFIED:20250610T210616Z
UID:54121-1765962000-1765967400@bikramyogapalmdesert.com
SUMMARY:9am ALIX
DESCRIPTION:
URL:https://bikramyogapalmdesert.com/class-schedule/9am-alix-130/
END:VEVENT
BEGIN:VEVENT
DTSTART;TZID=America/Los_Angeles:20251217T113000
DTEND;TZID=America/Los_Angeles:20251217T123000
DTSTAMP:20260423T173524
CREATED:20250610T222650Z
LAST-MODIFIED:20251004T225748Z
UID:54324-1765971000-1765974600@bikramyogapalmdesert.com
SUMMARY:6pm LINA60/$18
DESCRIPTION:
URL:https://bikramyogapalmdesert.com/class-schedule/6pm-jayson-18-60min-7/
END:VEVENT
END:VCALENDAR