BEGIN:VCALENDAR
VERSION:2.0
PRODID:-//Bikram Yoga El Paseo - ECPv6.15.13//NONSGML v1.0//EN
CALSCALE:GREGORIAN
METHOD:PUBLISH
X-ORIGINAL-URL:https://bikramyogapalmdesert.com
X-WR-CALDESC:Events for Bikram Yoga El Paseo
REFRESH-INTERVAL;VALUE=DURATION:PT1H
X-Robots-Tag:noindex
X-PUBLISHED-TTL:PT1H
BEGIN:VTIMEZONE
TZID:America/Los_Angeles
BEGIN:DAYLIGHT
TZOFFSETFROM:-0800
TZOFFSETTO:-0700
TZNAME:PDT
DTSTART:20250309T100000
END:DAYLIGHT
BEGIN:STANDARD
TZOFFSETFROM:-0700
TZOFFSETTO:-0800
TZNAME:PST
DTSTART:20251102T090000
END:STANDARD
BEGIN:DAYLIGHT
TZOFFSETFROM:-0800
TZOFFSETTO:-0700
TZNAME:PDT
DTSTART:20260308T100000
END:DAYLIGHT
BEGIN:STANDARD
TZOFFSETFROM:-0700
TZOFFSETTO:-0800
TZNAME:PST
DTSTART:20261101T090000
END:STANDARD
BEGIN:DAYLIGHT
TZOFFSETFROM:-0800
TZOFFSETTO:-0700
TZNAME:PDT
DTSTART:20270314T100000
END:DAYLIGHT
BEGIN:STANDARD
TZOFFSETFROM:-0700
TZOFFSETTO:-0800
TZNAME:PST
DTSTART:20271107T090000
END:STANDARD
END:VTIMEZONE
BEGIN:VEVENT
DTSTART;TZID=America/Los_Angeles:20260105T063000
DTEND;TZID=America/Los_Angeles:20260105T090000
DTSTAMP:20260423T155815
CREATED:20250610T202922Z
LAST-MODIFIED:20251004T224356Z
UID:53991-1767594600-1767603600@bikramyogapalmdesert.com
SUMMARY:6:30am LEESANN
DESCRIPTION:
URL:https://bikramyogapalmdesert.com/class-schedule/630am-ann-marie-44/
END:VEVENT
BEGIN:VEVENT
DTSTART;TZID=America/Los_Angeles:20260105T090000
DTEND;TZID=America/Los_Angeles:20260105T103000
DTSTAMP:20260423T155815
CREATED:20250610T203952Z
LAST-MODIFIED:20251004T224340Z
UID:54023-1767603600-1767609000@bikramyogapalmdesert.com
SUMMARY:9am LINA
DESCRIPTION:
URL:https://bikramyogapalmdesert.com/class-schedule/9am-jayson-72/
END:VEVENT
BEGIN:VEVENT
DTSTART;TZID=America/Los_Angeles:20260105T100000
DTEND;TZID=America/Los_Angeles:20260105T113000
DTSTAMP:20260423T155815
CREATED:20250610T220756Z
LAST-MODIFIED:20250610T220756Z
UID:54278-1767607200-1767612600@bikramyogapalmdesert.com
SUMMARY:6pm LINA $18/60min
DESCRIPTION:
URL:https://bikramyogapalmdesert.com/class-schedule/6pm-lina-18-60min-36/
END:VEVENT
BEGIN:VEVENT
DTSTART;TZID=America/Los_Angeles:20260106T063000
DTEND;TZID=America/Los_Angeles:20260106T080000
DTSTAMP:20260423T155815
CREATED:20250610T205237Z
LAST-MODIFIED:20251004T224317Z
UID:54067-1767681000-1767686400@bikramyogapalmdesert.com
SUMMARY:6:30am DARLENE
DESCRIPTION:
URL:https://bikramyogapalmdesert.com/class-schedule/630am-ann-mariesilent-30/
END:VEVENT
BEGIN:VEVENT
DTSTART;TZID=America/Los_Angeles:20260106T090000
DTEND;TZID=America/Los_Angeles:20260106T103000
DTSTAMP:20260423T155815
CREATED:20250610T213544Z
LAST-MODIFIED:20250610T213544Z
UID:54201-1767690000-1767695400@bikramyogapalmdesert.com
SUMMARY:4pm LINA
DESCRIPTION:
URL:https://bikramyogapalmdesert.com/class-schedule/4pm-lina-190/
END:VEVENT
BEGIN:VEVENT
DTSTART;TZID=America/Los_Angeles:20260106T113000
DTEND;TZID=America/Los_Angeles:20260106T123000
DTSTAMP:20260423T155815
CREATED:20250610T221842Z
LAST-MODIFIED:20250610T221842Z
UID:54304-1767699000-1767702600@bikramyogapalmdesert.com
SUMMARY:6pm LINA $18/60min
DESCRIPTION:
URL:https://bikramyogapalmdesert.com/class-schedule/6pm-lina-18-60min-49/
END:VEVENT
BEGIN:VEVENT
DTSTART;TZID=America/Los_Angeles:20260107T063000
DTEND;TZID=America/Los_Angeles:20260107T080000
DTSTAMP:20260423T155815
CREATED:20250610T210038Z
LAST-MODIFIED:20251004T224256Z
UID:54101-1767767400-1767772800@bikramyogapalmdesert.com
SUMMARY:6:30am ANNMARIE *silent
DESCRIPTION:
URL:https://bikramyogapalmdesert.com/class-schedule/630am-lina-163/
END:VEVENT
BEGIN:VEVENT
DTSTART;TZID=America/Los_Angeles:20260107T090000
DTEND;TZID=America/Los_Angeles:20260107T103000
DTSTAMP:20260423T155815
CREATED:20250610T210732Z
LAST-MODIFIED:20250610T210732Z
UID:54127-1767776400-1767781800@bikramyogapalmdesert.com
SUMMARY:9am ALIX
DESCRIPTION:
URL:https://bikramyogapalmdesert.com/class-schedule/9am-alix-133/
END:VEVENT
BEGIN:VEVENT
DTSTART;TZID=America/Los_Angeles:20260107T103000
DTEND;TZID=America/Los_Angeles:20260107T120000
DTSTAMP:20260423T155815
CREATED:20250610T222858Z
LAST-MODIFIED:20251004T224217Z
UID:54330-1767781800-1767787200@bikramyogapalmdesert.com
SUMMARY:6pm LINA60/$18
DESCRIPTION:
URL:https://bikramyogapalmdesert.com/class-schedule/6pm-jayson-18-60min-10/
END:VEVENT
BEGIN:VEVENT
DTSTART;TZID=America/Los_Angeles:20260108T090000
DTEND;TZID=America/Los_Angeles:20260108T103000
DTSTAMP:20260423T155815
CREATED:20250610T211434Z
LAST-MODIFIED:20251004T224147Z
UID:54149-1767862800-1767868200@bikramyogapalmdesert.com
SUMMARY:9am KATTY
DESCRIPTION:
URL:https://bikramyogapalmdesert.com/class-schedule/9am-jayson-83/
END:VEVENT
BEGIN:VEVENT
DTSTART;TZID=America/Los_Angeles:20260108T100000
DTEND;TZID=America/Los_Angeles:20260108T113000
DTSTAMP:20260423T155815
CREATED:20250610T214424Z
LAST-MODIFIED:20251216T221307Z
UID:54224-1767866400-1767871800@bikramyogapalmdesert.com
SUMMARY:4pm DARLENE
DESCRIPTION:
URL:https://bikramyogapalmdesert.com/class-schedule/4pm-alix-259/
END:VEVENT
BEGIN:VEVENT
DTSTART;TZID=America/Los_Angeles:20260108T120000
DTEND;TZID=America/Los_Angeles:20260108T123000
DTSTAMP:20260423T155815
CREATED:20250610T223835Z
LAST-MODIFIED:20251216T221231Z
UID:54352-1767873600-1767875400@bikramyogapalmdesert.com
SUMMARY:6pm ANNMARIE$18/60min
DESCRIPTION:
URL:https://bikramyogapalmdesert.com/class-schedule/6pm-alix-18-60min-18/
CATEGORIES:Alix
END:VEVENT
BEGIN:VEVENT
DTSTART;TZID=America/Los_Angeles:20260109T063000
DTEND;TZID=America/Los_Angeles:20260109T080000
DTSTAMP:20260423T155815
CREATED:20250610T205411Z
LAST-MODIFIED:20250930T205956Z
UID:54075-1767940200-1767945600@bikramyogapalmdesert.com
SUMMARY:6:30am ANN MARIE*silent
DESCRIPTION:
URL:https://bikramyogapalmdesert.com/class-schedule/630am-ann-mariesilent-34/
CATEGORIES:Ann Marie
END:VEVENT
BEGIN:VEVENT
DTSTART;TZID=America/Los_Angeles:20260109T090000
DTEND;TZID=America/Los_Angeles:20260109T103000
DTSTAMP:20260423T155815
CREATED:20250610T212454Z
LAST-MODIFIED:20250930T205953Z
UID:54175-1767949200-1767954600@bikramyogapalmdesert.com
SUMMARY:9am ANN MARIE
DESCRIPTION:
URL:https://bikramyogapalmdesert.com/class-schedule/9am-ann-marie-29/
CATEGORIES:Ann Marie
END:VEVENT
BEGIN:VEVENT
DTSTART;TZID=America/Los_Angeles:20260109T103000
DTEND;TZID=America/Los_Angeles:20260109T120000
DTSTAMP:20260423T155815
CREATED:20250610T215249Z
LAST-MODIFIED:20250930T204809Z
UID:54250-1767954600-1767960000@bikramyogapalmdesert.com
SUMMARY:4pm ALIX
DESCRIPTION:
URL:https://bikramyogapalmdesert.com/class-schedule/4pm-alix-272/
CATEGORIES:Alix
END:VEVENT
BEGIN:VEVENT
DTSTART;TZID=America/Los_Angeles:20260110T080000
DTEND;TZID=America/Los_Angeles:20260110T093000
DTSTAMP:20260423T155815
CREATED:20250610T004452Z
LAST-MODIFIED:20251004T223945Z
UID:53863-1768032000-1768037400@bikramyogapalmdesert.com
SUMMARY:8am ANN MARIE
DESCRIPTION:
URL:https://bikramyogapalmdesert.com/class-schedule/8am-lina-188/
END:VEVENT
BEGIN:VEVENT
DTSTART;TZID=America/Los_Angeles:20260110T100000
DTEND;TZID=America/Los_Angeles:20260110T113000
DTSTAMP:20260423T155815
CREATED:20250610T005254Z
LAST-MODIFIED:20251216T221151Z
UID:53897-1768039200-1768044600@bikramyogapalmdesert.com
SUMMARY:10am ANNMARIE
DESCRIPTION:
URL:https://bikramyogapalmdesert.com/class-schedule/10am-jayson-66/
END:VEVENT
BEGIN:VEVENT
DTSTART;TZID=America/Los_Angeles:20260111T100000
DTEND;TZID=America/Los_Angeles:20260111T113000
DTSTAMP:20260423T155815
CREATED:20250610T010201Z
LAST-MODIFIED:20251109T022001Z
UID:53933-1768125600-1768131000@bikramyogapalmdesert.com
SUMMARY:10am KATTY
DESCRIPTION:
URL:https://bikramyogapalmdesert.com/class-schedule/10am-ann-marie-99/
END:VEVENT
BEGIN:VEVENT
DTSTART;TZID=America/Los_Angeles:20260111T120000
DTEND;TZID=America/Los_Angeles:20260111T133000
DTSTAMP:20260423T155815
CREATED:20250610T011157Z
LAST-MODIFIED:20250610T011157Z
UID:53967-1768132800-1768138200@bikramyogapalmdesert.com
SUMMARY:3pm ALIX
DESCRIPTION:
URL:https://bikramyogapalmdesert.com/class-schedule/3pm-alix-61/
END:VEVENT
BEGIN:VEVENT
DTSTART;TZID=America/Los_Angeles:20260112T063000
DTEND;TZID=America/Los_Angeles:20260112T090000
DTSTAMP:20260423T155815
CREATED:20250610T202943Z
LAST-MODIFIED:20251004T223829Z
UID:53993-1768199400-1768208400@bikramyogapalmdesert.com
SUMMARY:6:30am LEESANN
DESCRIPTION:
URL:https://bikramyogapalmdesert.com/class-schedule/630am-ann-marie-45/
END:VEVENT
BEGIN:VEVENT
DTSTART;TZID=America/Los_Angeles:20260112T090000
DTEND;TZID=America/Los_Angeles:20260112T103000
DTSTAMP:20260423T155815
CREATED:20250610T204014Z
LAST-MODIFIED:20251004T223816Z
UID:54025-1768208400-1768213800@bikramyogapalmdesert.com
SUMMARY:9am LINA
DESCRIPTION:
URL:https://bikramyogapalmdesert.com/class-schedule/9am-jayson-73/
END:VEVENT
BEGIN:VEVENT
DTSTART;TZID=America/Los_Angeles:20260112T100000
DTEND;TZID=America/Los_Angeles:20260112T120000
DTSTAMP:20260423T155815
CREATED:20250610T220939Z
LAST-MODIFIED:20250610T220939Z
UID:54282-1768212000-1768219200@bikramyogapalmdesert.com
SUMMARY:6pm LINA $18/60min
DESCRIPTION:
URL:https://bikramyogapalmdesert.com/class-schedule/6pm-lina-18-60min-38/
END:VEVENT
BEGIN:VEVENT
DTSTART;TZID=America/Los_Angeles:20260113T063000
DTEND;TZID=America/Los_Angeles:20260113T080000
DTSTAMP:20260423T155815
CREATED:20250610T205258Z
LAST-MODIFIED:20251216T221120Z
UID:54069-1768285800-1768291200@bikramyogapalmdesert.com
SUMMARY:6:30am ANNMARIE
DESCRIPTION:
URL:https://bikramyogapalmdesert.com/class-schedule/630am-ann-mariesilent-31/
CATEGORIES:Ann Marie
END:VEVENT
BEGIN:VEVENT
DTSTART;TZID=America/Los_Angeles:20260113T090000
DTEND;TZID=America/Los_Angeles:20260113T103000
DTSTAMP:20260423T155815
CREATED:20250610T213613Z
LAST-MODIFIED:20250610T213613Z
UID:54203-1768294800-1768300200@bikramyogapalmdesert.com
SUMMARY:4pm LINA
DESCRIPTION:
URL:https://bikramyogapalmdesert.com/class-schedule/4pm-lina-191/
END:VEVENT
BEGIN:VEVENT
DTSTART;TZID=America/Los_Angeles:20260113T113000
DTEND;TZID=America/Los_Angeles:20260113T123000
DTSTAMP:20260423T155815
CREATED:20250610T221909Z
LAST-MODIFIED:20250610T221909Z
UID:54306-1768303800-1768307400@bikramyogapalmdesert.com
SUMMARY:6pm LINA $18/60min
DESCRIPTION:
URL:https://bikramyogapalmdesert.com/class-schedule/6pm-lina-18-60min-50/
END:VEVENT
BEGIN:VEVENT
DTSTART;TZID=America/Los_Angeles:20260114T063000
DTEND;TZID=America/Los_Angeles:20260114T080000
DTSTAMP:20260423T155815
CREATED:20250610T210057Z
LAST-MODIFIED:20251004T223704Z
UID:54103-1768372200-1768377600@bikramyogapalmdesert.com
SUMMARY:6:30am ANNMARIE *silent
DESCRIPTION:
URL:https://bikramyogapalmdesert.com/class-schedule/630am-lina-164/
END:VEVENT
BEGIN:VEVENT
DTSTART;TZID=America/Los_Angeles:20260114T090000
DTEND;TZID=America/Los_Angeles:20260114T103000
DTSTAMP:20260423T155815
CREATED:20250610T210754Z
LAST-MODIFIED:20250610T210754Z
UID:54129-1768381200-1768386600@bikramyogapalmdesert.com
SUMMARY:9am ALIX
DESCRIPTION:
URL:https://bikramyogapalmdesert.com/class-schedule/9am-alix-134/
END:VEVENT
BEGIN:VEVENT
DTSTART;TZID=America/Los_Angeles:20260114T103000
DTEND;TZID=America/Los_Angeles:20260114T120000
DTSTAMP:20260423T155815
CREATED:20250610T222920Z
LAST-MODIFIED:20251004T223641Z
UID:54332-1768386600-1768392000@bikramyogapalmdesert.com
SUMMARY:6pm LINA60/$18
DESCRIPTION:
URL:https://bikramyogapalmdesert.com/class-schedule/6pm-jayson-18-60min-11/
END:VEVENT
BEGIN:VEVENT
DTSTART;TZID=America/Los_Angeles:20260115T090000
DTEND;TZID=America/Los_Angeles:20260115T103000
DTSTAMP:20260423T155815
CREATED:20250610T211458Z
LAST-MODIFIED:20251004T223606Z
UID:54151-1768467600-1768473000@bikramyogapalmdesert.com
SUMMARY:9am KATTY
DESCRIPTION:
URL:https://bikramyogapalmdesert.com/class-schedule/9am-jayson-84/
END:VEVENT
BEGIN:VEVENT
DTSTART;TZID=America/Los_Angeles:20260115T100000
DTEND;TZID=America/Los_Angeles:20260115T113000
DTSTAMP:20260423T155815
CREATED:20250610T214450Z
LAST-MODIFIED:20251219T195919Z
UID:54226-1768471200-1768476600@bikramyogapalmdesert.com
SUMMARY:4pm LEESANN
DESCRIPTION:
URL:https://bikramyogapalmdesert.com/class-schedule/4pm-alix-260/
END:VEVENT
END:VCALENDAR