BEGIN:VCALENDAR
VERSION:2.0
PRODID:-//Bikram Yoga El Paseo - ECPv6.15.13//NONSGML v1.0//EN
CALSCALE:GREGORIAN
METHOD:PUBLISH
X-WR-CALNAME:Bikram Yoga El Paseo
X-ORIGINAL-URL:https://bikramyogapalmdesert.com
X-WR-CALDESC:Events for Bikram Yoga El Paseo
REFRESH-INTERVAL;VALUE=DURATION:PT1H
X-Robots-Tag:noindex
X-PUBLISHED-TTL:PT1H
BEGIN:VTIMEZONE
TZID:America/Los_Angeles
BEGIN:DAYLIGHT
TZOFFSETFROM:-0800
TZOFFSETTO:-0700
TZNAME:PDT
DTSTART:20240310T100000
END:DAYLIGHT
BEGIN:STANDARD
TZOFFSETFROM:-0700
TZOFFSETTO:-0800
TZNAME:PST
DTSTART:20241103T090000
END:STANDARD
BEGIN:DAYLIGHT
TZOFFSETFROM:-0800
TZOFFSETTO:-0700
TZNAME:PDT
DTSTART:20250309T100000
END:DAYLIGHT
BEGIN:STANDARD
TZOFFSETFROM:-0700
TZOFFSETTO:-0800
TZNAME:PST
DTSTART:20251102T090000
END:STANDARD
BEGIN:DAYLIGHT
TZOFFSETFROM:-0800
TZOFFSETTO:-0700
TZNAME:PDT
DTSTART:20260308T100000
END:DAYLIGHT
BEGIN:STANDARD
TZOFFSETFROM:-0700
TZOFFSETTO:-0800
TZNAME:PST
DTSTART:20261101T090000
END:STANDARD
END:VTIMEZONE
BEGIN:VEVENT
DTSTART;TZID=America/Los_Angeles:20250808T110000
DTEND;TZID=America/Los_Angeles:20250808T123000
DTSTAMP:20260425T051458
CREATED:20250510T210652Z
LAST-MODIFIED:20250609T235024Z
UID:53491-1754650800-1754656200@bikramyogapalmdesert.com
SUMMARY:4pm ALIX
DESCRIPTION:
URL:https://bikramyogapalmdesert.com/class-schedule/4pm-alix-252/
END:VEVENT
BEGIN:VEVENT
DTSTART;TZID=America/Los_Angeles:20250808T090000
DTEND;TZID=America/Los_Angeles:20250808T103000
DTSTAMP:20260425T051458
CREATED:20250510T205257Z
LAST-MODIFIED:20250510T205257Z
UID:53419-1754643600-1754649000@bikramyogapalmdesert.com
SUMMARY:9am JAYSON
DESCRIPTION:
URL:https://bikramyogapalmdesert.com/class-schedule/9am-jayson-59/
END:VEVENT
BEGIN:VEVENT
DTSTART;TZID=America/Los_Angeles:20250808T063000
DTEND;TZID=America/Los_Angeles:20250808T080000
DTSTAMP:20260425T051458
CREATED:20250510T204546Z
LAST-MODIFIED:20250510T204546Z
UID:53383-1754634600-1754640000@bikramyogapalmdesert.com
SUMMARY:6:30am LINA
DESCRIPTION:
URL:https://bikramyogapalmdesert.com/class-schedule/630am-lina-151/
END:VEVENT
BEGIN:VEVENT
DTSTART;TZID=America/Los_Angeles:20250807T100000
DTEND;TZID=America/Los_Angeles:20250807T110000
DTSTAMP:20260425T051458
CREATED:20250510T212137Z
LAST-MODIFIED:20250609T234916Z
UID:53546-1754560800-1754564400@bikramyogapalmdesert.com
SUMMARY:6pm ALIX $18/ 60min
DESCRIPTION:
URL:https://bikramyogapalmdesert.com/class-schedule/600pm-alix-18-60min-5/
END:VEVENT
BEGIN:VEVENT
DTSTART;TZID=America/Los_Angeles:20250807T080000
DTEND;TZID=America/Los_Angeles:20250807T093000
DTSTAMP:20260425T051458
CREATED:20250510T210352Z
LAST-MODIFIED:20250609T234842Z
UID:53473-1754553600-1754559000@bikramyogapalmdesert.com
SUMMARY:4pm ALIX
DESCRIPTION:
URL:https://bikramyogapalmdesert.com/class-schedule/4pm-alix-63/
END:VEVENT
BEGIN:VEVENT
DTSTART;TZID=America/Los_Angeles:20250806T110000
DTEND;TZID=America/Los_Angeles:20250806T120000
DTSTAMP:20260425T051458
CREATED:20250510T211819Z
LAST-MODIFIED:20250609T234801Z
UID:53528-1754478000-1754481600@bikramyogapalmdesert.com
SUMMARY:6pm LINA  $18/ 60min
DESCRIPTION:
URL:https://bikramyogapalmdesert.com/class-schedule/630pm-lina-18-60min-14/
END:VEVENT
BEGIN:VEVENT
DTSTART;TZID=America/Los_Angeles:20250806T090000
DTEND;TZID=America/Los_Angeles:20250806T103000
DTSTAMP:20260425T051458
CREATED:20250510T205618Z
LAST-MODIFIED:20250510T205618Z
UID:53437-1754470800-1754476200@bikramyogapalmdesert.com
SUMMARY:9am ALIX
DESCRIPTION:
URL:https://bikramyogapalmdesert.com/class-schedule/9am-alix-119/
END:VEVENT
BEGIN:VEVENT
DTSTART;TZID=America/Los_Angeles:20250805T090000
DTEND;TZID=America/Los_Angeles:20250805T103000
DTSTAMP:20260425T051458
CREATED:20250510T205938Z
LAST-MODIFIED:20250609T234702Z
UID:53455-1754384400-1754389800@bikramyogapalmdesert.com
SUMMARY:4pm LINA
DESCRIPTION:
URL:https://bikramyogapalmdesert.com/class-schedule/4pm-lina-176/
END:VEVENT
BEGIN:VEVENT
DTSTART;TZID=America/Los_Angeles:20250805T063000
DTEND;TZID=America/Los_Angeles:20250805T080000
DTSTAMP:20260425T051458
CREATED:20250510T204110Z
LAST-MODIFIED:20250510T204110Z
UID:53365-1754375400-1754380800@bikramyogapalmdesert.com
SUMMARY:6:30am JAYSON
DESCRIPTION:
URL:https://bikramyogapalmdesert.com/class-schedule/630am-jayson-27/
END:VEVENT
BEGIN:VEVENT
DTSTART;TZID=America/Los_Angeles:20250804T090000
DTEND;TZID=America/Los_Angeles:20250804T103000
DTSTAMP:20260425T051458
CREATED:20250510T211407Z
LAST-MODIFIED:20250609T234616Z
UID:53510-1754298000-1754303400@bikramyogapalmdesert.com
SUMMARY:6pm LINA  $18/ 60min
DESCRIPTION:
URL:https://bikramyogapalmdesert.com/class-schedule/630pm-lina-18-60min-5/
END:VEVENT
BEGIN:VEVENT
DTSTART;TZID=America/Los_Angeles:20250804T090000
DTEND;TZID=America/Los_Angeles:20250804T103000
DTSTAMP:20260425T051458
CREATED:20250510T204954Z
LAST-MODIFIED:20250510T204954Z
UID:53401-1754298000-1754303400@bikramyogapalmdesert.com
SUMMARY:9am JAYSON
DESCRIPTION:
URL:https://bikramyogapalmdesert.com/class-schedule/9am-jayson-50/
END:VEVENT
BEGIN:VEVENT
DTSTART;TZID=America/Los_Angeles:20250804T063000
DTEND;TZID=America/Los_Angeles:20250804T080000
DTSTAMP:20260425T051458
CREATED:20250510T203749Z
LAST-MODIFIED:20250510T203749Z
UID:53347-1754289000-1754294400@bikramyogapalmdesert.com
SUMMARY:6:30am JAYSON
DESCRIPTION:
URL:https://bikramyogapalmdesert.com/class-schedule/630am-jayson-18/
END:VEVENT
BEGIN:VEVENT
DTSTART;TZID=America/Los_Angeles:20250803T150000
DTEND;TZID=America/Los_Angeles:20250803T163000
DTSTAMP:20260425T051458
CREATED:20250510T203149Z
LAST-MODIFIED:20250510T203149Z
UID:53329-1754233200-1754238600@bikramyogapalmdesert.com
SUMMARY:3pm ALIX
DESCRIPTION:
URL:https://bikramyogapalmdesert.com/class-schedule/3pm-alix-39/
END:VEVENT
BEGIN:VEVENT
DTSTART;TZID=America/Los_Angeles:20250803T100000
DTEND;TZID=America/Los_Angeles:20250803T113000
DTSTAMP:20260425T051458
CREATED:20250510T202824Z
LAST-MODIFIED:20250510T202824Z
UID:53311-1754215200-1754220600@bikramyogapalmdesert.com
SUMMARY:10am JAYSON
DESCRIPTION:
URL:https://bikramyogapalmdesert.com/class-schedule/10am-jayson-43/
END:VEVENT
BEGIN:VEVENT
DTSTART;TZID=America/Los_Angeles:20250802T100000
DTEND;TZID=America/Los_Angeles:20250802T113000
DTSTAMP:20260425T051458
CREATED:20250510T202426Z
LAST-MODIFIED:20250510T202426Z
UID:53291-1754128800-1754134200@bikramyogapalmdesert.com
SUMMARY:10am JAYSON
DESCRIPTION:
URL:https://bikramyogapalmdesert.com/class-schedule/10am-jayson-33/
END:VEVENT
BEGIN:VEVENT
DTSTART;TZID=America/Los_Angeles:20250802T080000
DTEND;TZID=America/Los_Angeles:20250802T093000
DTSTAMP:20260425T051458
CREATED:20250510T202059Z
LAST-MODIFIED:20250510T202059Z
UID:53273-1754121600-1754127000@bikramyogapalmdesert.com
SUMMARY:8am LINA
DESCRIPTION:
URL:https://bikramyogapalmdesert.com/class-schedule/8am-lina-165/
END:VEVENT
BEGIN:VEVENT
DTSTART;TZID=America/Los_Angeles:20250801T110000
DTEND;TZID=America/Los_Angeles:20250801T123000
DTSTAMP:20260425T051458
CREATED:20250510T210634Z
LAST-MODIFIED:20250609T234237Z
UID:53489-1754046000-1754051400@bikramyogapalmdesert.com
SUMMARY:4pm ALIX
DESCRIPTION:
URL:https://bikramyogapalmdesert.com/class-schedule/4pm-alix-251/
END:VEVENT
BEGIN:VEVENT
DTSTART;TZID=America/Los_Angeles:20250801T090000
DTEND;TZID=America/Los_Angeles:20250801T103000
DTSTAMP:20260425T051458
CREATED:20250510T205237Z
LAST-MODIFIED:20250510T205237Z
UID:53417-1754038800-1754044200@bikramyogapalmdesert.com
SUMMARY:9am JAYSON
DESCRIPTION:
URL:https://bikramyogapalmdesert.com/class-schedule/9am-jayson-58/
END:VEVENT
BEGIN:VEVENT
DTSTART;TZID=America/Los_Angeles:20250801T063000
DTEND;TZID=America/Los_Angeles:20250801T080000
DTSTAMP:20260425T051458
CREATED:20250510T204523Z
LAST-MODIFIED:20250510T204523Z
UID:53381-1754029800-1754035200@bikramyogapalmdesert.com
SUMMARY:6:30am LINA
DESCRIPTION:
URL:https://bikramyogapalmdesert.com/class-schedule/630am-lina-150/
END:VEVENT
BEGIN:VEVENT
DTSTART;TZID=America/Los_Angeles:20250731T103000
DTEND;TZID=America/Los_Angeles:20250731T120000
DTSTAMP:20260425T051458
CREATED:20250510T212115Z
LAST-MODIFIED:20250609T234140Z
UID:53544-1753957800-1753963200@bikramyogapalmdesert.com
SUMMARY:6pm ALIX $18/ 60min
DESCRIPTION:
URL:https://bikramyogapalmdesert.com/class-schedule/600pm-alix-18-60min-4/
END:VEVENT
BEGIN:VEVENT
DTSTART;TZID=America/Los_Angeles:20250731T080000
DTEND;TZID=America/Los_Angeles:20250731T093000
DTSTAMP:20260425T051458
CREATED:20250510T210333Z
LAST-MODIFIED:20250609T234107Z
UID:53471-1753948800-1753954200@bikramyogapalmdesert.com
SUMMARY:4pm ALIX
DESCRIPTION:
URL:https://bikramyogapalmdesert.com/class-schedule/4pm-alix-62/
END:VEVENT
BEGIN:VEVENT
DTSTART;TZID=America/Los_Angeles:20250730T113000
DTEND;TZID=America/Los_Angeles:20250730T123000
DTSTAMP:20260425T051458
CREATED:20250510T211733Z
LAST-MODIFIED:20250609T234028Z
UID:53526-1753875000-1753878600@bikramyogapalmdesert.com
SUMMARY:6pm LINA  $18/ 60min
DESCRIPTION:
URL:https://bikramyogapalmdesert.com/class-schedule/630pm-lina-18-60min-13/
END:VEVENT
BEGIN:VEVENT
DTSTART;TZID=America/Los_Angeles:20250730T090000
DTEND;TZID=America/Los_Angeles:20250730T103000
DTSTAMP:20260425T051458
CREATED:20250510T205557Z
LAST-MODIFIED:20250510T205557Z
UID:53435-1753866000-1753871400@bikramyogapalmdesert.com
SUMMARY:9am ALIX
DESCRIPTION:
URL:https://bikramyogapalmdesert.com/class-schedule/9am-alix-118/
END:VEVENT
BEGIN:VEVENT
DTSTART;TZID=America/Los_Angeles:20250729T090000
DTEND;TZID=America/Los_Angeles:20250729T103000
DTSTAMP:20260425T051458
CREATED:20250510T205915Z
LAST-MODIFIED:20250609T233923Z
UID:53453-1753779600-1753785000@bikramyogapalmdesert.com
SUMMARY:4pm LINA
DESCRIPTION:
URL:https://bikramyogapalmdesert.com/class-schedule/4pm-lina-175/
END:VEVENT
BEGIN:VEVENT
DTSTART;TZID=America/Los_Angeles:20250729T063000
DTEND;TZID=America/Los_Angeles:20250729T080000
DTSTAMP:20260425T051458
CREATED:20250510T204043Z
LAST-MODIFIED:20250510T204043Z
UID:53363-1753770600-1753776000@bikramyogapalmdesert.com
SUMMARY:6:30am JAYSON
DESCRIPTION:
URL:https://bikramyogapalmdesert.com/class-schedule/630am-jayson-26/
END:VEVENT
BEGIN:VEVENT
DTSTART;TZID=America/Los_Angeles:20250728T110000
DTEND;TZID=America/Los_Angeles:20250728T123000
DTSTAMP:20260425T051458
CREATED:20250510T211344Z
LAST-MODIFIED:20250609T233846Z
UID:53508-1753700400-1753705800@bikramyogapalmdesert.com
SUMMARY:6pm LINA  $18/ 60min
DESCRIPTION:
URL:https://bikramyogapalmdesert.com/class-schedule/630pm-lina-18-60min-4/
END:VEVENT
BEGIN:VEVENT
DTSTART;TZID=America/Los_Angeles:20250728T090000
DTEND;TZID=America/Los_Angeles:20250728T103000
DTSTAMP:20260425T051458
CREATED:20250510T204931Z
LAST-MODIFIED:20250510T204931Z
UID:53399-1753693200-1753698600@bikramyogapalmdesert.com
SUMMARY:9am JAYSON
DESCRIPTION:
URL:https://bikramyogapalmdesert.com/class-schedule/9am-jayson-49/
END:VEVENT
BEGIN:VEVENT
DTSTART;TZID=America/Los_Angeles:20250728T063000
DTEND;TZID=America/Los_Angeles:20250728T080000
DTSTAMP:20260425T051458
CREATED:20250510T203728Z
LAST-MODIFIED:20250510T203728Z
UID:53345-1753684200-1753689600@bikramyogapalmdesert.com
SUMMARY:6:30am JAYSON
DESCRIPTION:
URL:https://bikramyogapalmdesert.com/class-schedule/630am-jayson-17/
END:VEVENT
BEGIN:VEVENT
DTSTART;TZID=America/Los_Angeles:20250727T150000
DTEND;TZID=America/Los_Angeles:20250727T163000
DTSTAMP:20260425T051458
CREATED:20250510T203127Z
LAST-MODIFIED:20250510T203127Z
UID:53327-1753628400-1753633800@bikramyogapalmdesert.com
SUMMARY:3pm ALIX
DESCRIPTION:
URL:https://bikramyogapalmdesert.com/class-schedule/3pm-alix-38/
END:VEVENT
BEGIN:VEVENT
DTSTART;TZID=America/Los_Angeles:20250727T100000
DTEND;TZID=America/Los_Angeles:20250727T113000
DTSTAMP:20260425T051458
CREATED:20250510T202800Z
LAST-MODIFIED:20250510T202800Z
UID:53309-1753610400-1753615800@bikramyogapalmdesert.com
SUMMARY:10am JAYSON
DESCRIPTION:
URL:https://bikramyogapalmdesert.com/class-schedule/10am-jayson-42/
END:VEVENT
END:VCALENDAR