BEGIN:VCALENDAR
VERSION:2.0
PRODID:-//Bikram Yoga El Paseo - ECPv6.15.13//NONSGML v1.0//EN
CALSCALE:GREGORIAN
METHOD:PUBLISH
X-WR-CALNAME:Bikram Yoga El Paseo
X-ORIGINAL-URL:https://bikramyogapalmdesert.com
X-WR-CALDESC:Events for Bikram Yoga El Paseo
REFRESH-INTERVAL;VALUE=DURATION:PT1H
X-Robots-Tag:noindex
X-PUBLISHED-TTL:PT1H
BEGIN:VTIMEZONE
TZID:America/Los_Angeles
BEGIN:DAYLIGHT
TZOFFSETFROM:-0800
TZOFFSETTO:-0700
TZNAME:PDT
DTSTART:20240310T100000
END:DAYLIGHT
BEGIN:STANDARD
TZOFFSETFROM:-0700
TZOFFSETTO:-0800
TZNAME:PST
DTSTART:20241103T090000
END:STANDARD
BEGIN:DAYLIGHT
TZOFFSETFROM:-0800
TZOFFSETTO:-0700
TZNAME:PDT
DTSTART:20250309T100000
END:DAYLIGHT
BEGIN:STANDARD
TZOFFSETFROM:-0700
TZOFFSETTO:-0800
TZNAME:PST
DTSTART:20251102T090000
END:STANDARD
BEGIN:DAYLIGHT
TZOFFSETFROM:-0800
TZOFFSETTO:-0700
TZNAME:PDT
DTSTART:20260308T100000
END:DAYLIGHT
BEGIN:STANDARD
TZOFFSETFROM:-0700
TZOFFSETTO:-0800
TZNAME:PST
DTSTART:20261101T090000
END:STANDARD
END:VTIMEZONE
BEGIN:VEVENT
DTSTART;TZID=America/Los_Angeles:20250821T080000
DTEND;TZID=America/Los_Angeles:20250821T093000
DTSTAMP:20260425T064728
CREATED:20250510T210430Z
LAST-MODIFIED:20250610T000501Z
UID:53477-1755763200-1755768600@bikramyogapalmdesert.com
SUMMARY:4pm ALIX
DESCRIPTION:
URL:https://bikramyogapalmdesert.com/class-schedule/4pm-alix-245/
END:VEVENT
BEGIN:VEVENT
DTSTART;TZID=America/Los_Angeles:20250820T110000
DTEND;TZID=America/Los_Angeles:20250820T123000
DTSTAMP:20260425T064728
CREATED:20250510T211901Z
LAST-MODIFIED:20250610T000414Z
UID:53532-1755687600-1755693000@bikramyogapalmdesert.com
SUMMARY:6pm LINA  $18/ 60min
DESCRIPTION:
URL:https://bikramyogapalmdesert.com/class-schedule/600pm-lina-18-60min-2/
END:VEVENT
BEGIN:VEVENT
DTSTART;TZID=America/Los_Angeles:20250820T090000
DTEND;TZID=America/Los_Angeles:20250820T103000
DTSTAMP:20260425T064728
CREATED:20250510T205657Z
LAST-MODIFIED:20250510T205657Z
UID:53441-1755680400-1755685800@bikramyogapalmdesert.com
SUMMARY:9am ALIX
DESCRIPTION:
URL:https://bikramyogapalmdesert.com/class-schedule/9am-alix-121/
END:VEVENT
BEGIN:VEVENT
DTSTART;TZID=America/Los_Angeles:20250819T090000
DTEND;TZID=America/Los_Angeles:20250819T103000
DTSTAMP:20260425T064728
CREATED:20250510T210034Z
LAST-MODIFIED:20250610T000317Z
UID:53459-1755594000-1755599400@bikramyogapalmdesert.com
SUMMARY:4pm LINA
DESCRIPTION:
URL:https://bikramyogapalmdesert.com/class-schedule/4pm-lina-178/
END:VEVENT
BEGIN:VEVENT
DTSTART;TZID=America/Los_Angeles:20250819T063000
DTEND;TZID=America/Los_Angeles:20250819T080000
DTSTAMP:20260425T064728
CREATED:20250510T204154Z
LAST-MODIFIED:20250510T204154Z
UID:53369-1755585000-1755590400@bikramyogapalmdesert.com
SUMMARY:6:30am JAYSON
DESCRIPTION:
URL:https://bikramyogapalmdesert.com/class-schedule/630am-jayson-29/
END:VEVENT
BEGIN:VEVENT
DTSTART;TZID=America/Los_Angeles:20250818T090000
DTEND;TZID=America/Los_Angeles:20250818T103000
DTSTAMP:20260425T064728
CREATED:20250510T211451Z
LAST-MODIFIED:20250610T000233Z
UID:53514-1755507600-1755513000@bikramyogapalmdesert.com
SUMMARY:6pm LINA  $18/ 60min
DESCRIPTION:
URL:https://bikramyogapalmdesert.com/class-schedule/630pm-lina-18-60min-7/
END:VEVENT
BEGIN:VEVENT
DTSTART;TZID=America/Los_Angeles:20250818T090000
DTEND;TZID=America/Los_Angeles:20250818T103000
DTSTAMP:20260425T064728
CREATED:20250510T205030Z
LAST-MODIFIED:20250510T205030Z
UID:53405-1755507600-1755513000@bikramyogapalmdesert.com
SUMMARY:9am JAYSON
DESCRIPTION:
URL:https://bikramyogapalmdesert.com/class-schedule/9am-jayson-52/
END:VEVENT
BEGIN:VEVENT
DTSTART;TZID=America/Los_Angeles:20250818T063000
DTEND;TZID=America/Los_Angeles:20250818T080000
DTSTAMP:20260425T064728
CREATED:20250510T203833Z
LAST-MODIFIED:20250510T203833Z
UID:53351-1755498600-1755504000@bikramyogapalmdesert.com
SUMMARY:6:30am JAYSON
DESCRIPTION:
URL:https://bikramyogapalmdesert.com/class-schedule/630am-jayson-20/
END:VEVENT
BEGIN:VEVENT
DTSTART;TZID=America/Los_Angeles:20250817T150000
DTEND;TZID=America/Los_Angeles:20250817T163000
DTSTAMP:20260425T064728
CREATED:20250510T203236Z
LAST-MODIFIED:20250510T203236Z
UID:53333-1755442800-1755448200@bikramyogapalmdesert.com
SUMMARY:3pm ALIX
DESCRIPTION:
URL:https://bikramyogapalmdesert.com/class-schedule/3pm-alix-41/
END:VEVENT
BEGIN:VEVENT
DTSTART;TZID=America/Los_Angeles:20250817T100000
DTEND;TZID=America/Los_Angeles:20250817T113000
DTSTAMP:20260425T064728
CREATED:20250510T202902Z
LAST-MODIFIED:20250510T202902Z
UID:53315-1755424800-1755430200@bikramyogapalmdesert.com
SUMMARY:10am JAYSON
DESCRIPTION:
URL:https://bikramyogapalmdesert.com/class-schedule/10am-jayson-45/
END:VEVENT
BEGIN:VEVENT
DTSTART;TZID=America/Los_Angeles:20250816T100000
DTEND;TZID=America/Los_Angeles:20250816T113000
DTSTAMP:20260425T064728
CREATED:20250510T202515Z
LAST-MODIFIED:20250510T202515Z
UID:53295-1755338400-1755343800@bikramyogapalmdesert.com
SUMMARY:10am JAYSON
DESCRIPTION:
URL:https://bikramyogapalmdesert.com/class-schedule/10am-jayson-35/
END:VEVENT
BEGIN:VEVENT
DTSTART;TZID=America/Los_Angeles:20250816T080000
DTEND;TZID=America/Los_Angeles:20250816T093000
DTSTAMP:20260425T064728
CREATED:20250510T202143Z
LAST-MODIFIED:20250510T202143Z
UID:53277-1755331200-1755336600@bikramyogapalmdesert.com
SUMMARY:8am LINA
DESCRIPTION:
URL:https://bikramyogapalmdesert.com/class-schedule/8am-lina-167/
END:VEVENT
BEGIN:VEVENT
DTSTART;TZID=America/Los_Angeles:20250815T110000
DTEND;TZID=America/Los_Angeles:20250815T123000
DTSTAMP:20260425T064728
CREATED:20250510T210712Z
LAST-MODIFIED:20250609T235749Z
UID:53493-1755255600-1755261000@bikramyogapalmdesert.com
SUMMARY:4pm ALIX
DESCRIPTION:
URL:https://bikramyogapalmdesert.com/class-schedule/4pm-alix-253/
END:VEVENT
BEGIN:VEVENT
DTSTART;TZID=America/Los_Angeles:20250815T090000
DTEND;TZID=America/Los_Angeles:20250815T103000
DTSTAMP:20260425T064728
CREATED:20250510T205316Z
LAST-MODIFIED:20250510T205316Z
UID:53421-1755248400-1755253800@bikramyogapalmdesert.com
SUMMARY:9am JAYSON
DESCRIPTION:
URL:https://bikramyogapalmdesert.com/class-schedule/9am-jayson-60/
END:VEVENT
BEGIN:VEVENT
DTSTART;TZID=America/Los_Angeles:20250815T063000
DTEND;TZID=America/Los_Angeles:20250815T080000
DTSTAMP:20260425T064728
CREATED:20250510T204611Z
LAST-MODIFIED:20250510T204611Z
UID:53385-1755239400-1755244800@bikramyogapalmdesert.com
SUMMARY:6:30am LINA
DESCRIPTION:
URL:https://bikramyogapalmdesert.com/class-schedule/630am-lina-152/
END:VEVENT
BEGIN:VEVENT
DTSTART;TZID=America/Los_Angeles:20250814T110000
DTEND;TZID=America/Los_Angeles:20250814T123000
DTSTAMP:20260425T064728
CREATED:20250510T212158Z
LAST-MODIFIED:20250609T235533Z
UID:53548-1755169200-1755174600@bikramyogapalmdesert.com
SUMMARY:6pm ALIX $18/ 60min
DESCRIPTION:
URL:https://bikramyogapalmdesert.com/class-schedule/600pm-alix-18-60min-6/
END:VEVENT
BEGIN:VEVENT
DTSTART;TZID=America/Los_Angeles:20250814T080000
DTEND;TZID=America/Los_Angeles:20250814T093000
DTSTAMP:20260425T064728
CREATED:20250510T210412Z
LAST-MODIFIED:20250609T235506Z
UID:53475-1755158400-1755163800@bikramyogapalmdesert.com
SUMMARY:4pm ALIX
DESCRIPTION:
URL:https://bikramyogapalmdesert.com/class-schedule/4pm-alix-64/
END:VEVENT
BEGIN:VEVENT
DTSTART;TZID=America/Los_Angeles:20250813T110000
DTEND;TZID=America/Los_Angeles:20250813T123000
DTSTAMP:20260425T064728
CREATED:20250510T211843Z
LAST-MODIFIED:20250609T235436Z
UID:53530-1755082800-1755088200@bikramyogapalmdesert.com
SUMMARY:6pm LINA  $18/ 60min
DESCRIPTION:
URL:https://bikramyogapalmdesert.com/class-schedule/600pm-lina-18-60min/
END:VEVENT
BEGIN:VEVENT
DTSTART;TZID=America/Los_Angeles:20250813T090000
DTEND;TZID=America/Los_Angeles:20250813T103000
DTSTAMP:20260425T064728
CREATED:20250510T205638Z
LAST-MODIFIED:20250510T205638Z
UID:53439-1755075600-1755081000@bikramyogapalmdesert.com
SUMMARY:9am ALIX
DESCRIPTION:
URL:https://bikramyogapalmdesert.com/class-schedule/9am-alix-120/
END:VEVENT
BEGIN:VEVENT
DTSTART;TZID=America/Los_Angeles:20250812T090000
DTEND;TZID=America/Los_Angeles:20250812T103000
DTSTAMP:20260425T064728
CREATED:20250510T205957Z
LAST-MODIFIED:20250609T235337Z
UID:53457-1754989200-1754994600@bikramyogapalmdesert.com
SUMMARY:4pm LINA
DESCRIPTION:
URL:https://bikramyogapalmdesert.com/class-schedule/4pm-lina-177/
END:VEVENT
BEGIN:VEVENT
DTSTART;TZID=America/Los_Angeles:20250812T063000
DTEND;TZID=America/Los_Angeles:20250812T080000
DTSTAMP:20260425T064728
CREATED:20250510T204134Z
LAST-MODIFIED:20250609T235826Z
UID:53367-1754980200-1754985600@bikramyogapalmdesert.com
SUMMARY:6:30am JAYSON
DESCRIPTION:
URL:https://bikramyogapalmdesert.com/class-schedule/630am-jayson-28/
END:VEVENT
BEGIN:VEVENT
DTSTART;TZID=America/Los_Angeles:20250811T110000
DTEND;TZID=America/Los_Angeles:20250811T123000
DTSTAMP:20260425T064728
CREATED:20250510T211431Z
LAST-MODIFIED:20250609T235229Z
UID:53512-1754910000-1754915400@bikramyogapalmdesert.com
SUMMARY:6pm LINA  $18/ 60min
DESCRIPTION:
URL:https://bikramyogapalmdesert.com/class-schedule/630pm-lina-18-60min-6/
END:VEVENT
BEGIN:VEVENT
DTSTART;TZID=America/Los_Angeles:20250811T090000
DTEND;TZID=America/Los_Angeles:20250811T103000
DTSTAMP:20260425T064728
CREATED:20250510T205012Z
LAST-MODIFIED:20250510T205012Z
UID:53403-1754902800-1754908200@bikramyogapalmdesert.com
SUMMARY:9am JAYSON
DESCRIPTION:
URL:https://bikramyogapalmdesert.com/class-schedule/9am-jayson-51/
END:VEVENT
BEGIN:VEVENT
DTSTART;TZID=America/Los_Angeles:20250811T063000
DTEND;TZID=America/Los_Angeles:20250811T080000
DTSTAMP:20260425T064728
CREATED:20250510T203809Z
LAST-MODIFIED:20250510T203809Z
UID:53349-1754893800-1754899200@bikramyogapalmdesert.com
SUMMARY:6:30am JAYSON
DESCRIPTION:
URL:https://bikramyogapalmdesert.com/class-schedule/630am-jayson-19/
END:VEVENT
BEGIN:VEVENT
DTSTART;TZID=America/Los_Angeles:20250810T150000
DTEND;TZID=America/Los_Angeles:20250810T163000
DTSTAMP:20260425T064728
CREATED:20250510T203208Z
LAST-MODIFIED:20250510T203208Z
UID:53331-1754838000-1754843400@bikramyogapalmdesert.com
SUMMARY:3pm ALIX
DESCRIPTION:
URL:https://bikramyogapalmdesert.com/class-schedule/3pm-alix-40/
END:VEVENT
BEGIN:VEVENT
DTSTART;TZID=America/Los_Angeles:20250810T100000
DTEND;TZID=America/Los_Angeles:20250810T113000
DTSTAMP:20260425T064728
CREATED:20250510T202841Z
LAST-MODIFIED:20250510T202841Z
UID:53313-1754820000-1754825400@bikramyogapalmdesert.com
SUMMARY:10am JAYSON
DESCRIPTION:
URL:https://bikramyogapalmdesert.com/class-schedule/10am-jayson-44/
END:VEVENT
BEGIN:VEVENT
DTSTART;TZID=America/Los_Angeles:20250809T100000
DTEND;TZID=America/Los_Angeles:20250809T113000
DTSTAMP:20260425T064728
CREATED:20250510T202451Z
LAST-MODIFIED:20250510T202451Z
UID:53293-1754733600-1754739000@bikramyogapalmdesert.com
SUMMARY:10am JAYSON
DESCRIPTION:
URL:https://bikramyogapalmdesert.com/class-schedule/10am-jayson-34/
END:VEVENT
BEGIN:VEVENT
DTSTART;TZID=America/Los_Angeles:20250809T080000
DTEND;TZID=America/Los_Angeles:20250809T093000
DTSTAMP:20260425T064728
CREATED:20250510T202119Z
LAST-MODIFIED:20250510T202119Z
UID:53275-1754726400-1754731800@bikramyogapalmdesert.com
SUMMARY:8am LINA
DESCRIPTION:
URL:https://bikramyogapalmdesert.com/class-schedule/8am-lina-166/
END:VEVENT
BEGIN:VEVENT
DTSTART;TZID=America/Los_Angeles:20250808T110000
DTEND;TZID=America/Los_Angeles:20250808T123000
DTSTAMP:20260425T064728
CREATED:20250510T210652Z
LAST-MODIFIED:20250609T235024Z
UID:53491-1754650800-1754656200@bikramyogapalmdesert.com
SUMMARY:4pm ALIX
DESCRIPTION:
URL:https://bikramyogapalmdesert.com/class-schedule/4pm-alix-252/
END:VEVENT
BEGIN:VEVENT
DTSTART;TZID=America/Los_Angeles:20250808T090000
DTEND;TZID=America/Los_Angeles:20250808T103000
DTSTAMP:20260425T064728
CREATED:20250510T205257Z
LAST-MODIFIED:20250510T205257Z
UID:53419-1754643600-1754649000@bikramyogapalmdesert.com
SUMMARY:9am JAYSON
DESCRIPTION:
URL:https://bikramyogapalmdesert.com/class-schedule/9am-jayson-59/
END:VEVENT
END:VCALENDAR