BEGIN:VCALENDAR
VERSION:2.0
PRODID:-//Bikram Yoga El Paseo - ECPv6.15.13//NONSGML v1.0//EN
CALSCALE:GREGORIAN
METHOD:PUBLISH
X-WR-CALNAME:Bikram Yoga El Paseo
X-ORIGINAL-URL:https://bikramyogapalmdesert.com
X-WR-CALDESC:Events for Bikram Yoga El Paseo
REFRESH-INTERVAL;VALUE=DURATION:PT1H
X-Robots-Tag:noindex
X-PUBLISHED-TTL:PT1H
BEGIN:VTIMEZONE
TZID:America/Los_Angeles
BEGIN:DAYLIGHT
TZOFFSETFROM:-0800
TZOFFSETTO:-0700
TZNAME:PDT
DTSTART:20250309T100000
END:DAYLIGHT
BEGIN:STANDARD
TZOFFSETFROM:-0700
TZOFFSETTO:-0800
TZNAME:PST
DTSTART:20251102T090000
END:STANDARD
BEGIN:DAYLIGHT
TZOFFSETFROM:-0800
TZOFFSETTO:-0700
TZNAME:PDT
DTSTART:20260308T100000
END:DAYLIGHT
BEGIN:STANDARD
TZOFFSETFROM:-0700
TZOFFSETTO:-0800
TZNAME:PST
DTSTART:20261101T090000
END:STANDARD
BEGIN:DAYLIGHT
TZOFFSETFROM:-0800
TZOFFSETTO:-0700
TZNAME:PDT
DTSTART:20270314T100000
END:DAYLIGHT
BEGIN:STANDARD
TZOFFSETFROM:-0700
TZOFFSETTO:-0800
TZNAME:PST
DTSTART:20271107T090000
END:STANDARD
END:VTIMEZONE
BEGIN:VEVENT
DTSTART;TZID=America/Los_Angeles:20260117T080000
DTEND;TZID=America/Los_Angeles:20260117T093000
DTSTAMP:20260423T173332
CREATED:20250610T004510Z
LAST-MODIFIED:20251004T223448Z
UID:53865-1768636800-1768642200@bikramyogapalmdesert.com
SUMMARY:8am ANNMARIE
DESCRIPTION:
URL:https://bikramyogapalmdesert.com/class-schedule/8am-lina-189/
END:VEVENT
BEGIN:VEVENT
DTSTART;TZID=America/Los_Angeles:20260117T100000
DTEND;TZID=America/Los_Angeles:20260117T113000
DTSTAMP:20260423T173332
CREATED:20250610T005312Z
LAST-MODIFIED:20251004T223435Z
UID:53899-1768644000-1768649400@bikramyogapalmdesert.com
SUMMARY:10am LEESANN
DESCRIPTION:
URL:https://bikramyogapalmdesert.com/class-schedule/10am-jayson-67/
END:VEVENT
BEGIN:VEVENT
DTSTART;TZID=America/Los_Angeles:20260118T100000
DTEND;TZID=America/Los_Angeles:20260118T113000
DTSTAMP:20260423T173332
CREATED:20250610T010219Z
LAST-MODIFIED:20251110T003035Z
UID:53935-1768730400-1768735800@bikramyogapalmdesert.com
SUMMARY:10am ANN MARIE
DESCRIPTION:
URL:https://bikramyogapalmdesert.com/class-schedule/10am-ann-marie-100/
END:VEVENT
BEGIN:VEVENT
DTSTART;TZID=America/Los_Angeles:20260118T120000
DTEND;TZID=America/Los_Angeles:20260118T133000
DTSTAMP:20260423T173332
CREATED:20250610T011218Z
LAST-MODIFIED:20250610T011218Z
UID:53969-1768737600-1768743000@bikramyogapalmdesert.com
SUMMARY:3pm ALIX
DESCRIPTION:
URL:https://bikramyogapalmdesert.com/class-schedule/3pm-alix-62/
END:VEVENT
BEGIN:VEVENT
DTSTART;TZID=America/Los_Angeles:20260119T063000
DTEND;TZID=America/Los_Angeles:20260119T090000
DTSTAMP:20260423T173332
CREATED:20250610T203014Z
LAST-MODIFIED:20251004T223344Z
UID:53995-1768804200-1768813200@bikramyogapalmdesert.com
SUMMARY:6:30am LEESANN
DESCRIPTION:
URL:https://bikramyogapalmdesert.com/class-schedule/630am-ann-marie-46/
END:VEVENT
BEGIN:VEVENT
DTSTART;TZID=America/Los_Angeles:20260119T090000
DTEND;TZID=America/Los_Angeles:20260119T103000
DTSTAMP:20260423T173332
CREATED:20250610T204038Z
LAST-MODIFIED:20251004T223319Z
UID:54027-1768813200-1768818600@bikramyogapalmdesert.com
SUMMARY:9am LINA
DESCRIPTION:
URL:https://bikramyogapalmdesert.com/class-schedule/9am-jayson-74/
END:VEVENT
BEGIN:VEVENT
DTSTART;TZID=America/Los_Angeles:20260119T100000
DTEND;TZID=America/Los_Angeles:20260119T113000
DTSTAMP:20260423T173332
CREATED:20250610T220847Z
LAST-MODIFIED:20250610T220847Z
UID:54280-1768816800-1768822200@bikramyogapalmdesert.com
SUMMARY:6pm LINA $18/60min
DESCRIPTION:
URL:https://bikramyogapalmdesert.com/class-schedule/6pm-lina-18-60min-37/
END:VEVENT
BEGIN:VEVENT
DTSTART;TZID=America/Los_Angeles:20260120T063000
DTEND;TZID=America/Los_Angeles:20260120T080000
DTSTAMP:20260423T173332
CREATED:20250610T205320Z
LAST-MODIFIED:20251004T223302Z
UID:54071-1768890600-1768896000@bikramyogapalmdesert.com
SUMMARY:6:30am DARLENE
DESCRIPTION:
URL:https://bikramyogapalmdesert.com/class-schedule/630am-ann-mariesilent-32/
CATEGORIES:Ann Marie
END:VEVENT
BEGIN:VEVENT
DTSTART;TZID=America/Los_Angeles:20260120T090000
DTEND;TZID=America/Los_Angeles:20260120T103000
DTSTAMP:20260423T173332
CREATED:20250610T213641Z
LAST-MODIFIED:20250610T213641Z
UID:54205-1768899600-1768905000@bikramyogapalmdesert.com
SUMMARY:4pm LINA
DESCRIPTION:
URL:https://bikramyogapalmdesert.com/class-schedule/4pm-lina-192/
END:VEVENT
BEGIN:VEVENT
DTSTART;TZID=America/Los_Angeles:20260120T113000
DTEND;TZID=America/Los_Angeles:20260120T123000
DTSTAMP:20260423T173332
CREATED:20250610T221935Z
LAST-MODIFIED:20250610T221935Z
UID:54308-1768908600-1768912200@bikramyogapalmdesert.com
SUMMARY:6pm LINA $18/60min
DESCRIPTION:
URL:https://bikramyogapalmdesert.com/class-schedule/6pm-lina-18-60min-51/
END:VEVENT
BEGIN:VEVENT
DTSTART;TZID=America/Los_Angeles:20260121T063000
DTEND;TZID=America/Los_Angeles:20260121T080000
DTSTAMP:20260423T173332
CREATED:20250610T210118Z
LAST-MODIFIED:20251004T223133Z
UID:54105-1768977000-1768982400@bikramyogapalmdesert.com
SUMMARY:6:30am ANNMARIE *silent
DESCRIPTION:
URL:https://bikramyogapalmdesert.com/class-schedule/630am-lina-165/
END:VEVENT
BEGIN:VEVENT
DTSTART;TZID=America/Los_Angeles:20260121T090000
DTEND;TZID=America/Los_Angeles:20260121T103000
DTSTAMP:20260423T173332
CREATED:20250610T210856Z
LAST-MODIFIED:20250610T210856Z
UID:54133-1768986000-1768991400@bikramyogapalmdesert.com
SUMMARY:9am ALIX
DESCRIPTION:
URL:https://bikramyogapalmdesert.com/class-schedule/9am-alix-136/
END:VEVENT
BEGIN:VEVENT
DTSTART;TZID=America/Los_Angeles:20260121T103000
DTEND;TZID=America/Los_Angeles:20260121T120000
DTSTAMP:20260423T173332
CREATED:20250610T222945Z
LAST-MODIFIED:20251004T231048Z
UID:54334-1768991400-1768996800@bikramyogapalmdesert.com
SUMMARY:6pm LINA  60/$18
DESCRIPTION:
URL:https://bikramyogapalmdesert.com/class-schedule/6pm-jayson-18-60min-12/
END:VEVENT
BEGIN:VEVENT
DTSTART;TZID=America/Los_Angeles:20260122T090000
DTEND;TZID=America/Los_Angeles:20260122T103000
DTSTAMP:20260423T173332
CREATED:20250610T211519Z
LAST-MODIFIED:20260121T005610Z
UID:54153-1769072400-1769077800@bikramyogapalmdesert.com
SUMMARY:9am ANN MARIE
DESCRIPTION:
URL:https://bikramyogapalmdesert.com/class-schedule/9am-jayson-85/
END:VEVENT
BEGIN:VEVENT
DTSTART;TZID=America/Los_Angeles:20260122T100000
DTEND;TZID=America/Los_Angeles:20260122T113000
DTSTAMP:20260423T173332
CREATED:20250610T214519Z
LAST-MODIFIED:20251216T220727Z
UID:54228-1769076000-1769081400@bikramyogapalmdesert.com
SUMMARY:4pm DARLENE
DESCRIPTION:
URL:https://bikramyogapalmdesert.com/class-schedule/4pm-alix-261/
CATEGORIES:Alix
END:VEVENT
BEGIN:VEVENT
DTSTART;TZID=America/Los_Angeles:20260122T120000
DTEND;TZID=America/Los_Angeles:20260122T123000
DTSTAMP:20260423T173332
CREATED:20250610T224026Z
LAST-MODIFIED:20251216T220747Z
UID:54356-1769083200-1769085000@bikramyogapalmdesert.com
SUMMARY:6pm ANNMARIE $18/60min
DESCRIPTION:
URL:https://bikramyogapalmdesert.com/class-schedule/6pm-alix-18-60min-20/
CATEGORIES:Alix
END:VEVENT
BEGIN:VEVENT
DTSTART;TZID=America/Los_Angeles:20260123T063000
DTEND;TZID=America/Los_Angeles:20260123T080000
DTSTAMP:20260423T173332
CREATED:20250610T205451Z
LAST-MODIFIED:20250930T205955Z
UID:54079-1769149800-1769155200@bikramyogapalmdesert.com
SUMMARY:6:30am ANN MARIE*silent
DESCRIPTION:
URL:https://bikramyogapalmdesert.com/class-schedule/630am-ann-mariesilent-36/
CATEGORIES:Ann Marie
END:VEVENT
BEGIN:VEVENT
DTSTART;TZID=America/Los_Angeles:20260123T090000
DTEND;TZID=America/Los_Angeles:20260123T103000
DTSTAMP:20260423T173332
CREATED:20250610T212549Z
LAST-MODIFIED:20250930T205952Z
UID:54179-1769158800-1769164200@bikramyogapalmdesert.com
SUMMARY:9am ANN MARIE
DESCRIPTION:
URL:https://bikramyogapalmdesert.com/class-schedule/9am-ann-marie-31/
CATEGORIES:Ann Marie
END:VEVENT
BEGIN:VEVENT
DTSTART;TZID=America/Los_Angeles:20260123T103000
DTEND;TZID=America/Los_Angeles:20260123T120000
DTSTAMP:20260423T173332
CREATED:20250610T215429Z
LAST-MODIFIED:20250930T204809Z
UID:54254-1769164200-1769169600@bikramyogapalmdesert.com
SUMMARY:4pm ALIX
DESCRIPTION:
URL:https://bikramyogapalmdesert.com/class-schedule/4pm-alix-274/
CATEGORIES:Alix
END:VEVENT
BEGIN:VEVENT
DTSTART;TZID=America/Los_Angeles:20260124T080000
DTEND;TZID=America/Los_Angeles:20260124T093000
DTSTAMP:20260423T173332
CREATED:20250610T004533Z
LAST-MODIFIED:20260121T005321Z
UID:53867-1769241600-1769247000@bikramyogapalmdesert.com
SUMMARY:8am LEESANN
DESCRIPTION:
URL:https://bikramyogapalmdesert.com/class-schedule/8am-lina-190/
END:VEVENT
BEGIN:VEVENT
DTSTART;TZID=America/Los_Angeles:20260124T100000
DTEND;TZID=America/Los_Angeles:20260124T113000
DTSTAMP:20260423T173332
CREATED:20250610T005338Z
LAST-MODIFIED:20260121T005306Z
UID:53901-1769248800-1769254200@bikramyogapalmdesert.com
SUMMARY:10am ALIX
DESCRIPTION:
URL:https://bikramyogapalmdesert.com/class-schedule/10am-jayson-68/
END:VEVENT
BEGIN:VEVENT
DTSTART;TZID=America/Los_Angeles:20260125T100000
DTEND;TZID=America/Los_Angeles:20260125T113000
DTSTAMP:20260423T173332
CREATED:20250610T010241Z
LAST-MODIFIED:20260121T005246Z
UID:53937-1769335200-1769340600@bikramyogapalmdesert.com
SUMMARY:10am DARLENE
DESCRIPTION:
URL:https://bikramyogapalmdesert.com/class-schedule/10am-ann-marie-101/
END:VEVENT
BEGIN:VEVENT
DTSTART;TZID=America/Los_Angeles:20260125T120000
DTEND;TZID=America/Los_Angeles:20260125T133000
DTSTAMP:20260423T173332
CREATED:20250610T011246Z
LAST-MODIFIED:20250610T011246Z
UID:53971-1769342400-1769347800@bikramyogapalmdesert.com
SUMMARY:3pm ALIX
DESCRIPTION:
URL:https://bikramyogapalmdesert.com/class-schedule/3pm-alix-63/
END:VEVENT
BEGIN:VEVENT
DTSTART;TZID=America/Los_Angeles:20260126T063000
DTEND;TZID=America/Los_Angeles:20260126T090000
DTSTAMP:20260423T173332
CREATED:20250610T203046Z
LAST-MODIFIED:20251004T222842Z
UID:53997-1769409000-1769418000@bikramyogapalmdesert.com
SUMMARY:6:30am LEESANN
DESCRIPTION:
URL:https://bikramyogapalmdesert.com/class-schedule/630am-ann-marie-47/
END:VEVENT
BEGIN:VEVENT
DTSTART;TZID=America/Los_Angeles:20260126T090000
DTEND;TZID=America/Los_Angeles:20260126T103000
DTSTAMP:20260423T173332
CREATED:20250610T204113Z
LAST-MODIFIED:20251004T222825Z
UID:54029-1769418000-1769423400@bikramyogapalmdesert.com
SUMMARY:9am LINA
DESCRIPTION:
URL:https://bikramyogapalmdesert.com/class-schedule/9am-jayson-75/
END:VEVENT
BEGIN:VEVENT
DTSTART;TZID=America/Los_Angeles:20260126T100000
DTEND;TZID=America/Los_Angeles:20260126T113000
DTSTAMP:20260423T173332
CREATED:20250610T221013Z
LAST-MODIFIED:20250610T221013Z
UID:54284-1769421600-1769427000@bikramyogapalmdesert.com
SUMMARY:6pm LINA $18/60min
DESCRIPTION:
URL:https://bikramyogapalmdesert.com/class-schedule/6pm-lina-18-60min-39/
END:VEVENT
BEGIN:VEVENT
DTSTART;TZID=America/Los_Angeles:20260127T063000
DTEND;TZID=America/Los_Angeles:20260127T080000
DTSTAMP:20260423T173332
CREATED:20250610T205345Z
LAST-MODIFIED:20251004T222805Z
UID:54073-1769495400-1769500800@bikramyogapalmdesert.com
SUMMARY:6:30am DARLENE
DESCRIPTION:
URL:https://bikramyogapalmdesert.com/class-schedule/630am-ann-mariesilent-33/
CATEGORIES:Ann Marie
END:VEVENT
BEGIN:VEVENT
DTSTART;TZID=America/Los_Angeles:20260127T090000
DTEND;TZID=America/Los_Angeles:20260127T103000
DTSTAMP:20260423T173332
CREATED:20250610T213703Z
LAST-MODIFIED:20250610T213703Z
UID:54207-1769504400-1769509800@bikramyogapalmdesert.com
SUMMARY:4pm LINA
DESCRIPTION:
URL:https://bikramyogapalmdesert.com/class-schedule/4pm-lina-193/
END:VEVENT
BEGIN:VEVENT
DTSTART;TZID=America/Los_Angeles:20260127T113000
DTEND;TZID=America/Los_Angeles:20260127T123000
DTSTAMP:20260423T173332
CREATED:20250610T221955Z
LAST-MODIFIED:20250610T221955Z
UID:54310-1769513400-1769517000@bikramyogapalmdesert.com
SUMMARY:6pm LINA $18/60min
DESCRIPTION:
URL:https://bikramyogapalmdesert.com/class-schedule/6pm-lina-18-60min-52/
END:VEVENT
BEGIN:VEVENT
DTSTART;TZID=America/Los_Angeles:20260128T063000
DTEND;TZID=America/Los_Angeles:20260128T080000
DTSTAMP:20260423T173332
CREATED:20250610T210140Z
LAST-MODIFIED:20251004T222732Z
UID:54107-1769581800-1769587200@bikramyogapalmdesert.com
SUMMARY:6:30am ANNMARIE *silent
DESCRIPTION:
URL:https://bikramyogapalmdesert.com/class-schedule/630am-lina-166/
END:VEVENT
END:VCALENDAR