BEGIN:VCALENDAR
VERSION:2.0
PRODID:-//Bikram Yoga El Paseo - ECPv6.15.13//NONSGML v1.0//EN
CALSCALE:GREGORIAN
METHOD:PUBLISH
X-ORIGINAL-URL:https://bikramyogapalmdesert.com
X-WR-CALDESC:Events for Bikram Yoga El Paseo
REFRESH-INTERVAL;VALUE=DURATION:PT1H
X-Robots-Tag:noindex
X-PUBLISHED-TTL:PT1H
BEGIN:VTIMEZONE
TZID:America/Los_Angeles
BEGIN:DAYLIGHT
TZOFFSETFROM:-0800
TZOFFSETTO:-0700
TZNAME:PDT
DTSTART:20250309T100000
END:DAYLIGHT
BEGIN:STANDARD
TZOFFSETFROM:-0700
TZOFFSETTO:-0800
TZNAME:PST
DTSTART:20251102T090000
END:STANDARD
BEGIN:DAYLIGHT
TZOFFSETFROM:-0800
TZOFFSETTO:-0700
TZNAME:PDT
DTSTART:20260308T100000
END:DAYLIGHT
BEGIN:STANDARD
TZOFFSETFROM:-0700
TZOFFSETTO:-0800
TZNAME:PST
DTSTART:20261101T090000
END:STANDARD
BEGIN:DAYLIGHT
TZOFFSETFROM:-0800
TZOFFSETTO:-0700
TZNAME:PDT
DTSTART:20270314T100000
END:DAYLIGHT
BEGIN:STANDARD
TZOFFSETFROM:-0700
TZOFFSETTO:-0800
TZNAME:PST
DTSTART:20271107T090000
END:STANDARD
END:VTIMEZONE
BEGIN:VEVENT
DTSTART;TZID=America/Los_Angeles:20260210T063000
DTEND;TZID=America/Los_Angeles:20260210T080000
DTSTAMP:20260423T161009
CREATED:20251109T212930Z
LAST-MODIFIED:20251109T212932Z
UID:57865-1770705000-1770710400@bikramyogapalmdesert.com
SUMMARY:6:30am DARLENE
DESCRIPTION:
URL:https://bikramyogapalmdesert.com/class-schedule/630am-darlene/
END:VEVENT
BEGIN:VEVENT
DTSTART;TZID=America/Los_Angeles:20260210T160000
DTEND;TZID=America/Los_Angeles:20260210T173000
DTSTAMP:20260423T161009
CREATED:20251109T221407Z
LAST-MODIFIED:20251109T221408Z
UID:57950-1770739200-1770744600@bikramyogapalmdesert.com
SUMMARY:4pm LINA
DESCRIPTION:
URL:https://bikramyogapalmdesert.com/class-schedule/4pm-lina-3/
END:VEVENT
BEGIN:VEVENT
DTSTART;TZID=America/Los_Angeles:20260210T180000
DTEND;TZID=America/Los_Angeles:20260210T190000
DTSTAMP:20260423T161009
CREATED:20251109T224008Z
LAST-MODIFIED:20251109T224009Z
UID:57992-1770746400-1770750000@bikramyogapalmdesert.com
SUMMARY:6pm LINA*60min
DESCRIPTION:
URL:https://bikramyogapalmdesert.com/class-schedule/6pm-lina60min-5/
END:VEVENT
BEGIN:VEVENT
DTSTART;TZID=America/Los_Angeles:20260211T063000
DTEND;TZID=America/Los_Angeles:20260211T080000
DTSTAMP:20260423T161009
CREATED:20251109T213519Z
LAST-MODIFIED:20251109T213521Z
UID:57875-1770791400-1770796800@bikramyogapalmdesert.com
SUMMARY:6:30am ANN MARIE*silent
DESCRIPTION:
URL:https://bikramyogapalmdesert.com/class-schedule/630am-ann-mariesilent-38/
END:VEVENT
BEGIN:VEVENT
DTSTART;TZID=America/Los_Angeles:20260211T090000
DTEND;TZID=America/Los_Angeles:20260211T103000
DTSTAMP:20260423T161009
CREATED:20251109T215517Z
LAST-MODIFIED:20251109T215518Z
UID:57914-1770800400-1770805800@bikramyogapalmdesert.com
SUMMARY:9am ALIX
DESCRIPTION:
URL:https://bikramyogapalmdesert.com/class-schedule/9am-alix-2/
END:VEVENT
BEGIN:VEVENT
DTSTART;TZID=America/Los_Angeles:20260211T180000
DTEND;TZID=America/Los_Angeles:20260211T190000
DTSTAMP:20260423T161009
CREATED:20251109T224052Z
LAST-MODIFIED:20251109T224054Z
UID:57994-1770832800-1770836400@bikramyogapalmdesert.com
SUMMARY:6pm LINA*60min
DESCRIPTION:
URL:https://bikramyogapalmdesert.com/class-schedule/6pm-lina60min-6/
END:VEVENT
BEGIN:VEVENT
DTSTART;TZID=America/Los_Angeles:20260212T090000
DTEND;TZID=America/Los_Angeles:20260212T103000
DTSTAMP:20260423T161009
CREATED:20251109T220036Z
LAST-MODIFIED:20251109T220037Z
UID:57926-1770886800-1770892200@bikramyogapalmdesert.com
SUMMARY:9am KATTY
DESCRIPTION:
URL:https://bikramyogapalmdesert.com/class-schedule/9am-katty-2/
END:VEVENT
BEGIN:VEVENT
DTSTART;TZID=America/Los_Angeles:20260212T160000
DTEND;TZID=America/Los_Angeles:20260212T173000
DTSTAMP:20260423T161009
CREATED:20251109T222605Z
LAST-MODIFIED:20260112T021301Z
UID:57962-1770912000-1770917400@bikramyogapalmdesert.com
SUMMARY:4pm DARLENE
DESCRIPTION:
URL:https://bikramyogapalmdesert.com/class-schedule/4pm-alix-2/
END:VEVENT
BEGIN:VEVENT
DTSTART;TZID=America/Los_Angeles:20260212T180000
DTEND;TZID=America/Los_Angeles:20260212T190000
DTSTAMP:20260423T161009
CREATED:20251109T225927Z
LAST-MODIFIED:20260112T021252Z
UID:58022-1770919200-1770922800@bikramyogapalmdesert.com
SUMMARY:6pm ANN MARIE*60min
DESCRIPTION:
URL:https://bikramyogapalmdesert.com/class-schedule/6pm-alix60min-2/
END:VEVENT
BEGIN:VEVENT
DTSTART;TZID=America/Los_Angeles:20260213T063000
DTEND;TZID=America/Los_Angeles:20260213T080000
DTSTAMP:20260423T161009
CREATED:20251109T214152Z
LAST-MODIFIED:20251109T214154Z
UID:57887-1770964200-1770969600@bikramyogapalmdesert.com
SUMMARY:6:30am ANN MARIE*silent
DESCRIPTION:
URL:https://bikramyogapalmdesert.com/class-schedule/630am-ann-mariesilent-43/
END:VEVENT
BEGIN:VEVENT
DTSTART;TZID=America/Los_Angeles:20260213T090000
DTEND;TZID=America/Los_Angeles:20260213T103000
DTSTAMP:20260423T161009
CREATED:20251109T220643Z
LAST-MODIFIED:20251109T220643Z
UID:57938-1770973200-1770978600@bikramyogapalmdesert.com
SUMMARY:9am ANN MARIE
DESCRIPTION:
URL:https://bikramyogapalmdesert.com/class-schedule/9am-ann-marie-2/
END:VEVENT
BEGIN:VEVENT
DTSTART;TZID=America/Los_Angeles:20260213T160000
DTEND;TZID=America/Los_Angeles:20260213T173000
DTSTAMP:20260423T161009
CREATED:20251109T223141Z
LAST-MODIFIED:20251109T223142Z
UID:57974-1770998400-1771003800@bikramyogapalmdesert.com
SUMMARY:4pm ALIX
DESCRIPTION:
URL:https://bikramyogapalmdesert.com/class-schedule/4pm-alix-8/
END:VEVENT
BEGIN:VEVENT
DTSTART;TZID=America/Los_Angeles:20260214T080000
DTEND;TZID=America/Los_Angeles:20260214T093000
DTSTAMP:20260423T161009
CREATED:20251011T220953Z
LAST-MODIFIED:20251011T220954Z
UID:57784-1771056000-1771061400@bikramyogapalmdesert.com
SUMMARY:8am ANN MARIE
DESCRIPTION:
URL:https://bikramyogapalmdesert.com/class-schedule/8am-ann-marie-3/
END:VEVENT
BEGIN:VEVENT
DTSTART;TZID=America/Los_Angeles:20260214T100000
DTEND;TZID=America/Los_Angeles:20260214T113000
DTSTAMP:20260423T161009
CREATED:20251011T221046Z
LAST-MODIFIED:20251011T221047Z
UID:57786-1771063200-1771068600@bikramyogapalmdesert.com
SUMMARY:10am LEESANN
DESCRIPTION:
URL:https://bikramyogapalmdesert.com/class-schedule/10am-leesann-3/
END:VEVENT
BEGIN:VEVENT
DTSTART;TZID=America/Los_Angeles:20260215T100000
DTEND;TZID=America/Los_Angeles:20260215T113000
DTSTAMP:20260423T161009
CREATED:20251011T215614Z
LAST-MODIFIED:20251109T021820Z
UID:57764-1771149600-1771155000@bikramyogapalmdesert.com
SUMMARY:10am KATTY
DESCRIPTION:
URL:https://bikramyogapalmdesert.com/class-schedule/10am-darlene-3/
END:VEVENT
BEGIN:VEVENT
DTSTART;TZID=America/Los_Angeles:20260215T150000
DTEND;TZID=America/Los_Angeles:20260215T163000
DTSTAMP:20260423T161009
CREATED:20251011T215728Z
LAST-MODIFIED:20251011T215729Z
UID:57766-1771167600-1771173000@bikramyogapalmdesert.com
SUMMARY:3pm ALIX
DESCRIPTION:
URL:https://bikramyogapalmdesert.com/class-schedule/3pm-alix-3/
END:VEVENT
BEGIN:VEVENT
DTSTART;TZID=America/Los_Angeles:20260216T063000
DTEND;TZID=America/Los_Angeles:20260216T080000
DTSTAMP:20260423T161009
CREATED:20251109T212122Z
LAST-MODIFIED:20251109T212124Z
UID:57856-1771223400-1771228800@bikramyogapalmdesert.com
SUMMARY:6:30am LEESANN
DESCRIPTION:
URL:https://bikramyogapalmdesert.com/class-schedule/630am-leesann-3/
END:VEVENT
BEGIN:VEVENT
DTSTART;TZID=America/Los_Angeles:20260216T090000
DTEND;TZID=America/Los_Angeles:20260216T103000
DTSTAMP:20260423T161009
CREATED:20251109T215048Z
LAST-MODIFIED:20251109T215049Z
UID:57904-1771232400-1771237800@bikramyogapalmdesert.com
SUMMARY:9am LINA
DESCRIPTION:
URL:https://bikramyogapalmdesert.com/class-schedule/9am-lina-2/
END:VEVENT
BEGIN:VEVENT
DTSTART;TZID=America/Los_Angeles:20260216T180000
DTEND;TZID=America/Los_Angeles:20260216T190000
DTSTAMP:20260423T161009
CREATED:20251109T224138Z
LAST-MODIFIED:20251109T224139Z
UID:57996-1771264800-1771268400@bikramyogapalmdesert.com
SUMMARY:6pm LINA*60min
DESCRIPTION:
URL:https://bikramyogapalmdesert.com/class-schedule/6pm-lina60min-7/
END:VEVENT
BEGIN:VEVENT
DTSTART;TZID=America/Los_Angeles:20260217T063000
DTEND;TZID=America/Los_Angeles:20260217T080000
DTSTAMP:20260423T161009
CREATED:20251109T213045Z
LAST-MODIFIED:20251109T213047Z
UID:57867-1771309800-1771315200@bikramyogapalmdesert.com
SUMMARY:6:30am DARLENE
DESCRIPTION:
URL:https://bikramyogapalmdesert.com/class-schedule/630am-darlene-2/
END:VEVENT
BEGIN:VEVENT
DTSTART;TZID=America/Los_Angeles:20260217T160000
DTEND;TZID=America/Los_Angeles:20260217T173000
DTSTAMP:20260423T161009
CREATED:20251109T221550Z
LAST-MODIFIED:20251109T221552Z
UID:57952-1771344000-1771349400@bikramyogapalmdesert.com
SUMMARY:4pm LINA
DESCRIPTION:
URL:https://bikramyogapalmdesert.com/class-schedule/4pm-lina-4/
END:VEVENT
BEGIN:VEVENT
DTSTART;TZID=America/Los_Angeles:20260217T180000
DTEND;TZID=America/Los_Angeles:20260217T190000
DTSTAMP:20260423T161009
CREATED:20251109T224231Z
LAST-MODIFIED:20251109T224233Z
UID:57998-1771351200-1771354800@bikramyogapalmdesert.com
SUMMARY:6pm LINA*60min
DESCRIPTION:
URL:https://bikramyogapalmdesert.com/class-schedule/6pm-lina60min-8/
END:VEVENT
BEGIN:VEVENT
DTSTART;TZID=America/Los_Angeles:20260218T063000
DTEND;TZID=America/Los_Angeles:20260218T080000
DTSTAMP:20260423T161009
CREATED:20251109T213927Z
LAST-MODIFIED:20251109T213927Z
UID:57881-1771396200-1771401600@bikramyogapalmdesert.com
SUMMARY:6:30am ANN MARIE*silent
DESCRIPTION:
URL:https://bikramyogapalmdesert.com/class-schedule/630am-ann-mariesilent-40/
END:VEVENT
BEGIN:VEVENT
DTSTART;TZID=America/Los_Angeles:20260218T090000
DTEND;TZID=America/Los_Angeles:20260218T103000
DTSTAMP:20260423T161009
CREATED:20251109T215626Z
LAST-MODIFIED:20251109T215628Z
UID:57916-1771405200-1771410600@bikramyogapalmdesert.com
SUMMARY:9am ALIX
DESCRIPTION:
URL:https://bikramyogapalmdesert.com/class-schedule/9am-alix-3/
END:VEVENT
BEGIN:VEVENT
DTSTART;TZID=America/Los_Angeles:20260218T180000
DTEND;TZID=America/Los_Angeles:20260218T190000
DTSTAMP:20260423T161009
CREATED:20251109T224322Z
LAST-MODIFIED:20251109T224323Z
UID:58000-1771437600-1771441200@bikramyogapalmdesert.com
SUMMARY:6pm LINA*60min
DESCRIPTION:
URL:https://bikramyogapalmdesert.com/class-schedule/6pm-lina60min-9/
END:VEVENT
BEGIN:VEVENT
DTSTART;TZID=America/Los_Angeles:20260219T090000
DTEND;TZID=America/Los_Angeles:20260219T103000
DTSTAMP:20260423T161009
CREATED:20251109T220121Z
LAST-MODIFIED:20251109T220123Z
UID:57928-1771491600-1771497000@bikramyogapalmdesert.com
SUMMARY:9am KATTY
DESCRIPTION:
URL:https://bikramyogapalmdesert.com/class-schedule/9am-katty-3/
END:VEVENT
BEGIN:VEVENT
DTSTART;TZID=America/Los_Angeles:20260219T160000
DTEND;TZID=America/Los_Angeles:20260219T173000
DTSTAMP:20260423T161009
CREATED:20251109T222657Z
LAST-MODIFIED:20260112T021222Z
UID:57964-1771516800-1771522200@bikramyogapalmdesert.com
SUMMARY:4pm DARLENE
DESCRIPTION:
URL:https://bikramyogapalmdesert.com/class-schedule/4pm-alix-3/
END:VEVENT
BEGIN:VEVENT
DTSTART;TZID=America/Los_Angeles:20260219T180000
DTEND;TZID=America/Los_Angeles:20260219T190000
DTSTAMP:20260423T161009
CREATED:20251109T230029Z
LAST-MODIFIED:20260112T021115Z
UID:58024-1771524000-1771527600@bikramyogapalmdesert.com
SUMMARY:6pm ANN MARIE*60min
DESCRIPTION:
URL:https://bikramyogapalmdesert.com/class-schedule/6pm-lina60min-19/
END:VEVENT
BEGIN:VEVENT
DTSTART;TZID=America/Los_Angeles:20260220T063000
DTEND;TZID=America/Los_Angeles:20260220T080000
DTSTAMP:20260423T161009
CREATED:20251109T214235Z
LAST-MODIFIED:20251109T214236Z
UID:57889-1771569000-1771574400@bikramyogapalmdesert.com
SUMMARY:6:30am ANN MARIE*silent
DESCRIPTION:
URL:https://bikramyogapalmdesert.com/class-schedule/630am-ann-mariesilent-44/
END:VEVENT
BEGIN:VEVENT
DTSTART;TZID=America/Los_Angeles:20260220T090000
DTEND;TZID=America/Los_Angeles:20260220T103000
DTSTAMP:20260423T161009
CREATED:20251109T220730Z
LAST-MODIFIED:20251109T220732Z
UID:57940-1771578000-1771583400@bikramyogapalmdesert.com
SUMMARY:9am ANN MARIE
DESCRIPTION:
URL:https://bikramyogapalmdesert.com/class-schedule/9am-ann-marie-3/
END:VEVENT
END:VCALENDAR