BEGIN:VCALENDAR
VERSION:2.0
PRODID:-//Bikram Yoga El Paseo - ECPv6.15.13//NONSGML v1.0//EN
CALSCALE:GREGORIAN
METHOD:PUBLISH
X-ORIGINAL-URL:https://bikramyogapalmdesert.com
X-WR-CALDESC:Events for Bikram Yoga El Paseo
REFRESH-INTERVAL;VALUE=DURATION:PT1H
X-Robots-Tag:noindex
X-PUBLISHED-TTL:PT1H
BEGIN:VTIMEZONE
TZID:America/Los_Angeles
BEGIN:DAYLIGHT
TZOFFSETFROM:-0800
TZOFFSETTO:-0700
TZNAME:PDT
DTSTART:20240310T100000
END:DAYLIGHT
BEGIN:STANDARD
TZOFFSETFROM:-0700
TZOFFSETTO:-0800
TZNAME:PST
DTSTART:20241103T090000
END:STANDARD
BEGIN:DAYLIGHT
TZOFFSETFROM:-0800
TZOFFSETTO:-0700
TZNAME:PDT
DTSTART:20250309T100000
END:DAYLIGHT
BEGIN:STANDARD
TZOFFSETFROM:-0700
TZOFFSETTO:-0800
TZNAME:PST
DTSTART:20251102T090000
END:STANDARD
BEGIN:DAYLIGHT
TZOFFSETFROM:-0800
TZOFFSETTO:-0700
TZNAME:PDT
DTSTART:20260308T100000
END:DAYLIGHT
BEGIN:STANDARD
TZOFFSETFROM:-0700
TZOFFSETTO:-0800
TZNAME:PST
DTSTART:20261101T090000
END:STANDARD
END:VTIMEZONE
BEGIN:VEVENT
DTSTART;TZID=America/Los_Angeles:20251017T090000
DTEND;TZID=America/Los_Angeles:20251017T103000
DTSTAMP:20260425T095816
CREATED:20250611T023524Z
LAST-MODIFIED:20251001T215723Z
UID:54482-1760691600-1760697000@bikramyogapalmdesert.com
SUMMARY:9am LINA
DESCRIPTION:
URL:https://bikramyogapalmdesert.com/class-schedule/9am-jayson-100/
CATEGORIES:Ann Marie
END:VEVENT
BEGIN:VEVENT
DTSTART;TZID=America/Los_Angeles:20251017T160000
DTEND;TZID=America/Los_Angeles:20251017T173000
DTSTAMP:20260425T095816
CREATED:20250611T024018Z
LAST-MODIFIED:20250930T214947Z
UID:54498-1760716800-1760722200@bikramyogapalmdesert.com
SUMMARY:4pm ALIX
DESCRIPTION:
URL:https://bikramyogapalmdesert.com/class-schedule/4pm-alix-289/
LOCATION:Bikram Yoga El Paseo\, 73-890 El Paseo Drive\, Suite R6-7\, Palm Desert\, CA\, 92260\, United States
CATEGORIES:Alix
END:VEVENT
BEGIN:VEVENT
DTSTART;TZID=America/Los_Angeles:20251018T080000
DTEND;TZID=America/Los_Angeles:20251018T093000
DTSTAMP:20260425T095816
CREATED:20250610T003850Z
LAST-MODIFIED:20251001T194015Z
UID:53839-1760774400-1760779800@bikramyogapalmdesert.com
SUMMARY:8am LINA
DESCRIPTION:
URL:https://bikramyogapalmdesert.com/class-schedule/8am-lina-176/
END:VEVENT
BEGIN:VEVENT
DTSTART;TZID=America/Los_Angeles:20251018T100000
DTEND;TZID=America/Los_Angeles:20251018T113000
DTSTAMP:20260425T095816
CREATED:20250610T004725Z
LAST-MODIFIED:20251001T193950Z
UID:53873-1760781600-1760787000@bikramyogapalmdesert.com
SUMMARY:10am LINA
DESCRIPTION:
URL:https://bikramyogapalmdesert.com/class-schedule/10am-jayson-54/
CATEGORIES:Leesann
END:VEVENT
BEGIN:VEVENT
DTSTART;TZID=America/Los_Angeles:20251019T100000
DTEND;TZID=America/Los_Angeles:20251019T113000
DTSTAMP:20260425T095816
CREATED:20250610T005618Z
LAST-MODIFIED:20250930T211304Z
UID:53909-1760868000-1760873400@bikramyogapalmdesert.com
SUMMARY:10am DARLENE
DESCRIPTION:
URL:https://bikramyogapalmdesert.com/class-schedule/10am-jayson-72/
END:VEVENT
BEGIN:VEVENT
DTSTART;TZID=America/Los_Angeles:20251019T150000
DTEND;TZID=America/Los_Angeles:20251019T163000
DTSTAMP:20260425T095816
CREATED:20250610T010503Z
LAST-MODIFIED:20250930T211245Z
UID:53943-1760886000-1760891400@bikramyogapalmdesert.com
SUMMARY:3pm ALIX
DESCRIPTION:
URL:https://bikramyogapalmdesert.com/class-schedule/3pm-alix-49/
END:VEVENT
BEGIN:VEVENT
DTSTART;TZID=America/Los_Angeles:20251020T063000
DTEND;TZID=America/Los_Angeles:20251020T080000
DTSTAMP:20260425T095816
CREATED:20250611T020239Z
LAST-MODIFIED:20250930T205152Z
UID:54372-1760941800-1760947200@bikramyogapalmdesert.com
SUMMARY:6:30am LEESANN
DESCRIPTION:
URL:https://bikramyogapalmdesert.com/class-schedule/630am-jayson-35/
CATEGORIES:Leesann
END:VEVENT
BEGIN:VEVENT
DTSTART;TZID=America/Los_Angeles:20251020T090000
DTEND;TZID=America/Los_Angeles:20251020T103000
DTSTAMP:20260425T095816
CREATED:20250611T020849Z
LAST-MODIFIED:20250930T205757Z
UID:54388-1760950800-1760956200@bikramyogapalmdesert.com
SUMMARY:9am LINA
DESCRIPTION:
URL:https://bikramyogapalmdesert.com/class-schedule/9am-jayson-93/
CATEGORIES:Lina
END:VEVENT
BEGIN:VEVENT
DTSTART;TZID=America/Los_Angeles:20251020T180000
DTEND;TZID=America/Los_Angeles:20251020T190000
DTSTAMP:20260425T095816
CREATED:20250611T024553Z
LAST-MODIFIED:20251001T211723Z
UID:54516-1760983200-1760986800@bikramyogapalmdesert.com
SUMMARY:6pm LINA 60/$18
DESCRIPTION:
URL:https://bikramyogapalmdesert.com/class-schedule/6pm-lina-18-60min-58/
CATEGORIES:Lina
END:VEVENT
BEGIN:VEVENT
DTSTART;TZID=America/Los_Angeles:20251021T063000
DTEND;TZID=America/Los_Angeles:20251021T080000
DTSTAMP:20260425T095816
CREATED:20250611T021247Z
LAST-MODIFIED:20250930T215257Z
UID:54404-1761028200-1761033600@bikramyogapalmdesert.com
SUMMARY:6:30am DARLENE
DESCRIPTION:
URL:https://bikramyogapalmdesert.com/class-schedule/darlene-90/
CATEGORIES:Darlene
END:VEVENT
BEGIN:VEVENT
DTSTART;TZID=America/Los_Angeles:20251021T160000
DTEND;TZID=America/Los_Angeles:20251021T173000
DTSTAMP:20260425T095816
CREATED:20250611T021833Z
LAST-MODIFIED:20250930T211030Z
UID:54420-1761062400-1761067800@bikramyogapalmdesert.com
SUMMARY:4pm LINA
DESCRIPTION:
URL:https://bikramyogapalmdesert.com/class-schedule/4pm-lina-200/
CATEGORIES:Lina
END:VEVENT
BEGIN:VEVENT
DTSTART;TZID=America/Los_Angeles:20251022T090000
DTEND;TZID=America/Los_Angeles:20251022T103000
DTSTAMP:20260425T095816
CREATED:20250611T022302Z
LAST-MODIFIED:20250930T214129Z
UID:54436-1761123600-1761129000@bikramyogapalmdesert.com
SUMMARY:9am ALIX
DESCRIPTION:
URL:https://bikramyogapalmdesert.com/class-schedule/9am-alix-143/
CATEGORIES:Alix
END:VEVENT
BEGIN:VEVENT
DTSTART;TZID=America/Los_Angeles:20251022T180000
DTEND;TZID=America/Los_Angeles:20251022T190000
DTSTAMP:20260425T095816
CREATED:20250611T025058Z
LAST-MODIFIED:20251001T211652Z
UID:54532-1761156000-1761159600@bikramyogapalmdesert.com
SUMMARY:6pm LINA 60/$18
DESCRIPTION:
URL:https://bikramyogapalmdesert.com/class-schedule/6pm-lina-18-60min-66/
CATEGORIES:Lina
END:VEVENT
BEGIN:VEVENT
DTSTART;TZID=America/Los_Angeles:20251023T160000
DTEND;TZID=America/Los_Angeles:20251023T173000
DTSTAMP:20260425T095816
CREATED:20250611T022707Z
LAST-MODIFIED:20251001T135915Z
UID:54452-1761235200-1761240600@bikramyogapalmdesert.com
SUMMARY:4pm ALIX
DESCRIPTION:
URL:https://bikramyogapalmdesert.com/class-schedule/4pm-alix-282/
LOCATION:Bikram Yoga El Paseo\, 73-890 El Paseo Drive\, Suite R6-7\, Palm Desert\, CA\, 92260\, United States
CATEGORIES:Alix
END:VEVENT
BEGIN:VEVENT
DTSTART;TZID=America/Los_Angeles:20251023T180000
DTEND;TZID=America/Los_Angeles:20251023T190000
DTSTAMP:20260425T095816
CREATED:20250611T025646Z
LAST-MODIFIED:20251001T211629Z
UID:54548-1761242400-1761246000@bikramyogapalmdesert.com
SUMMARY:6pm ALIX60/$18
DESCRIPTION:
URL:https://bikramyogapalmdesert.com/class-schedule/6pm-alix-18-60min-28/
CATEGORIES:Alix
END:VEVENT
BEGIN:VEVENT
DTSTART;TZID=America/Los_Angeles:20251024T063000
DTEND;TZID=America/Los_Angeles:20251024T080000
DTSTAMP:20260425T095816
CREATED:20250611T023133Z
LAST-MODIFIED:20251024T153710Z
UID:54468-1761287400-1761292800@bikramyogapalmdesert.com
SUMMARY:6:30am LINA *silent
DESCRIPTION:
URL:https://bikramyogapalmdesert.com/class-schedule/630am-lina-173/
CATEGORIES:Ann Marie
END:VEVENT
BEGIN:VEVENT
DTSTART;TZID=America/Los_Angeles:20251024T090000
DTEND;TZID=America/Los_Angeles:20251024T103000
DTSTAMP:20260425T095816
CREATED:20250611T023542Z
LAST-MODIFIED:20251022T172753Z
UID:54484-1761296400-1761301800@bikramyogapalmdesert.com
SUMMARY:9am LINA
DESCRIPTION:
URL:https://bikramyogapalmdesert.com/class-schedule/9am-jayson-101/
CATEGORIES:Ann Marie
END:VEVENT
BEGIN:VEVENT
DTSTART;TZID=America/Los_Angeles:20251024T160000
DTEND;TZID=America/Los_Angeles:20251024T173000
DTSTAMP:20260425T095816
CREATED:20250611T024044Z
LAST-MODIFIED:20251024T153653Z
UID:54500-1761321600-1761327000@bikramyogapalmdesert.com
SUMMARY:4pm ANN MARIE
DESCRIPTION:
URL:https://bikramyogapalmdesert.com/class-schedule/4pm-alix-290/
LOCATION:Bikram Yoga El Paseo\, 73-890 El Paseo Drive\, Suite R6-7\, Palm Desert\, CA\, 92260\, United States
CATEGORIES:Ann Marie
END:VEVENT
BEGIN:VEVENT
DTSTART;TZID=America/Los_Angeles:20251025T080000
DTEND;TZID=America/Los_Angeles:20251025T093000
DTSTAMP:20260425T095816
CREATED:20250610T003906Z
LAST-MODIFIED:20250924T221143Z
UID:53841-1761379200-1761384600@bikramyogapalmdesert.com
SUMMARY:8am ANN MARIE
DESCRIPTION:
URL:https://bikramyogapalmdesert.com/class-schedule/8am-lina-177/
END:VEVENT
BEGIN:VEVENT
DTSTART;TZID=America/Los_Angeles:20251025T100000
DTEND;TZID=America/Los_Angeles:20251025T113000
DTSTAMP:20260425T095816
CREATED:20250610T004743Z
LAST-MODIFIED:20250930T205154Z
UID:53875-1761386400-1761391800@bikramyogapalmdesert.com
SUMMARY:10am LEESANN
DESCRIPTION:
URL:https://bikramyogapalmdesert.com/class-schedule/10am-jayson-55/
CATEGORIES:Leesann
END:VEVENT
BEGIN:VEVENT
DTSTART;TZID=America/Los_Angeles:20251026T100000
DTEND;TZID=America/Los_Angeles:20251026T113000
DTSTAMP:20260425T095816
CREATED:20250610T005635Z
LAST-MODIFIED:20250930T210606Z
UID:53911-1761472800-1761478200@bikramyogapalmdesert.com
SUMMARY:10am DARLENE
DESCRIPTION:
URL:https://bikramyogapalmdesert.com/class-schedule/10am-jayson-73/
END:VEVENT
BEGIN:VEVENT
DTSTART;TZID=America/Los_Angeles:20251026T150000
DTEND;TZID=America/Los_Angeles:20251026T163000
DTSTAMP:20260425T095816
CREATED:20250610T010548Z
LAST-MODIFIED:20250930T210537Z
UID:53945-1761490800-1761496200@bikramyogapalmdesert.com
SUMMARY:3pm ANN MARIE
DESCRIPTION:
URL:https://bikramyogapalmdesert.com/class-schedule/3pm-alix-50/
END:VEVENT
BEGIN:VEVENT
DTSTART;TZID=America/Los_Angeles:20251027T063000
DTEND;TZID=America/Los_Angeles:20251027T080000
DTSTAMP:20260425T095816
CREATED:20250611T020305Z
LAST-MODIFIED:20250930T205152Z
UID:54374-1761546600-1761552000@bikramyogapalmdesert.com
SUMMARY:6:30am LEESANN
DESCRIPTION:
URL:https://bikramyogapalmdesert.com/class-schedule/630am-jayson-36/
CATEGORIES:Leesann
END:VEVENT
BEGIN:VEVENT
DTSTART;TZID=America/Los_Angeles:20251027T090000
DTEND;TZID=America/Los_Angeles:20251027T103000
DTSTAMP:20260425T095816
CREATED:20250611T020910Z
LAST-MODIFIED:20250930T205757Z
UID:54390-1761555600-1761561000@bikramyogapalmdesert.com
SUMMARY:9am LINA
DESCRIPTION:
URL:https://bikramyogapalmdesert.com/class-schedule/9am-jayson-94/
CATEGORIES:Lina
END:VEVENT
BEGIN:VEVENT
DTSTART;TZID=America/Los_Angeles:20251027T180000
DTEND;TZID=America/Los_Angeles:20251027T190000
DTSTAMP:20260425T095816
CREATED:20250611T024613Z
LAST-MODIFIED:20251001T211336Z
UID:54518-1761588000-1761591600@bikramyogapalmdesert.com
SUMMARY:6pm LINA 60/$18
DESCRIPTION:
URL:https://bikramyogapalmdesert.com/class-schedule/6pm-lina-18-60min-59/
CATEGORIES:Lina
END:VEVENT
BEGIN:VEVENT
DTSTART;TZID=America/Los_Angeles:20251028T063000
DTEND;TZID=America/Los_Angeles:20251028T080000
DTSTAMP:20260425T095816
CREATED:20250611T021355Z
LAST-MODIFIED:20250930T215238Z
UID:54406-1761633000-1761638400@bikramyogapalmdesert.com
SUMMARY:6:30am DARLENE
DESCRIPTION:
URL:https://bikramyogapalmdesert.com/class-schedule/630am-jayson-44/
LOCATION:Bikram Yoga El Paseo\, 73-890 El Paseo Drive\, Suite R6-7\, Palm Desert\, CA\, 92260\, United States
CATEGORIES:Darlene
END:VEVENT
BEGIN:VEVENT
DTSTART;TZID=America/Los_Angeles:20251028T160000
DTEND;TZID=America/Los_Angeles:20251028T173000
DTSTAMP:20260425T095816
CREATED:20251001T195301Z
LAST-MODIFIED:20251001T195304Z
UID:57579-1761667200-1761672600@bikramyogapalmdesert.com
SUMMARY:4pm LINA
DESCRIPTION:
URL:https://bikramyogapalmdesert.com/class-schedule/4pm-lina/
END:VEVENT
BEGIN:VEVENT
DTSTART;TZID=America/Los_Angeles:20251029T090000
DTEND;TZID=America/Los_Angeles:20251029T103000
DTSTAMP:20260425T095816
CREATED:20250611T022323Z
LAST-MODIFIED:20250930T214129Z
UID:54438-1761728400-1761733800@bikramyogapalmdesert.com
SUMMARY:9am ALIX
DESCRIPTION:
URL:https://bikramyogapalmdesert.com/class-schedule/9am-alix-144/
CATEGORIES:Alix
END:VEVENT
BEGIN:VEVENT
DTSTART;TZID=America/Los_Angeles:20251029T180000
DTEND;TZID=America/Los_Angeles:20251029T190000
DTSTAMP:20260425T095816
CREATED:20250611T025121Z
LAST-MODIFIED:20251001T211257Z
UID:54534-1761760800-1761764400@bikramyogapalmdesert.com
SUMMARY:6pm LINA 60/$18
DESCRIPTION:
URL:https://bikramyogapalmdesert.com/class-schedule/6pm-lina-18-60min-67/
CATEGORIES:Lina
END:VEVENT
BEGIN:VEVENT
DTSTART;TZID=America/Los_Angeles:20251030T160000
DTEND;TZID=America/Los_Angeles:20251030T173000
DTSTAMP:20260425T095816
CREATED:20250611T022724Z
LAST-MODIFIED:20251001T135850Z
UID:54454-1761840000-1761845400@bikramyogapalmdesert.com
SUMMARY:4pm ALIX
DESCRIPTION:
URL:https://bikramyogapalmdesert.com/class-schedule/4pm-alix-283/
LOCATION:Bikram Yoga El Paseo\, 73-890 El Paseo Drive\, Suite R6-7\, Palm Desert\, CA\, 92260\, United States
CATEGORIES:Alix
END:VEVENT
END:VCALENDAR