BEGIN:VCALENDAR
VERSION:2.0
PRODID:-//Bikram Yoga El Paseo - ECPv6.15.13//NONSGML v1.0//EN
CALSCALE:GREGORIAN
METHOD:PUBLISH
X-WR-CALNAME:Bikram Yoga El Paseo
X-ORIGINAL-URL:https://bikramyogapalmdesert.com
X-WR-CALDESC:Events for Bikram Yoga El Paseo
REFRESH-INTERVAL;VALUE=DURATION:PT1H
X-Robots-Tag:noindex
X-PUBLISHED-TTL:PT1H
BEGIN:VTIMEZONE
TZID:America/Los_Angeles
BEGIN:DAYLIGHT
TZOFFSETFROM:-0800
TZOFFSETTO:-0700
TZNAME:PDT
DTSTART:20240310T100000
END:DAYLIGHT
BEGIN:STANDARD
TZOFFSETFROM:-0700
TZOFFSETTO:-0800
TZNAME:PST
DTSTART:20241103T090000
END:STANDARD
BEGIN:DAYLIGHT
TZOFFSETFROM:-0800
TZOFFSETTO:-0700
TZNAME:PDT
DTSTART:20250309T100000
END:DAYLIGHT
BEGIN:STANDARD
TZOFFSETFROM:-0700
TZOFFSETTO:-0800
TZNAME:PST
DTSTART:20251102T090000
END:STANDARD
BEGIN:DAYLIGHT
TZOFFSETFROM:-0800
TZOFFSETTO:-0700
TZNAME:PDT
DTSTART:20260308T100000
END:DAYLIGHT
BEGIN:STANDARD
TZOFFSETFROM:-0700
TZOFFSETTO:-0800
TZNAME:PST
DTSTART:20261101T090000
END:STANDARD
END:VTIMEZONE
BEGIN:VEVENT
DTSTART;TZID=America/Los_Angeles:20250906T080000
DTEND;TZID=America/Los_Angeles:20250906T093000
DTSTAMP:20260424T043332
CREATED:20250610T001547Z
LAST-MODIFIED:20250610T001547Z
UID:53775-1757145600-1757151000@bikramyogapalmdesert.com
SUMMARY:8am LINA
DESCRIPTION:
URL:https://bikramyogapalmdesert.com/class-schedule/8am-lina-170/
END:VEVENT
BEGIN:VEVENT
DTSTART;TZID=America/Los_Angeles:20250905T110000
DTEND;TZID=America/Los_Angeles:20250905T123000
DTSTAMP:20260424T043332
CREATED:20250610T002336Z
LAST-MODIFIED:20250610T002336Z
UID:53797-1757070000-1757075400@bikramyogapalmdesert.com
SUMMARY:4pm ALIX
DESCRIPTION:
URL:https://bikramyogapalmdesert.com/class-schedule/4pm-alix-67/
END:VEVENT
BEGIN:VEVENT
DTSTART;TZID=America/Los_Angeles:20250905T090000
DTEND;TZID=America/Los_Angeles:20250905T103000
DTSTAMP:20260424T043332
CREATED:20250610T002257Z
LAST-MODIFIED:20250924T224028Z
UID:53795-1757062800-1757068200@bikramyogapalmdesert.com
SUMMARY:9am ALIX
DESCRIPTION:
URL:https://bikramyogapalmdesert.com/class-schedule/9am-jayson-62/
END:VEVENT
BEGIN:VEVENT
DTSTART;TZID=America/Los_Angeles:20250905T063000
DTEND;TZID=America/Los_Angeles:20250905T080000
DTSTAMP:20260424T043332
CREATED:20250610T001843Z
LAST-MODIFIED:20250610T001843Z
UID:53785-1757053800-1757059200@bikramyogapalmdesert.com
SUMMARY:6:30am LINA
DESCRIPTION:
URL:https://bikramyogapalmdesert.com/class-schedule/630am-lina-145/
END:VEVENT
BEGIN:VEVENT
DTSTART;TZID=America/Los_Angeles:20250904T110000
DTEND;TZID=America/Los_Angeles:20250904T120000
DTSTAMP:20260424T043332
CREATED:20250610T002551Z
LAST-MODIFIED:20250610T002551Z
UID:53803-1756983600-1756987200@bikramyogapalmdesert.com
SUMMARY:6pm ALIX $18/60min
DESCRIPTION:
URL:https://bikramyogapalmdesert.com/class-schedule/6pm-alix-18-60min-10/
END:VEVENT
BEGIN:VEVENT
DTSTART;TZID=America/Los_Angeles:20250904T080000
DTEND;TZID=America/Los_Angeles:20250904T093000
DTSTAMP:20260424T043332
CREATED:20250610T002220Z
LAST-MODIFIED:20250610T002220Z
UID:53793-1756972800-1756978200@bikramyogapalmdesert.com
SUMMARY:4pm ALIX
DESCRIPTION:
URL:https://bikramyogapalmdesert.com/class-schedule/4pm-alix-66/
END:VEVENT
BEGIN:VEVENT
DTSTART;TZID=America/Los_Angeles:20250903T110000
DTEND;TZID=America/Los_Angeles:20250903T123000
DTSTAMP:20260424T043332
CREATED:20250610T002514Z
LAST-MODIFIED:20250610T002645Z
UID:53801-1756897200-1756902600@bikramyogapalmdesert.com
SUMMARY:6pm LINA $18/60min
DESCRIPTION:
URL:https://bikramyogapalmdesert.com/class-schedule/6pm-lina-18-60min-25/
END:VEVENT
BEGIN:VEVENT
DTSTART;TZID=America/Los_Angeles:20250903T090000
DTEND;TZID=America/Los_Angeles:20250903T103000
DTSTAMP:20260424T043332
CREATED:20250610T002135Z
LAST-MODIFIED:20250610T002135Z
UID:53791-1756890000-1756895400@bikramyogapalmdesert.com
SUMMARY:9am ALIX
DESCRIPTION:
URL:https://bikramyogapalmdesert.com/class-schedule/9am-alix-123/
END:VEVENT
BEGIN:VEVENT
DTSTART;TZID=America/Los_Angeles:20250902T090000
DTEND;TZID=America/Los_Angeles:20250902T103000
DTSTAMP:20260424T043332
CREATED:20250610T002039Z
LAST-MODIFIED:20250610T002039Z
UID:53789-1756803600-1756809000@bikramyogapalmdesert.com
SUMMARY:4pm LINA
DESCRIPTION:
URL:https://bikramyogapalmdesert.com/class-schedule/4pm-lina-180/
END:VEVENT
BEGIN:VEVENT
DTSTART;TZID=America/Los_Angeles:20250901T110000
DTEND;TZID=America/Los_Angeles:20250901T123000
DTSTAMP:20260424T043332
CREATED:20250610T002440Z
LAST-MODIFIED:20250610T002440Z
UID:53799-1756724400-1756729800@bikramyogapalmdesert.com
SUMMARY:6pm LINA $18/60min
DESCRIPTION:
URL:https://bikramyogapalmdesert.com/class-schedule/6pm-lina-32/
END:VEVENT
BEGIN:VEVENT
DTSTART;TZID=America/Los_Angeles:20250901T090000
DTEND;TZID=America/Los_Angeles:20250901T103000
DTSTAMP:20260424T043332
CREATED:20250610T001956Z
LAST-MODIFIED:20250924T224122Z
UID:53787-1756717200-1756722600@bikramyogapalmdesert.com
SUMMARY:9am LINA
DESCRIPTION:
URL:https://bikramyogapalmdesert.com/class-schedule/9am-jayson-54/
END:VEVENT
BEGIN:VEVENT
DTSTART;TZID=America/Los_Angeles:20250901T063000
DTEND;TZID=America/Los_Angeles:20250901T080000
DTSTAMP:20260424T043332
CREATED:20250610T001740Z
LAST-MODIFIED:20250930T205155Z
UID:53781-1756708200-1756713600@bikramyogapalmdesert.com
SUMMARY:6:30am LEESANN
DESCRIPTION:
URL:https://bikramyogapalmdesert.com/class-schedule/630am-jayson-12/
CATEGORIES:Leesann
END:VEVENT
BEGIN:VEVENT
DTSTART;TZID=America/Los_Angeles:20250831T120000
DTEND;TZID=America/Los_Angeles:20250831T133000
DTSTAMP:20260424T043332
CREATED:20250610T001437Z
LAST-MODIFIED:20250610T001437Z
UID:53771-1756641600-1756647000@bikramyogapalmdesert.com
SUMMARY:3pm ALIX
DESCRIPTION:
URL:https://bikramyogapalmdesert.com/class-schedule/3pm-alix-32/
END:VEVENT
BEGIN:VEVENT
DTSTART;TZID=America/Los_Angeles:20250831T100000
DTEND;TZID=America/Los_Angeles:20250831T113000
DTSTAMP:20260424T043332
CREATED:20250610T001358Z
LAST-MODIFIED:20250610T001358Z
UID:53769-1756634400-1756639800@bikramyogapalmdesert.com
SUMMARY:10am JAYSON
DESCRIPTION:
URL:https://bikramyogapalmdesert.com/class-schedule/10am-jayson-17/
END:VEVENT
BEGIN:VEVENT
DTSTART;TZID=America/Los_Angeles:20250830T100000
DTEND;TZID=America/Los_Angeles:20250830T113000
DTSTAMP:20260424T043332
CREATED:20250610T001613Z
LAST-MODIFIED:20250610T001613Z
UID:53777-1756548000-1756553400@bikramyogapalmdesert.com
SUMMARY:10am JAYSON
DESCRIPTION:
URL:https://bikramyogapalmdesert.com/class-schedule/10am-jayson-24/
END:VEVENT
BEGIN:VEVENT
DTSTART;TZID=America/Los_Angeles:20250830T080000
DTEND;TZID=America/Los_Angeles:20250830T093000
DTSTAMP:20260424T043332
CREATED:20250610T001525Z
LAST-MODIFIED:20250610T001525Z
UID:53773-1756540800-1756546200@bikramyogapalmdesert.com
SUMMARY:8am LINA
DESCRIPTION:
URL:https://bikramyogapalmdesert.com/class-schedule/8am-lina-169/
END:VEVENT
BEGIN:VEVENT
DTSTART;TZID=America/Los_Angeles:20250829T110000
DTEND;TZID=America/Los_Angeles:20250829T123000
DTSTAMP:20260424T043332
CREATED:20250610T001005Z
LAST-MODIFIED:20250610T001005Z
UID:53759-1756465200-1756470600@bikramyogapalmdesert.com
SUMMARY:4pm ALIX
DESCRIPTION:
URL:https://bikramyogapalmdesert.com/class-schedule/4pm-alix-57/
END:VEVENT
BEGIN:VEVENT
DTSTART;TZID=America/Los_Angeles:20250829T090000
DTEND;TZID=America/Los_Angeles:20250829T103000
DTSTAMP:20260424T043332
CREATED:20250610T000932Z
LAST-MODIFIED:20250610T000932Z
UID:53757-1756458000-1756463400@bikramyogapalmdesert.com
SUMMARY:9am JAYSON
DESCRIPTION:
URL:https://bikramyogapalmdesert.com/class-schedule/9am-jayson-53/
END:VEVENT
BEGIN:VEVENT
DTSTART;TZID=America/Los_Angeles:20250829T063000
DTEND;TZID=America/Los_Angeles:20250829T080000
DTSTAMP:20260424T043332
CREATED:20250610T000811Z
LAST-MODIFIED:20250610T000811Z
UID:53753-1756449000-1756454400@bikramyogapalmdesert.com
SUMMARY:6:30am LINA
DESCRIPTION:
URL:https://bikramyogapalmdesert.com/class-schedule/630am-lina-141/
END:VEVENT
BEGIN:VEVENT
DTSTART;TZID=America/Los_Angeles:20250828T113000
DTEND;TZID=America/Los_Angeles:20250828T123000
DTSTAMP:20260424T043332
CREATED:20250610T001322Z
LAST-MODIFIED:20250610T001322Z
UID:53767-1756380600-1756384200@bikramyogapalmdesert.com
SUMMARY:6pm ALIX $18/60min
DESCRIPTION:
URL:https://bikramyogapalmdesert.com/class-schedule/6pm-alix-18-60min-8/
END:VEVENT
BEGIN:VEVENT
DTSTART;TZID=America/Los_Angeles:20250828T090000
DTEND;TZID=America/Los_Angeles:20250828T103000
DTSTAMP:20260424T043332
CREATED:20250610T001232Z
LAST-MODIFIED:20250610T001232Z
UID:53765-1756371600-1756377000@bikramyogapalmdesert.com
SUMMARY:4pm ALIX
DESCRIPTION:
URL:https://bikramyogapalmdesert.com/class-schedule/4pm-alix-65/
END:VEVENT
BEGIN:VEVENT
DTSTART;TZID=America/Los_Angeles:20250827T110000
DTEND;TZID=America/Los_Angeles:20250827T120000
DTSTAMP:20260424T043332
CREATED:20250610T001145Z
LAST-MODIFIED:20250610T001145Z
UID:53763-1756292400-1756296000@bikramyogapalmdesert.com
SUMMARY:6pm LINA $18/60min
DESCRIPTION:
URL:https://bikramyogapalmdesert.com/class-schedule/6pm-lina-18-60min-22/
END:VEVENT
BEGIN:VEVENT
DTSTART;TZID=America/Los_Angeles:20250827T090000
DTEND;TZID=America/Los_Angeles:20250827T103000
DTSTAMP:20260424T043332
CREATED:20250610T001046Z
LAST-MODIFIED:20250610T001046Z
UID:53761-1756285200-1756290600@bikramyogapalmdesert.com
SUMMARY:9am ALIX
DESCRIPTION:
URL:https://bikramyogapalmdesert.com/class-schedule/9am-alix-122/
END:VEVENT
BEGIN:VEVENT
DTSTART;TZID=America/Los_Angeles:20250826T090000
DTEND;TZID=America/Los_Angeles:20250826T103000
DTSTAMP:20260424T043332
CREATED:20250610T000856Z
LAST-MODIFIED:20250610T000856Z
UID:53755-1756198800-1756204200@bikramyogapalmdesert.com
SUMMARY:4pm LINA
DESCRIPTION:
URL:https://bikramyogapalmdesert.com/class-schedule/4pm-lina-179/
END:VEVENT
BEGIN:VEVENT
DTSTART;TZID=America/Los_Angeles:20250826T063000
DTEND;TZID=America/Los_Angeles:20250826T080000
DTSTAMP:20260424T043332
CREATED:20250610T000730Z
LAST-MODIFIED:20250610T000730Z
UID:53751-1756189800-1756195200@bikramyogapalmdesert.com
SUMMARY:6:30am JAYSON
DESCRIPTION:
URL:https://bikramyogapalmdesert.com/class-schedule/630am-jayson-11/
END:VEVENT
BEGIN:VEVENT
DTSTART;TZID=America/Los_Angeles:20250825T120000
DTEND;TZID=America/Los_Angeles:20250825T133000
DTSTAMP:20260424T043332
CREATED:20250609T195310Z
LAST-MODIFIED:20250609T195310Z
UID:53709-1756123200-1756128600@bikramyogapalmdesert.com
SUMMARY:6pm LINA $18/60min
DESCRIPTION:
URL:https://bikramyogapalmdesert.com/class-schedule/6pm-lina-18-60min-24/
END:VEVENT
BEGIN:VEVENT
DTSTART;TZID=America/Los_Angeles:20250825T090000
DTEND;TZID=America/Los_Angeles:20250825T103000
DTSTAMP:20260424T043332
CREATED:20250609T195224Z
LAST-MODIFIED:20250609T195224Z
UID:53707-1756112400-1756117800@bikramyogapalmdesert.com
SUMMARY:9am JAYSON
DESCRIPTION:
URL:https://bikramyogapalmdesert.com/class-schedule/9am-jayson-42/
END:VEVENT
BEGIN:VEVENT
DTSTART;TZID=America/Los_Angeles:20250825T060000
DTEND;TZID=America/Los_Angeles:20250825T080000
DTSTAMP:20260424T043332
CREATED:20250609T195141Z
LAST-MODIFIED:20250609T195141Z
UID:53705-1756101600-1756108800@bikramyogapalmdesert.com
SUMMARY:6:30am JAYSON
DESCRIPTION:
URL:https://bikramyogapalmdesert.com/class-schedule/630am-jayson-6/
END:VEVENT
BEGIN:VEVENT
DTSTART;TZID=America/Los_Angeles:20250824T150000
DTEND;TZID=America/Los_Angeles:20250824T163000
DTSTAMP:20260424T043332
CREATED:20250510T203259Z
LAST-MODIFIED:20250510T203259Z
UID:53335-1756047600-1756053000@bikramyogapalmdesert.com
SUMMARY:3pm ALIX
DESCRIPTION:
URL:https://bikramyogapalmdesert.com/class-schedule/3pm-alix-42/
END:VEVENT
BEGIN:VEVENT
DTSTART;TZID=America/Los_Angeles:20250824T100000
DTEND;TZID=America/Los_Angeles:20250824T113000
DTSTAMP:20260424T043332
CREATED:20250510T202920Z
LAST-MODIFIED:20250510T202920Z
UID:53317-1756029600-1756035000@bikramyogapalmdesert.com
SUMMARY:10am JAYSON
DESCRIPTION:
URL:https://bikramyogapalmdesert.com/class-schedule/10am-jayson-46/
END:VEVENT
END:VCALENDAR