BEGIN:VCALENDAR
VERSION:2.0
PRODID:-//Bikram Yoga El Paseo - ECPv6.15.13//NONSGML v1.0//EN
CALSCALE:GREGORIAN
METHOD:PUBLISH
X-ORIGINAL-URL:https://bikramyogapalmdesert.com
X-WR-CALDESC:Events for Bikram Yoga El Paseo
REFRESH-INTERVAL;VALUE=DURATION:PT1H
X-Robots-Tag:noindex
X-PUBLISHED-TTL:PT1H
BEGIN:VTIMEZONE
TZID:America/Los_Angeles
BEGIN:DAYLIGHT
TZOFFSETFROM:-0800
TZOFFSETTO:-0700
TZNAME:PDT
DTSTART:20240310T100000
END:DAYLIGHT
BEGIN:STANDARD
TZOFFSETFROM:-0700
TZOFFSETTO:-0800
TZNAME:PST
DTSTART:20241103T090000
END:STANDARD
BEGIN:DAYLIGHT
TZOFFSETFROM:-0800
TZOFFSETTO:-0700
TZNAME:PDT
DTSTART:20250309T100000
END:DAYLIGHT
BEGIN:STANDARD
TZOFFSETFROM:-0700
TZOFFSETTO:-0800
TZNAME:PST
DTSTART:20251102T090000
END:STANDARD
BEGIN:DAYLIGHT
TZOFFSETFROM:-0800
TZOFFSETTO:-0700
TZNAME:PDT
DTSTART:20260308T100000
END:DAYLIGHT
BEGIN:STANDARD
TZOFFSETFROM:-0700
TZOFFSETTO:-0800
TZNAME:PST
DTSTART:20261101T090000
END:STANDARD
END:VTIMEZONE
BEGIN:VEVENT
DTSTART;TZID=America/Los_Angeles:20250922T090000
DTEND;TZID=America/Los_Angeles:20250922T103000
DTSTAMP:20260424T090400
CREATED:20250611T020653Z
LAST-MODIFIED:20250924T223632Z
UID:54380-1758531600-1758537000@bikramyogapalmdesert.com
SUMMARY:9am LINA
DESCRIPTION:
URL:https://bikramyogapalmdesert.com/class-schedule/9am-jayson-89/
END:VEVENT
BEGIN:VEVENT
DTSTART;TZID=America/Los_Angeles:20250922T103000
DTEND;TZID=America/Los_Angeles:20250922T120000
DTSTAMP:20260424T090400
CREATED:20250611T024344Z
LAST-MODIFIED:20250930T205756Z
UID:54508-1758537000-1758542400@bikramyogapalmdesert.com
SUMMARY:6pm LINA $18/60min
DESCRIPTION:
URL:https://bikramyogapalmdesert.com/class-schedule/6pm-lina-18-60min-54/
CATEGORIES:Lina
END:VEVENT
BEGIN:VEVENT
DTSTART;TZID=America/Los_Angeles:20250923T063000
DTEND;TZID=America/Los_Angeles:20250923T080000
DTSTAMP:20260424T090400
CREATED:20250611T021609Z
LAST-MODIFIED:20250930T205757Z
UID:54412-1758609000-1758614400@bikramyogapalmdesert.com
SUMMARY:4pm LINA
DESCRIPTION:
URL:https://bikramyogapalmdesert.com/class-schedule/4pm-lina-196/
CATEGORIES:Lina
END:VEVENT
BEGIN:VEVENT
DTSTART;TZID=America/Los_Angeles:20250924T090000
DTEND;TZID=America/Los_Angeles:20250924T103000
DTSTAMP:20260424T090400
CREATED:20250611T022105Z
LAST-MODIFIED:20250930T204807Z
UID:54428-1758704400-1758709800@bikramyogapalmdesert.com
SUMMARY:9am ALIX
DESCRIPTION:
URL:https://bikramyogapalmdesert.com/class-schedule/9am-alix-139/
CATEGORIES:Alix
END:VEVENT
BEGIN:VEVENT
DTSTART;TZID=America/Los_Angeles:20250924T110000
DTEND;TZID=America/Los_Angeles:20250924T123000
DTSTAMP:20260424T090400
CREATED:20250611T024821Z
LAST-MODIFIED:20250930T205755Z
UID:54524-1758711600-1758717000@bikramyogapalmdesert.com
SUMMARY:6pm LINA $18/60min
DESCRIPTION:
URL:https://bikramyogapalmdesert.com/class-schedule/6pm-lina-18-60min-62/
CATEGORIES:Lina
END:VEVENT
BEGIN:VEVENT
DTSTART;TZID=America/Los_Angeles:20250925T090000
DTEND;TZID=America/Los_Angeles:20250925T103000
DTSTAMP:20260424T090400
CREATED:20250611T022522Z
LAST-MODIFIED:20250930T214129Z
UID:54444-1758790800-1758796200@bikramyogapalmdesert.com
SUMMARY:4pm ALIX
DESCRIPTION:
URL:https://bikramyogapalmdesert.com/class-schedule/4pm-alix-278/
CATEGORIES:Alix
END:VEVENT
BEGIN:VEVENT
DTSTART;TZID=America/Los_Angeles:20250925T120000
DTEND;TZID=America/Los_Angeles:20250925T133000
DTSTAMP:20260424T090400
CREATED:20250611T025435Z
LAST-MODIFIED:20250930T214127Z
UID:54540-1758801600-1758807000@bikramyogapalmdesert.com
SUMMARY:6pm ALIX $18/60min
DESCRIPTION:
URL:https://bikramyogapalmdesert.com/class-schedule/6pm-alix-18-60min-24/
CATEGORIES:Alix
END:VEVENT
BEGIN:VEVENT
DTSTART;TZID=America/Los_Angeles:20250926T063000
DTEND;TZID=America/Los_Angeles:20250926T080000
DTSTAMP:20260424T090400
CREATED:20250611T022949Z
LAST-MODIFIED:20250930T205152Z
UID:54460-1758868200-1758873600@bikramyogapalmdesert.com
SUMMARY:6:30am LEESANN
DESCRIPTION:
URL:https://bikramyogapalmdesert.com/class-schedule/630am-lina-169/
CATEGORIES:Leesann
END:VEVENT
BEGIN:VEVENT
DTSTART;TZID=America/Los_Angeles:20250926T090000
DTEND;TZID=America/Los_Angeles:20250926T103000
DTSTAMP:20260424T090400
CREATED:20250611T023348Z
LAST-MODIFIED:20250930T214128Z
UID:54476-1758877200-1758882600@bikramyogapalmdesert.com
SUMMARY:9am ALIX
DESCRIPTION:
URL:https://bikramyogapalmdesert.com/class-schedule/9am-jayson-97/
CATEGORIES:Alix
END:VEVENT
BEGIN:VEVENT
DTSTART;TZID=America/Los_Angeles:20250926T103000
DTEND;TZID=America/Los_Angeles:20250926T120000
DTSTAMP:20260424T090400
CREATED:20250611T023800Z
LAST-MODIFIED:20250930T214128Z
UID:54492-1758882600-1758888000@bikramyogapalmdesert.com
SUMMARY:4pm ALIX
DESCRIPTION:
URL:https://bikramyogapalmdesert.com/class-schedule/4pm-alix-286/
CATEGORIES:Alix
END:VEVENT
BEGIN:VEVENT
DTSTART;TZID=America/Los_Angeles:20250927T080000
DTEND;TZID=America/Los_Angeles:20250927T093000
DTSTAMP:20260424T090400
CREATED:20250610T003538Z
LAST-MODIFIED:20250610T003538Z
UID:53825-1758960000-1758965400@bikramyogapalmdesert.com
SUMMARY:8am LINA
DESCRIPTION:
URL:https://bikramyogapalmdesert.com/class-schedule/8am-lina-173/
END:VEVENT
BEGIN:VEVENT
DTSTART;TZID=America/Los_Angeles:20250927T100000
DTEND;TZID=America/Los_Angeles:20250927T113000
DTSTAMP:20260424T090400
CREATED:20250610T003721Z
LAST-MODIFIED:20250930T205155Z
UID:53833-1758967200-1758972600@bikramyogapalmdesert.com
SUMMARY:10am LEESANN
DESCRIPTION:
URL:https://bikramyogapalmdesert.com/class-schedule/10am-jayson-51/
CATEGORIES:Leesann
END:VEVENT
BEGIN:VEVENT
DTSTART;TZID=America/Los_Angeles:20250928T100000
DTEND;TZID=America/Los_Angeles:20250928T113000
DTSTAMP:20260424T090400
CREATED:20250610T003151Z
LAST-MODIFIED:20250924T223421Z
UID:53811-1759053600-1759059000@bikramyogapalmdesert.com
SUMMARY:10am ALIX
DESCRIPTION:
URL:https://bikramyogapalmdesert.com/class-schedule/10am-jayson-48/
END:VEVENT
BEGIN:VEVENT
DTSTART;TZID=America/Los_Angeles:20250928T120000
DTEND;TZID=America/Los_Angeles:20250928T130000
DTSTAMP:20260424T090400
CREATED:20250610T003418Z
LAST-MODIFIED:20250610T003418Z
UID:53819-1759060800-1759064400@bikramyogapalmdesert.com
SUMMARY:3pm ALIX
DESCRIPTION:
URL:https://bikramyogapalmdesert.com/class-schedule/3pm-alix-46/
END:VEVENT
BEGIN:VEVENT
DTSTART;TZID=America/Los_Angeles:20250929T063000
DTEND;TZID=America/Los_Angeles:20250929T080000
DTSTAMP:20260424T090400
CREATED:20250611T020035Z
LAST-MODIFIED:20250930T205153Z
UID:54366-1759127400-1759132800@bikramyogapalmdesert.com
SUMMARY:6:30am LEESANN
DESCRIPTION:
URL:https://bikramyogapalmdesert.com/class-schedule/630am-jayson-32/
CATEGORIES:Leesann
END:VEVENT
BEGIN:VEVENT
DTSTART;TZID=America/Los_Angeles:20250929T090000
DTEND;TZID=America/Los_Angeles:20250929T103000
DTSTAMP:20260424T090400
CREATED:20250611T020715Z
LAST-MODIFIED:20250924T223347Z
UID:54382-1759136400-1759141800@bikramyogapalmdesert.com
SUMMARY:9am LINA
DESCRIPTION:
URL:https://bikramyogapalmdesert.com/class-schedule/9am-jayson-90/
END:VEVENT
BEGIN:VEVENT
DTSTART;TZID=America/Los_Angeles:20250929T103000
DTEND;TZID=America/Los_Angeles:20250929T120000
DTSTAMP:20260424T090400
CREATED:20250611T024405Z
LAST-MODIFIED:20251001T212637Z
UID:54510-1759141800-1759147200@bikramyogapalmdesert.com
SUMMARY:6pm LINA 60/$18
DESCRIPTION:
URL:https://bikramyogapalmdesert.com/class-schedule/6pm-lina-18-60min-55/
CATEGORIES:Lina
END:VEVENT
BEGIN:VEVENT
DTSTART;TZID=America/Los_Angeles:20250930T063000
DTEND;TZID=America/Los_Angeles:20250930T080000
DTSTAMP:20260424T090400
CREATED:20250611T021111Z
LAST-MODIFIED:20250930T215403Z
UID:54398-1759213800-1759219200@bikramyogapalmdesert.com
SUMMARY:6:30am DARLENE
DESCRIPTION:
URL:https://bikramyogapalmdesert.com/class-schedule/darlene-90-4/
CATEGORIES:Darlene
END:VEVENT
BEGIN:VEVENT
DTSTART;TZID=America/Los_Angeles:20250930T063000
DTEND;TZID=America/Los_Angeles:20250930T080000
DTSTAMP:20260424T090400
CREATED:20250611T021632Z
LAST-MODIFIED:20250930T205757Z
UID:54414-1759213800-1759219200@bikramyogapalmdesert.com
SUMMARY:4pm LINA
DESCRIPTION:
URL:https://bikramyogapalmdesert.com/class-schedule/4pm-lina-197/
CATEGORIES:Lina
END:VEVENT
BEGIN:VEVENT
DTSTART;TZID=America/Los_Angeles:20251001T090000
DTEND;TZID=America/Los_Angeles:20251001T103000
DTSTAMP:20260424T090400
CREATED:20250611T022143Z
LAST-MODIFIED:20250930T204807Z
UID:54430-1759309200-1759314600@bikramyogapalmdesert.com
SUMMARY:9am ALIX
DESCRIPTION:
URL:https://bikramyogapalmdesert.com/class-schedule/9am-alix-140/
LOCATION:Bikram Yoga El Paseo\, 73-890 El Paseo Drive\, Suite R6-7\, Palm Desert\, CA\, 92260\, United States
CATEGORIES:Alix
END:VEVENT
BEGIN:VEVENT
DTSTART;TZID=America/Los_Angeles:20251001T180000
DTEND;TZID=America/Los_Angeles:20251001T190000
DTSTAMP:20260424T090400
CREATED:20250611T024855Z
LAST-MODIFIED:20251001T212255Z
UID:54526-1759341600-1759345200@bikramyogapalmdesert.com
SUMMARY:6pm LEESANN 60/$18
DESCRIPTION:
URL:https://bikramyogapalmdesert.com/class-schedule/6pm-lina-18-60min-63/
CATEGORIES:Lina
END:VEVENT
BEGIN:VEVENT
DTSTART;TZID=America/Los_Angeles:20251002T160000
DTEND;TZID=America/Los_Angeles:20251002T173000
DTSTAMP:20260424T090400
CREATED:20250611T022550Z
LAST-MODIFIED:20251001T193653Z
UID:54446-1759420800-1759426200@bikramyogapalmdesert.com
SUMMARY:4pm ALIX
DESCRIPTION:
URL:https://bikramyogapalmdesert.com/class-schedule/4pm-alix-279/
CATEGORIES:Alix
END:VEVENT
BEGIN:VEVENT
DTSTART;TZID=America/Los_Angeles:20251002T180000
DTEND;TZID=America/Los_Angeles:20251002T190000
DTSTAMP:20260424T090400
CREATED:20250611T025459Z
LAST-MODIFIED:20251001T212227Z
UID:54542-1759428000-1759431600@bikramyogapalmdesert.com
SUMMARY:6pm ALIX 60/$18
DESCRIPTION:
URL:https://bikramyogapalmdesert.com/class-schedule/6pm-alix-18-60min-25/
LOCATION:Bikram Yoga El Paseo\, 73-890 El Paseo Drive\, Suite R6-7\, Palm Desert\, CA\, 92260\, United States
CATEGORIES:Alix
END:VEVENT
BEGIN:VEVENT
DTSTART;TZID=America/Los_Angeles:20251003T063000
DTEND;TZID=America/Los_Angeles:20251003T080000
DTSTAMP:20260424T090400
CREATED:20250611T023012Z
LAST-MODIFIED:20250930T205756Z
UID:54462-1759473000-1759478400@bikramyogapalmdesert.com
SUMMARY:6:30am LINA
DESCRIPTION:
URL:https://bikramyogapalmdesert.com/class-schedule/630am-lina-170/
CATEGORIES:Lina
END:VEVENT
BEGIN:VEVENT
DTSTART;TZID=America/Los_Angeles:20251003T090000
DTEND;TZID=America/Los_Angeles:20251003T103000
DTSTAMP:20260424T090400
CREATED:20250611T023417Z
LAST-MODIFIED:20250930T214128Z
UID:54478-1759482000-1759487400@bikramyogapalmdesert.com
SUMMARY:9am ALIX
DESCRIPTION:
URL:https://bikramyogapalmdesert.com/class-schedule/9am-jayson-98/
CATEGORIES:Alix
END:VEVENT
BEGIN:VEVENT
DTSTART;TZID=America/Los_Angeles:20251003T160000
DTEND;TZID=America/Los_Angeles:20251003T173000
DTSTAMP:20260424T090400
CREATED:20250611T023855Z
LAST-MODIFIED:20250930T215037Z
UID:54494-1759507200-1759512600@bikramyogapalmdesert.com
SUMMARY:4pm ALIX
DESCRIPTION:
URL:https://bikramyogapalmdesert.com/class-schedule/4pm-alix-287/
LOCATION:Bikram Yoga El Paseo\, 73-890 El Paseo Drive\, Suite R6-7\, Palm Desert\, CA\, 92260\, United States
CATEGORIES:Alix
END:VEVENT
BEGIN:VEVENT
DTSTART;TZID=America/Los_Angeles:20251004T080000
DTEND;TZID=America/Los_Angeles:20251004T093000
DTSTAMP:20260424T090400
CREATED:20250610T003606Z
LAST-MODIFIED:20250610T003606Z
UID:53827-1759564800-1759570200@bikramyogapalmdesert.com
SUMMARY:8am LINA
DESCRIPTION:
URL:https://bikramyogapalmdesert.com/class-schedule/8am-lina-174/
END:VEVENT
BEGIN:VEVENT
DTSTART;TZID=America/Los_Angeles:20251004T100000
DTEND;TZID=America/Los_Angeles:20251004T113000
DTSTAMP:20260424T090400
CREATED:20250610T003742Z
LAST-MODIFIED:20250924T223209Z
UID:53835-1759572000-1759577400@bikramyogapalmdesert.com
SUMMARY:10am LINA
DESCRIPTION:
URL:https://bikramyogapalmdesert.com/class-schedule/10am-jayson-52/
END:VEVENT
BEGIN:VEVENT
DTSTART;TZID=America/Los_Angeles:20251005T100000
DTEND;TZID=America/Los_Angeles:20251005T113000
DTSTAMP:20260424T090400
CREATED:20250610T005537Z
LAST-MODIFIED:20250924T222712Z
UID:53905-1759658400-1759663800@bikramyogapalmdesert.com
SUMMARY:10am ALIX
DESCRIPTION:
URL:https://bikramyogapalmdesert.com/class-schedule/10am-jayson-70/
END:VEVENT
BEGIN:VEVENT
DTSTART;TZID=America/Los_Angeles:20251005T150000
DTEND;TZID=America/Los_Angeles:20251005T163000
DTSTAMP:20260424T090400
CREATED:20250610T010408Z
LAST-MODIFIED:20250930T212613Z
UID:53939-1759676400-1759681800@bikramyogapalmdesert.com
SUMMARY:3pm ALIX
DESCRIPTION:
URL:https://bikramyogapalmdesert.com/class-schedule/3pm-alix-47/
END:VEVENT
END:VCALENDAR