BEGIN:VCALENDAR
VERSION:2.0
PRODID:-//Bikram Yoga El Paseo - ECPv6.15.13//NONSGML v1.0//EN
CALSCALE:GREGORIAN
METHOD:PUBLISH
X-WR-CALNAME:Bikram Yoga El Paseo
X-ORIGINAL-URL:https://bikramyogapalmdesert.com
X-WR-CALDESC:Events for Bikram Yoga El Paseo
REFRESH-INTERVAL;VALUE=DURATION:PT1H
X-Robots-Tag:noindex
X-PUBLISHED-TTL:PT1H
BEGIN:VTIMEZONE
TZID:America/Los_Angeles
BEGIN:DAYLIGHT
TZOFFSETFROM:-0800
TZOFFSETTO:-0700
TZNAME:PDT
DTSTART:20240310T100000
END:DAYLIGHT
BEGIN:STANDARD
TZOFFSETFROM:-0700
TZOFFSETTO:-0800
TZNAME:PST
DTSTART:20241103T090000
END:STANDARD
BEGIN:DAYLIGHT
TZOFFSETFROM:-0800
TZOFFSETTO:-0700
TZNAME:PDT
DTSTART:20250309T100000
END:DAYLIGHT
BEGIN:STANDARD
TZOFFSETFROM:-0700
TZOFFSETTO:-0800
TZNAME:PST
DTSTART:20251102T090000
END:STANDARD
BEGIN:DAYLIGHT
TZOFFSETFROM:-0800
TZOFFSETTO:-0700
TZNAME:PDT
DTSTART:20260308T100000
END:DAYLIGHT
BEGIN:STANDARD
TZOFFSETFROM:-0700
TZOFFSETTO:-0800
TZNAME:PST
DTSTART:20261101T090000
END:STANDARD
END:VTIMEZONE
BEGIN:VEVENT
DTSTART;TZID=America/Los_Angeles:20250730T090000
DTEND;TZID=America/Los_Angeles:20250730T103000
DTSTAMP:20260425T212217
CREATED:20250510T205557Z
LAST-MODIFIED:20250510T205557Z
UID:53435-1753866000-1753871400@bikramyogapalmdesert.com
SUMMARY:9am ALIX
DESCRIPTION:
URL:https://bikramyogapalmdesert.com/class-schedule/9am-alix-118/
END:VEVENT
BEGIN:VEVENT
DTSTART;TZID=America/Los_Angeles:20250729T090000
DTEND;TZID=America/Los_Angeles:20250729T103000
DTSTAMP:20260425T212217
CREATED:20250510T205915Z
LAST-MODIFIED:20250609T233923Z
UID:53453-1753779600-1753785000@bikramyogapalmdesert.com
SUMMARY:4pm LINA
DESCRIPTION:
URL:https://bikramyogapalmdesert.com/class-schedule/4pm-lina-175/
END:VEVENT
BEGIN:VEVENT
DTSTART;TZID=America/Los_Angeles:20250729T063000
DTEND;TZID=America/Los_Angeles:20250729T080000
DTSTAMP:20260425T212217
CREATED:20250510T204043Z
LAST-MODIFIED:20250510T204043Z
UID:53363-1753770600-1753776000@bikramyogapalmdesert.com
SUMMARY:6:30am JAYSON
DESCRIPTION:
URL:https://bikramyogapalmdesert.com/class-schedule/630am-jayson-26/
END:VEVENT
BEGIN:VEVENT
DTSTART;TZID=America/Los_Angeles:20250728T110000
DTEND;TZID=America/Los_Angeles:20250728T123000
DTSTAMP:20260425T212217
CREATED:20250510T211344Z
LAST-MODIFIED:20250609T233846Z
UID:53508-1753700400-1753705800@bikramyogapalmdesert.com
SUMMARY:6pm LINA  $18/ 60min
DESCRIPTION:
URL:https://bikramyogapalmdesert.com/class-schedule/630pm-lina-18-60min-4/
END:VEVENT
BEGIN:VEVENT
DTSTART;TZID=America/Los_Angeles:20250728T090000
DTEND;TZID=America/Los_Angeles:20250728T103000
DTSTAMP:20260425T212217
CREATED:20250510T204931Z
LAST-MODIFIED:20250510T204931Z
UID:53399-1753693200-1753698600@bikramyogapalmdesert.com
SUMMARY:9am JAYSON
DESCRIPTION:
URL:https://bikramyogapalmdesert.com/class-schedule/9am-jayson-49/
END:VEVENT
BEGIN:VEVENT
DTSTART;TZID=America/Los_Angeles:20250728T063000
DTEND;TZID=America/Los_Angeles:20250728T080000
DTSTAMP:20260425T212217
CREATED:20250510T203728Z
LAST-MODIFIED:20250510T203728Z
UID:53345-1753684200-1753689600@bikramyogapalmdesert.com
SUMMARY:6:30am JAYSON
DESCRIPTION:
URL:https://bikramyogapalmdesert.com/class-schedule/630am-jayson-17/
END:VEVENT
BEGIN:VEVENT
DTSTART;TZID=America/Los_Angeles:20250727T150000
DTEND;TZID=America/Los_Angeles:20250727T163000
DTSTAMP:20260425T212217
CREATED:20250510T203127Z
LAST-MODIFIED:20250510T203127Z
UID:53327-1753628400-1753633800@bikramyogapalmdesert.com
SUMMARY:3pm ALIX
DESCRIPTION:
URL:https://bikramyogapalmdesert.com/class-schedule/3pm-alix-38/
END:VEVENT
BEGIN:VEVENT
DTSTART;TZID=America/Los_Angeles:20250727T100000
DTEND;TZID=America/Los_Angeles:20250727T113000
DTSTAMP:20260425T212217
CREATED:20250510T202800Z
LAST-MODIFIED:20250510T202800Z
UID:53309-1753610400-1753615800@bikramyogapalmdesert.com
SUMMARY:10am JAYSON
DESCRIPTION:
URL:https://bikramyogapalmdesert.com/class-schedule/10am-jayson-42/
END:VEVENT
BEGIN:VEVENT
DTSTART;TZID=America/Los_Angeles:20250726T100000
DTEND;TZID=America/Los_Angeles:20250726T113000
DTSTAMP:20260425T212217
CREATED:20250510T202404Z
LAST-MODIFIED:20250510T202404Z
UID:53289-1753524000-1753529400@bikramyogapalmdesert.com
SUMMARY:10am JAYSON
DESCRIPTION:
URL:https://bikramyogapalmdesert.com/class-schedule/10am-jayson-32/
END:VEVENT
BEGIN:VEVENT
DTSTART;TZID=America/Los_Angeles:20250726T080000
DTEND;TZID=America/Los_Angeles:20250726T093000
DTSTAMP:20260425T212217
CREATED:20250510T202037Z
LAST-MODIFIED:20250510T202037Z
UID:53271-1753516800-1753522200@bikramyogapalmdesert.com
SUMMARY:8am LINA
DESCRIPTION:
URL:https://bikramyogapalmdesert.com/class-schedule/8am-lina-164/
END:VEVENT
BEGIN:VEVENT
DTSTART;TZID=America/Los_Angeles:20250725T110000
DTEND;TZID=America/Los_Angeles:20250725T123000
DTSTAMP:20260425T212217
CREATED:20250510T210614Z
LAST-MODIFIED:20250609T233730Z
UID:53487-1753441200-1753446600@bikramyogapalmdesert.com
SUMMARY:4pm ALIX
DESCRIPTION:
URL:https://bikramyogapalmdesert.com/class-schedule/4pm-alix-250/
END:VEVENT
BEGIN:VEVENT
DTSTART;TZID=America/Los_Angeles:20250725T090000
DTEND;TZID=America/Los_Angeles:20250725T103000
DTSTAMP:20260425T212217
CREATED:20250510T205216Z
LAST-MODIFIED:20250510T205216Z
UID:53415-1753434000-1753439400@bikramyogapalmdesert.com
SUMMARY:9am JAYSON
DESCRIPTION:
URL:https://bikramyogapalmdesert.com/class-schedule/9am-jayson-57/
END:VEVENT
BEGIN:VEVENT
DTSTART;TZID=America/Los_Angeles:20250725T063000
DTEND;TZID=America/Los_Angeles:20250725T080000
DTSTAMP:20260425T212217
CREATED:20250510T204455Z
LAST-MODIFIED:20250510T204455Z
UID:53379-1753425000-1753430400@bikramyogapalmdesert.com
SUMMARY:6:30am LINA
DESCRIPTION:
URL:https://bikramyogapalmdesert.com/class-schedule/630am-lina-149/
END:VEVENT
BEGIN:VEVENT
DTSTART;TZID=America/Los_Angeles:20250724T110000
DTEND;TZID=America/Los_Angeles:20250724T123000
DTSTAMP:20260425T212217
CREATED:20250510T212058Z
LAST-MODIFIED:20250609T233631Z
UID:53542-1753354800-1753360200@bikramyogapalmdesert.com
SUMMARY:6pm ALIX $18/ 60min
DESCRIPTION:
URL:https://bikramyogapalmdesert.com/class-schedule/600pm-alix-18-60min-3/
END:VEVENT
BEGIN:VEVENT
DTSTART;TZID=America/Los_Angeles:20250724T080000
DTEND;TZID=America/Los_Angeles:20250724T093000
DTSTAMP:20260425T212217
CREATED:20250510T210316Z
LAST-MODIFIED:20250609T233554Z
UID:53469-1753344000-1753349400@bikramyogapalmdesert.com
SUMMARY:4pm ALIX
DESCRIPTION:
URL:https://bikramyogapalmdesert.com/class-schedule/4pm-alix-61/
END:VEVENT
BEGIN:VEVENT
DTSTART;TZID=America/Los_Angeles:20250723T110000
DTEND;TZID=America/Los_Angeles:20250723T123000
DTSTAMP:20260425T212217
CREATED:20250510T211714Z
LAST-MODIFIED:20250609T233514Z
UID:53524-1753268400-1753273800@bikramyogapalmdesert.com
SUMMARY:6pm LINA  $18/ 60min
DESCRIPTION:
URL:https://bikramyogapalmdesert.com/class-schedule/630pm-lina-18-60min-12/
END:VEVENT
BEGIN:VEVENT
DTSTART;TZID=America/Los_Angeles:20250723T090000
DTEND;TZID=America/Los_Angeles:20250723T103000
DTSTAMP:20260425T212217
CREATED:20250510T205539Z
LAST-MODIFIED:20250510T205539Z
UID:53433-1753261200-1753266600@bikramyogapalmdesert.com
SUMMARY:9am ALIX
DESCRIPTION:
URL:https://bikramyogapalmdesert.com/class-schedule/9am-alix-117/
END:VEVENT
BEGIN:VEVENT
DTSTART;TZID=America/Los_Angeles:20250722T090000
DTEND;TZID=America/Los_Angeles:20250722T103000
DTSTAMP:20260425T212217
CREATED:20250510T205857Z
LAST-MODIFIED:20250609T233408Z
UID:53451-1753174800-1753180200@bikramyogapalmdesert.com
SUMMARY:4pm LINA
DESCRIPTION:
URL:https://bikramyogapalmdesert.com/class-schedule/4pm-lina-174/
END:VEVENT
BEGIN:VEVENT
DTSTART;TZID=America/Los_Angeles:20250722T063000
DTEND;TZID=America/Los_Angeles:20250722T080000
DTSTAMP:20260425T212217
CREATED:20250510T204022Z
LAST-MODIFIED:20250510T204022Z
UID:53361-1753165800-1753171200@bikramyogapalmdesert.com
SUMMARY:6:30am JAYSON
DESCRIPTION:
URL:https://bikramyogapalmdesert.com/class-schedule/630am-jayson-25/
END:VEVENT
BEGIN:VEVENT
DTSTART;TZID=America/Los_Angeles:20250721T110000
DTEND;TZID=America/Los_Angeles:20250721T123000
DTSTAMP:20260425T212217
CREATED:20250510T211326Z
LAST-MODIFIED:20250609T233325Z
UID:53506-1753095600-1753101000@bikramyogapalmdesert.com
SUMMARY:6pm LINA  $18/ 60min
DESCRIPTION:
URL:https://bikramyogapalmdesert.com/class-schedule/630pm-lina-18-60min-3/
END:VEVENT
BEGIN:VEVENT
DTSTART;TZID=America/Los_Angeles:20250721T090000
DTEND;TZID=America/Los_Angeles:20250721T103000
DTSTAMP:20260425T212217
CREATED:20250510T204913Z
LAST-MODIFIED:20250510T204913Z
UID:53397-1753088400-1753093800@bikramyogapalmdesert.com
SUMMARY:9am JAYSON
DESCRIPTION:
URL:https://bikramyogapalmdesert.com/class-schedule/9am-jayson-48/
END:VEVENT
BEGIN:VEVENT
DTSTART;TZID=America/Los_Angeles:20250721T063000
DTEND;TZID=America/Los_Angeles:20250721T080000
DTSTAMP:20260425T212217
CREATED:20250510T203707Z
LAST-MODIFIED:20250510T203707Z
UID:53343-1753079400-1753084800@bikramyogapalmdesert.com
SUMMARY:6:30am JAYSON
DESCRIPTION:
URL:https://bikramyogapalmdesert.com/class-schedule/630am-jayson-16/
END:VEVENT
BEGIN:VEVENT
DTSTART;TZID=America/Los_Angeles:20250720T150000
DTEND;TZID=America/Los_Angeles:20250720T163000
DTSTAMP:20260425T212217
CREATED:20250510T203107Z
LAST-MODIFIED:20250510T203107Z
UID:53325-1753023600-1753029000@bikramyogapalmdesert.com
SUMMARY:3pm ALIX
DESCRIPTION:
URL:https://bikramyogapalmdesert.com/class-schedule/3pm-alix-37/
END:VEVENT
BEGIN:VEVENT
DTSTART;TZID=America/Los_Angeles:20250720T100000
DTEND;TZID=America/Los_Angeles:20250720T113000
DTSTAMP:20260425T212217
CREATED:20250510T202740Z
LAST-MODIFIED:20250510T202740Z
UID:53307-1753005600-1753011000@bikramyogapalmdesert.com
SUMMARY:10am JAYSON
DESCRIPTION:
URL:https://bikramyogapalmdesert.com/class-schedule/10am-jayson-41/
END:VEVENT
BEGIN:VEVENT
DTSTART;TZID=America/Los_Angeles:20250719T100000
DTEND;TZID=America/Los_Angeles:20250719T113000
DTSTAMP:20260425T212217
CREATED:20250510T202343Z
LAST-MODIFIED:20250510T202343Z
UID:53287-1752919200-1752924600@bikramyogapalmdesert.com
SUMMARY:10am JAYSON
DESCRIPTION:
URL:https://bikramyogapalmdesert.com/class-schedule/10am-jayson-31/
END:VEVENT
BEGIN:VEVENT
DTSTART;TZID=America/Los_Angeles:20250719T080000
DTEND;TZID=America/Los_Angeles:20250719T093000
DTSTAMP:20260425T212217
CREATED:20250510T202015Z
LAST-MODIFIED:20250510T202015Z
UID:53269-1752912000-1752917400@bikramyogapalmdesert.com
SUMMARY:8am LINA
DESCRIPTION:
URL:https://bikramyogapalmdesert.com/class-schedule/8am-lina-163/
END:VEVENT
BEGIN:VEVENT
DTSTART;TZID=America/Los_Angeles:20250718T110000
DTEND;TZID=America/Los_Angeles:20250718T123000
DTSTAMP:20260425T212217
CREATED:20250510T210558Z
LAST-MODIFIED:20250609T233138Z
UID:53485-1752836400-1752841800@bikramyogapalmdesert.com
SUMMARY:4pm ALIX
DESCRIPTION:
URL:https://bikramyogapalmdesert.com/class-schedule/4pm-alix-249/
END:VEVENT
BEGIN:VEVENT
DTSTART;TZID=America/Los_Angeles:20250718T090000
DTEND;TZID=America/Los_Angeles:20250718T103000
DTSTAMP:20260425T212217
CREATED:20250510T205157Z
LAST-MODIFIED:20250510T205157Z
UID:53413-1752829200-1752834600@bikramyogapalmdesert.com
SUMMARY:9am JAYSON
DESCRIPTION:
URL:https://bikramyogapalmdesert.com/class-schedule/9am-jayson-56/
END:VEVENT
BEGIN:VEVENT
DTSTART;TZID=America/Los_Angeles:20250718T063000
DTEND;TZID=America/Los_Angeles:20250718T080000
DTSTAMP:20260425T212217
CREATED:20250510T204427Z
LAST-MODIFIED:20250510T204427Z
UID:53377-1752820200-1752825600@bikramyogapalmdesert.com
SUMMARY:6:30am LINA
DESCRIPTION:
URL:https://bikramyogapalmdesert.com/class-schedule/630am-lina-148/
END:VEVENT
BEGIN:VEVENT
DTSTART;TZID=America/Los_Angeles:20250717T110000
DTEND;TZID=America/Los_Angeles:20250717T123000
DTSTAMP:20260425T212217
CREATED:20250510T212039Z
LAST-MODIFIED:20250609T233033Z
UID:53540-1752750000-1752755400@bikramyogapalmdesert.com
SUMMARY:6pm ALIX $18/ 60min
DESCRIPTION:
URL:https://bikramyogapalmdesert.com/class-schedule/600pm-alix-18-60min-2/
END:VEVENT
END:VCALENDAR